BEGIN:VCALENDAR
VERSION:2.0
PRODID:-//QX Magazine - ECPv6.15.20//NONSGML v1.0//EN
CALSCALE:GREGORIAN
METHOD:PUBLISH
X-WR-CALNAME:QX Magazine
X-ORIGINAL-URL:https://www.qxmagazine.com
X-WR-CALDESC:Events for QX Magazine
REFRESH-INTERVAL;VALUE=DURATION:PT1H
X-Robots-Tag:noindex
X-PUBLISHED-TTL:PT1H
BEGIN:VTIMEZONE
TZID:UTC
BEGIN:STANDARD
TZOFFSETFROM:+0000
TZOFFSETTO:+0000
TZNAME:UTC
DTSTART:20240101T000000
END:STANDARD
END:VTIMEZONE
BEGIN:VEVENT
DTSTART;TZID=UTC:20250726T190000
DTEND;TZID=UTC:20250727T020000
DTSTAMP:20260422T102459
CREATED:20250715T081515Z
LAST-MODIFIED:20250715T081515Z
UID:10102408-1753556400-1753581600@www.qxmagazine.com
SUMMARY:Trans Pride in Music
DESCRIPTION:Celebrating trans art\, the night consists of a mixture of solo artists and bands\, and then DJs take over from 11.
URL:https://www.qxmagazine.com/event/trans-pride-in-music/
LOCATION:Avalon Cafe\, Juno Way\, London\, SE14 5RZ\, United Kingdom
CATEGORIES:After Midnight Late Opening,LGBTQ+ Live Music,Trans Pride
ATTACH;FMTTYPE=image/jpeg:https://www.qxmagazine.com/wp-content/uploads/2025/07/imageedit_2_7173062818.jpg
END:VEVENT
END:VCALENDAR