BEGIN:VCALENDAR
VERSION:2.0
PRODID:-//QX Magazine - ECPv6.15.20//NONSGML v1.0//EN
CALSCALE:GREGORIAN
METHOD:PUBLISH
X-ORIGINAL-URL:https://www.qxmagazine.com
X-WR-CALDESC:Events for QX Magazine
REFRESH-INTERVAL;VALUE=DURATION:PT1H
X-Robots-Tag:noindex
X-PUBLISHED-TTL:PT1H
BEGIN:VTIMEZONE
TZID:UTC
BEGIN:STANDARD
TZOFFSETFROM:+0000
TZOFFSETTO:+0000
TZNAME:UTC
DTSTART:20230101T000000
END:STANDARD
END:VTIMEZONE
BEGIN:VEVENT
DTSTART;TZID=UTC:20260321T123000
DTEND;TZID=UTC:20260321T170000
DTSTAMP:20260422T025416
CREATED:20260302T100754Z
LAST-MODIFIED:20260309T183702Z
UID:10113861-1774096200-1774112400@www.qxmagazine.com
SUMMARY:Traitors Bingo at Saturday Service
DESCRIPTION:Booty Call CIC’s Saturday Service takes over Betty & Joan’s\, Elephant & Castle\, with a special Traitors Bingo moment led by Diane Carson from The Traitors! \nYes\, that Diane. \nExpect sharp one-liners\, raised eyebrows and just enough suspicion in the room to keep everyone watching their table. \nThe afternoon is hosted by the unstoppable Miss Leigh Ding\, with performances from Megan Mia Gemini and Sateva Eva bringing the energy. DJ Dallyn and Helly Heart handle the soundtrack\, serving wall-to-wall pop anthems from doors to close. \nSaturday Service is a London LGBTQ+ day party done properly. Big personalities\, big dancefloor moments and no Sunday scaries. \nCreated by and raising funds for Booty Call CIC\, the event blends party with purpose\, by weaving in open conversations around cancer health in a way that feels totally us! \nTickets are £8 in advance via OutSavvy and £10 on the door. \nDay drinks and dancefloor. And home in time for a takeaway! \nKindly supported by Heathrow Community Trust
URL:https://www.qxmagazine.com/event/traitors-bingo-at-saturday-service/
LOCATION:Betty and Joans\, Hewson Way\, London\, Greater London\, SE17 1FU\, United Kingdom
CATEGORIES:Bars,Club Nights,Featured Event,LGBTQ+ Bingo & Quiz,LGBTQ+ Cabaret & Drag,LGBTQ+ Fundraiser
ATTACH;FMTTYPE=image/jpeg:https://www.qxmagazine.com/wp-content/uploads/2026/03/imageedit_2_9471554230.jpg
GEO:51.4926772;-0.0953223
X-APPLE-STRUCTURED-LOCATION;VALUE=URI;X-ADDRESS=Betty and Joans Hewson Way London Greater London SE17 1FU United Kingdom;X-APPLE-RADIUS=500;X-TITLE=Hewson Way:geo:-0.0953223,51.4926772
END:VEVENT
BEGIN:VEVENT
DTSTART;TZID=UTC:20260220T210000
DTEND;TZID=UTC:20260221T020000
DTSTAMP:20260422T025416
CREATED:20260123T115049Z
LAST-MODIFIED:20260123T115049Z
UID:10112563-1771621200-1771639200@www.qxmagazine.com
SUMMARY:Groovalicious
DESCRIPTION:Groovalicious DJs will provide an uncompromising soundtrack featuring beloved anthem classics and infectious Nu Disco tracks—all designed for the ultimate dancing experience. Channelling the legacy of Studio 54\, this event focuses unapologetically on pure\, electric Disco. \nThis gathering is built on the principles of community\, offering a safe\, celebratory\, and radically inclusive space for our beautiful queer community and allies.
URL:https://www.qxmagazine.com/event/groovalicious-2/
LOCATION:Betty and Joans\, Hewson Way\, London\, Greater London\, SE17 1FU\, United Kingdom
CATEGORIES:After Midnight Late Opening,Bars,Club Nights,Featured Event
ATTACH;FMTTYPE=image/jpeg:https://www.qxmagazine.com/wp-content/uploads/2026/01/imageedit_54_5226006607-2.jpg
GEO:51.4926772;-0.0953223
X-APPLE-STRUCTURED-LOCATION;VALUE=URI;X-ADDRESS=Betty and Joans Hewson Way London Greater London SE17 1FU United Kingdom;X-APPLE-RADIUS=500;X-TITLE=Hewson Way:geo:-0.0953223,51.4926772
END:VEVENT
BEGIN:VEVENT
DTSTART;TZID=UTC:20260105T193000
DTEND;TZID=UTC:20260105T193000
DTSTAMP:20260422T025416
CREATED:20260103T134438Z
LAST-MODIFIED:20260103T134438Z
UID:10111903-1767641400-1767641400@www.qxmagazine.com
SUMMARY:BJ's Music Quiz with Alice Keys
DESCRIPTION:An exciting take on a pub quiz. It’s ALL music based and it’s all played live on a piano by the incredible Alice! \nForm teams of 2-6 people and then settle in as Fontaine plays songs on her piano and you have to work out what they are  – basically name that tune with an added sing a long element! \nIf you’re on your own come along and they’ll introduce you to a team!
URL:https://www.qxmagazine.com/event/bjs-music-quiz-with-alice-keys/
LOCATION:Betty and Joans\, Hewson Way\, London\, Greater London\, SE17 1FU\, United Kingdom
CATEGORIES:Bars,Discount or Free Entry,Featured Event,LGBTQ+ Bingo & Quiz
ATTACH;FMTTYPE=image/jpeg:https://www.qxmagazine.com/wp-content/uploads/2026/01/imageedit_19_2401279871.jpg
GEO:51.4926772;-0.0953223
X-APPLE-STRUCTURED-LOCATION;VALUE=URI;X-ADDRESS=Betty and Joans Hewson Way London Greater London SE17 1FU United Kingdom;X-APPLE-RADIUS=500;X-TITLE=Hewson Way:geo:-0.0953223,51.4926772
END:VEVENT
BEGIN:VEVENT
DTSTART;TZID=UTC:20260103T210000
DTEND;TZID=UTC:20260104T020000
DTSTAMP:20260422T025416
CREATED:20260103T132910Z
LAST-MODIFIED:20260103T133002Z
UID:10111902-1767474000-1767492000@www.qxmagazine.com
SUMMARY:Playground presents Welcome to 2026
DESCRIPTION:Performances & Hosted by Paquita De La Torres. Music by DJ Andyrew & Dany Diamond. Gogo Boy – Glen. Last entry midnight. FREE B4 10.
URL:https://www.qxmagazine.com/event/playground-presents-welcome-to-2026/
LOCATION:Betty and Joans\, Hewson Way\, London\, Greater London\, SE17 1FU\, United Kingdom
CATEGORIES:After Midnight Late Opening,Bars,Discount or Free Entry,Featured Event,LGBTQ+ Cabaret & Drag
ATTACH;FMTTYPE=image/jpeg:https://www.qxmagazine.com/wp-content/uploads/2026/01/imageedit_17_8900345801.jpg
GEO:51.4926772;-0.0953223
X-APPLE-STRUCTURED-LOCATION;VALUE=URI;X-ADDRESS=Betty and Joans Hewson Way London Greater London SE17 1FU United Kingdom;X-APPLE-RADIUS=500;X-TITLE=Hewson Way:geo:-0.0953223,51.4926772
END:VEVENT
BEGIN:VEVENT
DTSTART;TZID=UTC:20251121T200000
DTEND;TZID=UTC:20251122T020000
DTSTAMP:20260422T025416
CREATED:20251112T104129Z
LAST-MODIFIED:20251112T104812Z
UID:10107047-1763755200-1763776800@www.qxmagazine.com
SUMMARY:Groovalicious
DESCRIPTION:Groovalicious are taking over the fabulous Betty & Joans\, where the DJs are ready to unleash remixed classics and nu-disco tunes for a true disco experience. \nTickets are available here. \nThis event is inclusive for all members of our beautiful LGBTQ+ community and our allies. Come dance the night away and join the evolving disco movement alongside old and new friends\, all in a safe\, welcoming environment. \nDJ Richie Rich told QX\, “Pop is on pause. This is not your average Friday night. If you’re tired of the usual playlists\, get ready for Groovalicious\, London’s unapologetic Queer Disco night that’s shaking up the scene. We play strictly Disco House all night long—pure\, exhilarating energy designed for dancing. This is a Friday night party unlike any other on the London gay scene\, built on a foundation of fierce beats and even fiercer community.”
URL:https://www.qxmagazine.com/event/groovalicious/
LOCATION:Betty and Joans\, Hewson Way\, London\, Greater London\, SE17 1FU\, United Kingdom
CATEGORIES:After Midnight Late Opening,Bars,Club Nights,Featured Event
ATTACH;FMTTYPE=image/jpeg:https://www.qxmagazine.com/wp-content/uploads/2025/11/imageedit_5_7645389626-2.jpg
GEO:51.4926772;-0.0953223
X-APPLE-STRUCTURED-LOCATION;VALUE=URI;X-ADDRESS=Betty and Joans Hewson Way London Greater London SE17 1FU United Kingdom;X-APPLE-RADIUS=500;X-TITLE=Hewson Way:geo:-0.0953223,51.4926772
END:VEVENT
BEGIN:VEVENT
DTSTART;TZID=UTC:20250830T190000
DTEND;TZID=UTC:20250831T020000
DTSTAMP:20260422T025416
CREATED:20250626T083448Z
LAST-MODIFIED:20250626T084253Z
UID:10100807-1756580400-1756605600@www.qxmagazine.com
SUMMARY:BJ's Saturday Free Drag Show
DESCRIPTION:Check out the link below to see who is on. No tickets required. Venue offers a large terrace on the park.
URL:https://www.qxmagazine.com/event/bjs-saturday-free-drag-show/2025-08-30/
LOCATION:Betty and Joans\, Hewson Way\, London\, Greater London\, SE17 1FU\, United Kingdom
CATEGORIES:After Midnight Late Opening,Bars,Discount or Free Entry,LGBTQ+ Beer Garden,LGBTQ+ Cabaret & Drag
ATTACH;FMTTYPE=image/jpeg:https://www.qxmagazine.com/wp-content/uploads/2025/06/imageedit_3_8948814978.jpg
GEO:51.4926772;-0.0953223
X-APPLE-STRUCTURED-LOCATION;VALUE=URI;X-ADDRESS=Betty and Joans Hewson Way London Greater London SE17 1FU United Kingdom;X-APPLE-RADIUS=500;X-TITLE=Hewson Way:geo:-0.0953223,51.4926772
END:VEVENT
BEGIN:VEVENT
DTSTART;TZID=UTC:20250829T190000
DTEND;TZID=UTC:20250830T020000
DTSTAMP:20260422T025416
CREATED:20250626T082231Z
LAST-MODIFIED:20250626T113304Z
UID:10100797-1756494000-1756519200@www.qxmagazine.com
SUMMARY:BJ's Friday Free Drag Show
DESCRIPTION:Check out the link below to see who is on. No tickets required. Venue has a large terrace on the park.
URL:https://www.qxmagazine.com/event/bjs-friday-free-drag-show/2025-08-29/
LOCATION:Betty and Joans\, Hewson Way\, London\, Greater London\, SE17 1FU\, United Kingdom
CATEGORIES:After Midnight Late Opening,Bars,Discount or Free Entry,LGBTQ+ Beer Garden,LGBTQ+ Cabaret & Drag
ATTACH;FMTTYPE=image/jpeg:https://www.qxmagazine.com/wp-content/uploads/2025/06/imageedit_1_2287297797.jpg
GEO:51.4926772;-0.0953223
X-APPLE-STRUCTURED-LOCATION;VALUE=URI;X-ADDRESS=Betty and Joans Hewson Way London Greater London SE17 1FU United Kingdom;X-APPLE-RADIUS=500;X-TITLE=Hewson Way:geo:-0.0953223,51.4926772
END:VEVENT
BEGIN:VEVENT
DTSTART;TZID=UTC:20250823T190000
DTEND;TZID=UTC:20250824T020000
DTSTAMP:20260422T025416
CREATED:20250626T083448Z
LAST-MODIFIED:20250626T084253Z
UID:10100806-1755975600-1756000800@www.qxmagazine.com
SUMMARY:BJ's Saturday Free Drag Show
DESCRIPTION:Check out the link below to see who is on. No tickets required. Venue offers a large terrace on the park.
URL:https://www.qxmagazine.com/event/bjs-saturday-free-drag-show/2025-08-23/
LOCATION:Betty and Joans\, Hewson Way\, London\, Greater London\, SE17 1FU\, United Kingdom
CATEGORIES:After Midnight Late Opening,Bars,Discount or Free Entry,LGBTQ+ Beer Garden,LGBTQ+ Cabaret & Drag
ATTACH;FMTTYPE=image/jpeg:https://www.qxmagazine.com/wp-content/uploads/2025/06/imageedit_3_8948814978.jpg
GEO:51.4926772;-0.0953223
X-APPLE-STRUCTURED-LOCATION;VALUE=URI;X-ADDRESS=Betty and Joans Hewson Way London Greater London SE17 1FU United Kingdom;X-APPLE-RADIUS=500;X-TITLE=Hewson Way:geo:-0.0953223,51.4926772
END:VEVENT
BEGIN:VEVENT
DTSTART;TZID=UTC:20250822T190000
DTEND;TZID=UTC:20250823T020000
DTSTAMP:20260422T025416
CREATED:20250626T082231Z
LAST-MODIFIED:20250626T113304Z
UID:10100796-1755889200-1755914400@www.qxmagazine.com
SUMMARY:BJ's Friday Free Drag Show
DESCRIPTION:Check out the link below to see who is on. No tickets required. Venue has a large terrace on the park.
URL:https://www.qxmagazine.com/event/bjs-friday-free-drag-show/2025-08-22/
LOCATION:Betty and Joans\, Hewson Way\, London\, Greater London\, SE17 1FU\, United Kingdom
CATEGORIES:After Midnight Late Opening,Bars,Discount or Free Entry,LGBTQ+ Beer Garden,LGBTQ+ Cabaret & Drag
ATTACH;FMTTYPE=image/jpeg:https://www.qxmagazine.com/wp-content/uploads/2025/06/imageedit_1_2287297797.jpg
GEO:51.4926772;-0.0953223
X-APPLE-STRUCTURED-LOCATION;VALUE=URI;X-ADDRESS=Betty and Joans Hewson Way London Greater London SE17 1FU United Kingdom;X-APPLE-RADIUS=500;X-TITLE=Hewson Way:geo:-0.0953223,51.4926772
END:VEVENT
BEGIN:VEVENT
DTSTART;TZID=UTC:20250816T190000
DTEND;TZID=UTC:20250817T020000
DTSTAMP:20260422T025416
CREATED:20250626T083448Z
LAST-MODIFIED:20250626T084253Z
UID:10100805-1755370800-1755396000@www.qxmagazine.com
SUMMARY:BJ's Saturday Free Drag Show
DESCRIPTION:Check out the link below to see who is on. No tickets required. Venue offers a large terrace on the park.
URL:https://www.qxmagazine.com/event/bjs-saturday-free-drag-show/2025-08-16/
LOCATION:Betty and Joans\, Hewson Way\, London\, Greater London\, SE17 1FU\, United Kingdom
CATEGORIES:After Midnight Late Opening,Bars,Discount or Free Entry,LGBTQ+ Beer Garden,LGBTQ+ Cabaret & Drag
ATTACH;FMTTYPE=image/jpeg:https://www.qxmagazine.com/wp-content/uploads/2025/06/imageedit_3_8948814978.jpg
GEO:51.4926772;-0.0953223
X-APPLE-STRUCTURED-LOCATION;VALUE=URI;X-ADDRESS=Betty and Joans Hewson Way London Greater London SE17 1FU United Kingdom;X-APPLE-RADIUS=500;X-TITLE=Hewson Way:geo:-0.0953223,51.4926772
END:VEVENT
BEGIN:VEVENT
DTSTART;TZID=UTC:20250815T190000
DTEND;TZID=UTC:20250816T020000
DTSTAMP:20260422T025416
CREATED:20250626T082231Z
LAST-MODIFIED:20250626T113304Z
UID:10100795-1755284400-1755309600@www.qxmagazine.com
SUMMARY:BJ's Friday Free Drag Show
DESCRIPTION:Check out the link below to see who is on. No tickets required. Venue has a large terrace on the park.
URL:https://www.qxmagazine.com/event/bjs-friday-free-drag-show/2025-08-15/
LOCATION:Betty and Joans\, Hewson Way\, London\, Greater London\, SE17 1FU\, United Kingdom
CATEGORIES:After Midnight Late Opening,Bars,Discount or Free Entry,LGBTQ+ Beer Garden,LGBTQ+ Cabaret & Drag
ATTACH;FMTTYPE=image/jpeg:https://www.qxmagazine.com/wp-content/uploads/2025/06/imageedit_1_2287297797.jpg
GEO:51.4926772;-0.0953223
X-APPLE-STRUCTURED-LOCATION;VALUE=URI;X-ADDRESS=Betty and Joans Hewson Way London Greater London SE17 1FU United Kingdom;X-APPLE-RADIUS=500;X-TITLE=Hewson Way:geo:-0.0953223,51.4926772
END:VEVENT
BEGIN:VEVENT
DTSTART;TZID=UTC:20250809T190000
DTEND;TZID=UTC:20250810T020000
DTSTAMP:20260422T025416
CREATED:20250626T083448Z
LAST-MODIFIED:20250626T084253Z
UID:10100804-1754766000-1754791200@www.qxmagazine.com
SUMMARY:BJ's Saturday Free Drag Show
DESCRIPTION:Check out the link below to see who is on. No tickets required. Venue offers a large terrace on the park.
URL:https://www.qxmagazine.com/event/bjs-saturday-free-drag-show/2025-08-09/
LOCATION:Betty and Joans\, Hewson Way\, London\, Greater London\, SE17 1FU\, United Kingdom
CATEGORIES:After Midnight Late Opening,Bars,Discount or Free Entry,LGBTQ+ Beer Garden,LGBTQ+ Cabaret & Drag
ATTACH;FMTTYPE=image/jpeg:https://www.qxmagazine.com/wp-content/uploads/2025/06/imageedit_3_8948814978.jpg
GEO:51.4926772;-0.0953223
X-APPLE-STRUCTURED-LOCATION;VALUE=URI;X-ADDRESS=Betty and Joans Hewson Way London Greater London SE17 1FU United Kingdom;X-APPLE-RADIUS=500;X-TITLE=Hewson Way:geo:-0.0953223,51.4926772
END:VEVENT
BEGIN:VEVENT
DTSTART;TZID=UTC:20250808T190000
DTEND;TZID=UTC:20250809T020000
DTSTAMP:20260422T025416
CREATED:20250626T082231Z
LAST-MODIFIED:20250626T113304Z
UID:10100794-1754679600-1754704800@www.qxmagazine.com
SUMMARY:BJ's Friday Free Drag Show
DESCRIPTION:Check out the link below to see who is on. No tickets required. Venue has a large terrace on the park.
URL:https://www.qxmagazine.com/event/bjs-friday-free-drag-show/2025-08-08/
LOCATION:Betty and Joans\, Hewson Way\, London\, Greater London\, SE17 1FU\, United Kingdom
CATEGORIES:After Midnight Late Opening,Bars,Discount or Free Entry,LGBTQ+ Beer Garden,LGBTQ+ Cabaret & Drag
ATTACH;FMTTYPE=image/jpeg:https://www.qxmagazine.com/wp-content/uploads/2025/06/imageedit_1_2287297797.jpg
GEO:51.4926772;-0.0953223
X-APPLE-STRUCTURED-LOCATION;VALUE=URI;X-ADDRESS=Betty and Joans Hewson Way London Greater London SE17 1FU United Kingdom;X-APPLE-RADIUS=500;X-TITLE=Hewson Way:geo:-0.0953223,51.4926772
END:VEVENT
BEGIN:VEVENT
DTSTART;TZID=UTC:20250802T190000
DTEND;TZID=UTC:20250803T020000
DTSTAMP:20260422T025416
CREATED:20250626T083448Z
LAST-MODIFIED:20250626T084253Z
UID:10100803-1754161200-1754186400@www.qxmagazine.com
SUMMARY:BJ's Saturday Free Drag Show
DESCRIPTION:Check out the link below to see who is on. No tickets required. Venue offers a large terrace on the park.
URL:https://www.qxmagazine.com/event/bjs-saturday-free-drag-show/2025-08-02/
LOCATION:Betty and Joans\, Hewson Way\, London\, Greater London\, SE17 1FU\, United Kingdom
CATEGORIES:After Midnight Late Opening,Bars,Discount or Free Entry,LGBTQ+ Beer Garden,LGBTQ+ Cabaret & Drag
ATTACH;FMTTYPE=image/jpeg:https://www.qxmagazine.com/wp-content/uploads/2025/06/imageedit_3_8948814978.jpg
GEO:51.4926772;-0.0953223
X-APPLE-STRUCTURED-LOCATION;VALUE=URI;X-ADDRESS=Betty and Joans Hewson Way London Greater London SE17 1FU United Kingdom;X-APPLE-RADIUS=500;X-TITLE=Hewson Way:geo:-0.0953223,51.4926772
END:VEVENT
BEGIN:VEVENT
DTSTART;TZID=UTC:20250801T190000
DTEND;TZID=UTC:20250802T020000
DTSTAMP:20260422T025416
CREATED:20250626T082231Z
LAST-MODIFIED:20250626T113304Z
UID:10100793-1754074800-1754100000@www.qxmagazine.com
SUMMARY:BJ's Friday Free Drag Show
DESCRIPTION:Check out the link below to see who is on. No tickets required. Venue has a large terrace on the park.
URL:https://www.qxmagazine.com/event/bjs-friday-free-drag-show/2025-08-01/
LOCATION:Betty and Joans\, Hewson Way\, London\, Greater London\, SE17 1FU\, United Kingdom
CATEGORIES:After Midnight Late Opening,Bars,Discount or Free Entry,LGBTQ+ Beer Garden,LGBTQ+ Cabaret & Drag
ATTACH;FMTTYPE=image/jpeg:https://www.qxmagazine.com/wp-content/uploads/2025/06/imageedit_1_2287297797.jpg
GEO:51.4926772;-0.0953223
X-APPLE-STRUCTURED-LOCATION;VALUE=URI;X-ADDRESS=Betty and Joans Hewson Way London Greater London SE17 1FU United Kingdom;X-APPLE-RADIUS=500;X-TITLE=Hewson Way:geo:-0.0953223,51.4926772
END:VEVENT
BEGIN:VEVENT
DTSTART;TZID=UTC:20250726T190000
DTEND;TZID=UTC:20250727T020000
DTSTAMP:20260422T025416
CREATED:20250626T083448Z
LAST-MODIFIED:20250626T084253Z
UID:10100802-1753556400-1753581600@www.qxmagazine.com
SUMMARY:BJ's Saturday Free Drag Show
DESCRIPTION:Check out the link below to see who is on. No tickets required. Venue offers a large terrace on the park.
URL:https://www.qxmagazine.com/event/bjs-saturday-free-drag-show/2025-07-26/
LOCATION:Betty and Joans\, Hewson Way\, London\, Greater London\, SE17 1FU\, United Kingdom
CATEGORIES:After Midnight Late Opening,Bars,Discount or Free Entry,LGBTQ+ Beer Garden,LGBTQ+ Cabaret & Drag
ATTACH;FMTTYPE=image/jpeg:https://www.qxmagazine.com/wp-content/uploads/2025/06/imageedit_3_8948814978.jpg
GEO:51.4926772;-0.0953223
X-APPLE-STRUCTURED-LOCATION;VALUE=URI;X-ADDRESS=Betty and Joans Hewson Way London Greater London SE17 1FU United Kingdom;X-APPLE-RADIUS=500;X-TITLE=Hewson Way:geo:-0.0953223,51.4926772
END:VEVENT
BEGIN:VEVENT
DTSTART;TZID=UTC:20250725T190000
DTEND;TZID=UTC:20250726T020000
DTSTAMP:20260422T025416
CREATED:20250626T082231Z
LAST-MODIFIED:20250626T113304Z
UID:10100792-1753470000-1753495200@www.qxmagazine.com
SUMMARY:BJ's Friday Free Drag Show
DESCRIPTION:Check out the link below to see who is on. No tickets required. Venue has a large terrace on the park.
URL:https://www.qxmagazine.com/event/bjs-friday-free-drag-show/2025-07-25/
LOCATION:Betty and Joans\, Hewson Way\, London\, Greater London\, SE17 1FU\, United Kingdom
CATEGORIES:After Midnight Late Opening,Bars,Discount or Free Entry,LGBTQ+ Beer Garden,LGBTQ+ Cabaret & Drag
ATTACH;FMTTYPE=image/jpeg:https://www.qxmagazine.com/wp-content/uploads/2025/06/imageedit_1_2287297797.jpg
GEO:51.4926772;-0.0953223
X-APPLE-STRUCTURED-LOCATION;VALUE=URI;X-ADDRESS=Betty and Joans Hewson Way London Greater London SE17 1FU United Kingdom;X-APPLE-RADIUS=500;X-TITLE=Hewson Way:geo:-0.0953223,51.4926772
END:VEVENT
BEGIN:VEVENT
DTSTART;TZID=UTC:20250719T190000
DTEND;TZID=UTC:20250720T020000
DTSTAMP:20260422T025416
CREATED:20250626T083448Z
LAST-MODIFIED:20250626T084253Z
UID:10100801-1752951600-1752976800@www.qxmagazine.com
SUMMARY:BJ's Saturday Free Drag Show
DESCRIPTION:Check out the link below to see who is on. No tickets required. Venue offers a large terrace on the park.
URL:https://www.qxmagazine.com/event/bjs-saturday-free-drag-show/2025-07-19/
LOCATION:Betty and Joans\, Hewson Way\, London\, Greater London\, SE17 1FU\, United Kingdom
CATEGORIES:After Midnight Late Opening,Bars,Discount or Free Entry,LGBTQ+ Beer Garden,LGBTQ+ Cabaret & Drag
ATTACH;FMTTYPE=image/jpeg:https://www.qxmagazine.com/wp-content/uploads/2025/06/imageedit_3_8948814978.jpg
GEO:51.4926772;-0.0953223
X-APPLE-STRUCTURED-LOCATION;VALUE=URI;X-ADDRESS=Betty and Joans Hewson Way London Greater London SE17 1FU United Kingdom;X-APPLE-RADIUS=500;X-TITLE=Hewson Way:geo:-0.0953223,51.4926772
END:VEVENT
BEGIN:VEVENT
DTSTART;TZID=UTC:20250718T190000
DTEND;TZID=UTC:20250719T020000
DTSTAMP:20260422T025416
CREATED:20250626T082231Z
LAST-MODIFIED:20250626T113304Z
UID:10100791-1752865200-1752890400@www.qxmagazine.com
SUMMARY:BJ's Friday Free Drag Show
DESCRIPTION:Check out the link below to see who is on. No tickets required. Venue has a large terrace on the park.
URL:https://www.qxmagazine.com/event/bjs-friday-free-drag-show/2025-07-18/
LOCATION:Betty and Joans\, Hewson Way\, London\, Greater London\, SE17 1FU\, United Kingdom
CATEGORIES:After Midnight Late Opening,Bars,Discount or Free Entry,LGBTQ+ Beer Garden,LGBTQ+ Cabaret & Drag
ATTACH;FMTTYPE=image/jpeg:https://www.qxmagazine.com/wp-content/uploads/2025/06/imageedit_1_2287297797.jpg
GEO:51.4926772;-0.0953223
X-APPLE-STRUCTURED-LOCATION;VALUE=URI;X-ADDRESS=Betty and Joans Hewson Way London Greater London SE17 1FU United Kingdom;X-APPLE-RADIUS=500;X-TITLE=Hewson Way:geo:-0.0953223,51.4926772
END:VEVENT
BEGIN:VEVENT
DTSTART;TZID=UTC:20250712T190000
DTEND;TZID=UTC:20250713T020000
DTSTAMP:20260422T025416
CREATED:20250626T083448Z
LAST-MODIFIED:20250626T084253Z
UID:10100800-1752346800-1752372000@www.qxmagazine.com
SUMMARY:BJ's Saturday Free Drag Show
DESCRIPTION:Check out the link below to see who is on. No tickets required. Venue offers a large terrace on the park.
URL:https://www.qxmagazine.com/event/bjs-saturday-free-drag-show/2025-07-12/
LOCATION:Betty and Joans\, Hewson Way\, London\, Greater London\, SE17 1FU\, United Kingdom
CATEGORIES:After Midnight Late Opening,Bars,Discount or Free Entry,LGBTQ+ Beer Garden,LGBTQ+ Cabaret & Drag
ATTACH;FMTTYPE=image/jpeg:https://www.qxmagazine.com/wp-content/uploads/2025/06/imageedit_3_8948814978.jpg
GEO:51.4926772;-0.0953223
X-APPLE-STRUCTURED-LOCATION;VALUE=URI;X-ADDRESS=Betty and Joans Hewson Way London Greater London SE17 1FU United Kingdom;X-APPLE-RADIUS=500;X-TITLE=Hewson Way:geo:-0.0953223,51.4926772
END:VEVENT
BEGIN:VEVENT
DTSTART;TZID=UTC:20250711T190000
DTEND;TZID=UTC:20250712T020000
DTSTAMP:20260422T025416
CREATED:20250626T082231Z
LAST-MODIFIED:20250626T113304Z
UID:10100790-1752260400-1752285600@www.qxmagazine.com
SUMMARY:BJ's Friday Free Drag Show
DESCRIPTION:Check out the link below to see who is on. No tickets required. Venue has a large terrace on the park.
URL:https://www.qxmagazine.com/event/bjs-friday-free-drag-show/2025-07-11/
LOCATION:Betty and Joans\, Hewson Way\, London\, Greater London\, SE17 1FU\, United Kingdom
CATEGORIES:After Midnight Late Opening,Bars,Discount or Free Entry,LGBTQ+ Beer Garden,LGBTQ+ Cabaret & Drag
ATTACH;FMTTYPE=image/jpeg:https://www.qxmagazine.com/wp-content/uploads/2025/06/imageedit_1_2287297797.jpg
GEO:51.4926772;-0.0953223
X-APPLE-STRUCTURED-LOCATION;VALUE=URI;X-ADDRESS=Betty and Joans Hewson Way London Greater London SE17 1FU United Kingdom;X-APPLE-RADIUS=500;X-TITLE=Hewson Way:geo:-0.0953223,51.4926772
END:VEVENT
BEGIN:VEVENT
DTSTART;TZID=UTC:20250705T190000
DTEND;TZID=UTC:20250706T040000
DTSTAMP:20260422T025416
CREATED:20250626T180328Z
LAST-MODIFIED:20250705T153403Z
UID:10100799-1751742000-1751774400@www.qxmagazine.com
SUMMARY:Pride After Party - Absolute Britney LIVE in concert
DESCRIPTION:Check out the link below to see who is on. No tickets required. Venue offers a large terrace on the park.
URL:https://www.qxmagazine.com/event/bjs-saturday-free-drag-show-2/
LOCATION:Betty and Joans\, Hewson Way\, London\, Greater London\, SE17 1FU\, United Kingdom
CATEGORIES:After Midnight Late Opening,Bars,Discount or Free Entry,LGBTQ+ Beer Garden,LGBTQ+ Cabaret & Drag,Pride In London
ATTACH;FMTTYPE=image/jpeg:https://www.qxmagazine.com/wp-content/uploads/2025/06/imageedit_3_8948814978.jpg
GEO:51.4926772;-0.0953223
X-APPLE-STRUCTURED-LOCATION;VALUE=URI;X-ADDRESS=Betty and Joans Hewson Way London Greater London SE17 1FU United Kingdom;X-APPLE-RADIUS=500;X-TITLE=Hewson Way:geo:-0.0953223,51.4926772
END:VEVENT
BEGIN:VEVENT
DTSTART;TZID=UTC:20250704T190000
DTEND;TZID=UTC:20250705T020000
DTSTAMP:20260422T025416
CREATED:20250626T082231Z
LAST-MODIFIED:20250626T113304Z
UID:10100789-1751655600-1751680800@www.qxmagazine.com
SUMMARY:BJ's Friday Free Drag Show
DESCRIPTION:Check out the link below to see who is on. No tickets required. Venue has a large terrace on the park.
URL:https://www.qxmagazine.com/event/bjs-friday-free-drag-show/2025-07-04/
LOCATION:Betty and Joans\, Hewson Way\, London\, Greater London\, SE17 1FU\, United Kingdom
CATEGORIES:After Midnight Late Opening,Bars,Discount or Free Entry,LGBTQ+ Beer Garden,LGBTQ+ Cabaret & Drag
ATTACH;FMTTYPE=image/jpeg:https://www.qxmagazine.com/wp-content/uploads/2025/06/imageedit_1_2287297797.jpg
GEO:51.4926772;-0.0953223
X-APPLE-STRUCTURED-LOCATION;VALUE=URI;X-ADDRESS=Betty and Joans Hewson Way London Greater London SE17 1FU United Kingdom;X-APPLE-RADIUS=500;X-TITLE=Hewson Way:geo:-0.0953223,51.4926772
END:VEVENT
BEGIN:VEVENT
DTSTART;TZID=UTC:20250628T190000
DTEND;TZID=UTC:20250629T020000
DTSTAMP:20260422T025416
CREATED:20250626T083448Z
LAST-MODIFIED:20250626T084253Z
UID:10100798-1751137200-1751162400@www.qxmagazine.com
SUMMARY:BJ's Saturday Free Drag Show
DESCRIPTION:Check out the link below to see who is on. No tickets required. Venue offers a large terrace on the park.
URL:https://www.qxmagazine.com/event/bjs-saturday-free-drag-show/2025-06-28/
LOCATION:Betty and Joans\, Hewson Way\, London\, Greater London\, SE17 1FU\, United Kingdom
CATEGORIES:After Midnight Late Opening,Bars,Discount or Free Entry,LGBTQ+ Beer Garden,LGBTQ+ Cabaret & Drag
ATTACH;FMTTYPE=image/jpeg:https://www.qxmagazine.com/wp-content/uploads/2025/06/imageedit_3_8948814978.jpg
GEO:51.4926772;-0.0953223
X-APPLE-STRUCTURED-LOCATION;VALUE=URI;X-ADDRESS=Betty and Joans Hewson Way London Greater London SE17 1FU United Kingdom;X-APPLE-RADIUS=500;X-TITLE=Hewson Way:geo:-0.0953223,51.4926772
END:VEVENT
BEGIN:VEVENT
DTSTART;TZID=UTC:20250627T190000
DTEND;TZID=UTC:20250628T020000
DTSTAMP:20260422T025416
CREATED:20250626T082231Z
LAST-MODIFIED:20250626T113304Z
UID:10100788-1751050800-1751076000@www.qxmagazine.com
SUMMARY:BJ's Friday Free Drag Show
DESCRIPTION:Check out the link below to see who is on. No tickets required. Venue has a large terrace on the park.
URL:https://www.qxmagazine.com/event/bjs-friday-free-drag-show/2025-06-27/
LOCATION:Betty and Joans\, Hewson Way\, London\, Greater London\, SE17 1FU\, United Kingdom
CATEGORIES:After Midnight Late Opening,Bars,Discount or Free Entry,LGBTQ+ Beer Garden,LGBTQ+ Cabaret & Drag
ATTACH;FMTTYPE=image/jpeg:https://www.qxmagazine.com/wp-content/uploads/2025/06/imageedit_1_2287297797.jpg
GEO:51.4926772;-0.0953223
X-APPLE-STRUCTURED-LOCATION;VALUE=URI;X-ADDRESS=Betty and Joans Hewson Way London Greater London SE17 1FU United Kingdom;X-APPLE-RADIUS=500;X-TITLE=Hewson Way:geo:-0.0953223,51.4926772
END:VEVENT
BEGIN:VEVENT
DTSTART;TZID=UTC:20250517T180000
DTEND;TZID=UTC:20250518T030000
DTSTAMP:20260422T025416
CREATED:20250418T173246Z
LAST-MODIFIED:20250418T173246Z
UID:10097726-1747504800-1747537200@www.qxmagazine.com
SUMMARY:Eurovision Viewing Party
DESCRIPTION:Hosted by Just May from Drag Race UK! The entertainment kicks off with the Some Voices Eurovision Choir\, led by Alice Keys\, performing classic Eurovision hits before the show starts. Plus games and performances to help you celebrate while watching on the giant screen. Extending opening hours.
URL:https://www.qxmagazine.com/event/eurovision-viewing-party/
LOCATION:Betty and Joans\, Hewson Way\, London\, Greater London\, SE17 1FU\, United Kingdom
CATEGORIES:After Midnight Late Opening,Bars,LGBTQ+ Cabaret & Drag,LGBTQ+ Eurovision
ATTACH;FMTTYPE=image/jpeg:https://www.qxmagazine.com/wp-content/uploads/2025/04/imageedit_3_8166418314.jpg
GEO:51.4926772;-0.0953223
X-APPLE-STRUCTURED-LOCATION;VALUE=URI;X-ADDRESS=Betty and Joans Hewson Way London Greater London SE17 1FU United Kingdom;X-APPLE-RADIUS=500;X-TITLE=Hewson Way:geo:-0.0953223,51.4926772
END:VEVENT
BEGIN:VEVENT
DTSTART;TZID=UTC:20241224T120000
DTEND;TZID=UTC:20241225T000000
DTSTAMP:20260422T025416
CREATED:20241210T005653Z
LAST-MODIFIED:20241210T005653Z
UID:10085361-1735041600-1735084800@www.qxmagazine.com
SUMMARY:Christmas Eve at Betty and Joans
DESCRIPTION:Open from mid-day to mid-night with entertainment.
URL:https://www.qxmagazine.com/event/christmas-eve-at-betty-and-joans/
LOCATION:Betty and Joans\, Hewson Way\, London\, Greater London\, SE17 1FU\, United Kingdom
CATEGORIES:Bars,Discount or Free Entry,LGBTQ+ Cabaret & Drag,LGBTQ+ Christmas
ATTACH;FMTTYPE=image/jpeg:https://www.qxmagazine.com/wp-content/uploads/2024/12/imageedit_22_5729283095.jpg
GEO:51.4926772;-0.0953223
X-APPLE-STRUCTURED-LOCATION;VALUE=URI;X-ADDRESS=Betty and Joans Hewson Way London Greater London SE17 1FU United Kingdom;X-APPLE-RADIUS=500;X-TITLE=Hewson Way:geo:-0.0953223,51.4926772
END:VEVENT
END:VCALENDAR