BEGIN:VCALENDAR
VERSION:2.0
PRODID:-//QX Magazine - ECPv6.15.20//NONSGML v1.0//EN
CALSCALE:GREGORIAN
METHOD:PUBLISH
X-ORIGINAL-URL:https://www.qxmagazine.com
X-WR-CALDESC:Events for QX Magazine
REFRESH-INTERVAL;VALUE=DURATION:PT1H
X-Robots-Tag:noindex
X-PUBLISHED-TTL:PT1H
BEGIN:VTIMEZONE
TZID:UTC
BEGIN:STANDARD
TZOFFSETFROM:+0000
TZOFFSETTO:+0000
TZNAME:UTC
DTSTART:20220101T000000
END:STANDARD
END:VTIMEZONE
BEGIN:VEVENT
DTSTART;TZID=UTC:20230928T203000
DTEND;TZID=UTC:20230928T203000
DTSTAMP:20260426T040942
CREATED:20230827T124307Z
LAST-MODIFIED:20231125T164237Z
UID:10046527-1695933000-1695933000@www.qxmagazine.com
SUMMARY:Naked Presents House Of Naked
DESCRIPTION:Expect a cabaret that fuses cabaret greats\, drag icons and circus legends into one queer spellbinding show. Naked Presents House Of Naked tickets and more details are available at the event’s website. The lineup includes Miss Lucinda B.Hind\, PMBC\, Cazeleon and Leo Pantha. This event is at a unique riverside venue on London’s South Bank featuring live DJs\, sensational street food\, craft beer & cocktails\, themed & drag brunches\, cabaret and much more!
URL:https://www.qxmagazine.com/event/naked-presents-house-of-naked/
LOCATION:Between The Bridges\, The Queen's Walk\, London\, SE1
CATEGORIES:After Midnight Late Opening,Club Nights,Events Queer London,Featured Event,LGBTQ+ Cabaret & Drag
ATTACH;FMTTYPE=image/jpeg:https://www.qxmagazine.com/wp-content/uploads/2023/01/imageedit_23_5283421099-2.jpg
GEO:51.5034247;-0.1193498
X-APPLE-STRUCTURED-LOCATION;VALUE=URI;X-ADDRESS=Between The Bridges The Queen's Walk London SE1;X-APPLE-RADIUS=500;X-TITLE=The Queen's Walk:geo:-0.1193498,51.5034247
END:VEVENT
END:VCALENDAR