BEGIN:VCALENDAR
VERSION:2.0
PRODID:-//QX Magazine - ECPv6.15.20//NONSGML v1.0//EN
CALSCALE:GREGORIAN
METHOD:PUBLISH
X-WR-CALNAME:QX Magazine
X-ORIGINAL-URL:https://www.qxmagazine.com
X-WR-CALDESC:Events for QX Magazine
REFRESH-INTERVAL;VALUE=DURATION:PT1H
X-Robots-Tag:noindex
X-PUBLISHED-TTL:PT1H
BEGIN:VTIMEZONE
TZID:UTC
BEGIN:STANDARD
TZOFFSETFROM:+0000
TZOFFSETTO:+0000
TZNAME:UTC
DTSTART:20250101T000000
END:STANDARD
END:VTIMEZONE
BEGIN:VEVENT
DTSTART;TZID=UTC:20261009T140000
DTEND;TZID=UTC:20261009T190000
DTSTAMP:20260424T101317
CREATED:20250111T135415Z
LAST-MODIFIED:20260407T084428Z
UID:10118299-1791554400-1791572400@www.qxmagazine.com
SUMMARY:The BOYS! BOYS! BOYS! Gallery Café
DESCRIPTION:A gallery café that promotes queer and gay fine art photography. Serving wine and coffee\, etc.
URL:https://www.qxmagazine.com/event/the-boys-boys-boys-gallery-cafe/2026-10-09/
LOCATION:Boys! Boys! Boys! Gallery Cafe\, Warren Street\, London\, W1T 5NF\, United Kingdom
CATEGORIES:Bars,Events Queer London,LGBTQ+ Art
ATTACH;FMTTYPE=image/jpeg:https://www.qxmagazine.com/wp-content/uploads/2025/01/imageedit_86_6924908505.jpg
GEO:51.5235984;-0.1416972
X-APPLE-STRUCTURED-LOCATION;VALUE=URI;X-ADDRESS=Boys! Boys! Boys! Gallery Cafe Warren Street London W1T 5NF United Kingdom;X-APPLE-RADIUS=500;X-TITLE=Warren Street:geo:-0.1416972,51.5235984
END:VEVENT
BEGIN:VEVENT
DTSTART;TZID=UTC:20261011T140000
DTEND;TZID=UTC:20261011T180000
DTSTAMP:20260424T101317
CREATED:20251106T091415Z
LAST-MODIFIED:20260330T145640Z
UID:10115450-1791727200-1791741600@www.qxmagazine.com
SUMMARY:The BOYS! BOYS! BOYS! Gallery Café
DESCRIPTION:A gallery café that promotes queer and gay fine art photography. Serving wine and coffee\, etc.
URL:https://www.qxmagazine.com/event/the-boys-boys-boys-gallery-cafe-2/2026-10-11/
LOCATION:Boys! Boys! Boys! Gallery Cafe\, Warren Street\, London\, W1T 5NF\, United Kingdom
CATEGORIES:LGBTQ+ Art
ATTACH;FMTTYPE=image/jpeg:https://www.qxmagazine.com/wp-content/uploads/2025/11/imageedit_8_5725713851.jpg
GEO:51.5235984;-0.1416972
X-APPLE-STRUCTURED-LOCATION;VALUE=URI;X-ADDRESS=Boys! Boys! Boys! Gallery Cafe Warren Street London W1T 5NF United Kingdom;X-APPLE-RADIUS=500;X-TITLE=Warren Street:geo:-0.1416972,51.5235984
END:VEVENT
BEGIN:VEVENT
DTSTART;TZID=UTC:20261013T140000
DTEND;TZID=UTC:20261013T190000
DTSTAMP:20260424T101317
CREATED:20250111T135415Z
LAST-MODIFIED:20260407T084428Z
UID:10118300-1791900000-1791918000@www.qxmagazine.com
SUMMARY:The BOYS! BOYS! BOYS! Gallery Café
DESCRIPTION:A gallery café that promotes queer and gay fine art photography. Serving wine and coffee\, etc.
URL:https://www.qxmagazine.com/event/the-boys-boys-boys-gallery-cafe/2026-10-13/
LOCATION:Boys! Boys! Boys! Gallery Cafe\, Warren Street\, London\, W1T 5NF\, United Kingdom
CATEGORIES:Bars,Events Queer London,LGBTQ+ Art
ATTACH;FMTTYPE=image/jpeg:https://www.qxmagazine.com/wp-content/uploads/2025/01/imageedit_86_6924908505.jpg
GEO:51.5235984;-0.1416972
X-APPLE-STRUCTURED-LOCATION;VALUE=URI;X-ADDRESS=Boys! Boys! Boys! Gallery Cafe Warren Street London W1T 5NF United Kingdom;X-APPLE-RADIUS=500;X-TITLE=Warren Street:geo:-0.1416972,51.5235984
END:VEVENT
BEGIN:VEVENT
DTSTART;TZID=UTC:20261014T140000
DTEND;TZID=UTC:20261014T180000
DTSTAMP:20260424T101317
CREATED:20251106T091415Z
LAST-MODIFIED:20260330T145640Z
UID:10115451-1791986400-1792000800@www.qxmagazine.com
SUMMARY:The BOYS! BOYS! BOYS! Gallery Café
DESCRIPTION:A gallery café that promotes queer and gay fine art photography. Serving wine and coffee\, etc.
URL:https://www.qxmagazine.com/event/the-boys-boys-boys-gallery-cafe-2/2026-10-14/
LOCATION:Boys! Boys! Boys! Gallery Cafe\, Warren Street\, London\, W1T 5NF\, United Kingdom
CATEGORIES:LGBTQ+ Art
ATTACH;FMTTYPE=image/jpeg:https://www.qxmagazine.com/wp-content/uploads/2025/11/imageedit_8_5725713851.jpg
GEO:51.5235984;-0.1416972
X-APPLE-STRUCTURED-LOCATION;VALUE=URI;X-ADDRESS=Boys! Boys! Boys! Gallery Cafe Warren Street London W1T 5NF United Kingdom;X-APPLE-RADIUS=500;X-TITLE=Warren Street:geo:-0.1416972,51.5235984
END:VEVENT
BEGIN:VEVENT
DTSTART;TZID=UTC:20261015T140000
DTEND;TZID=UTC:20261015T190000
DTSTAMP:20260424T101317
CREATED:20250111T135415Z
LAST-MODIFIED:20260407T084428Z
UID:10118301-1792072800-1792090800@www.qxmagazine.com
SUMMARY:The BOYS! BOYS! BOYS! Gallery Café
DESCRIPTION:A gallery café that promotes queer and gay fine art photography. Serving wine and coffee\, etc.
URL:https://www.qxmagazine.com/event/the-boys-boys-boys-gallery-cafe/2026-10-15/
LOCATION:Boys! Boys! Boys! Gallery Cafe\, Warren Street\, London\, W1T 5NF\, United Kingdom
CATEGORIES:Bars,Events Queer London,LGBTQ+ Art
ATTACH;FMTTYPE=image/jpeg:https://www.qxmagazine.com/wp-content/uploads/2025/01/imageedit_86_6924908505.jpg
GEO:51.5235984;-0.1416972
X-APPLE-STRUCTURED-LOCATION;VALUE=URI;X-ADDRESS=Boys! Boys! Boys! Gallery Cafe Warren Street London W1T 5NF United Kingdom;X-APPLE-RADIUS=500;X-TITLE=Warren Street:geo:-0.1416972,51.5235984
END:VEVENT
BEGIN:VEVENT
DTSTART;TZID=UTC:20261016T140000
DTEND;TZID=UTC:20261016T190000
DTSTAMP:20260424T101317
CREATED:20250111T135415Z
LAST-MODIFIED:20260407T084428Z
UID:10118302-1792159200-1792177200@www.qxmagazine.com
SUMMARY:The BOYS! BOYS! BOYS! Gallery Café
DESCRIPTION:A gallery café that promotes queer and gay fine art photography. Serving wine and coffee\, etc.
URL:https://www.qxmagazine.com/event/the-boys-boys-boys-gallery-cafe/2026-10-16/
LOCATION:Boys! Boys! Boys! Gallery Cafe\, Warren Street\, London\, W1T 5NF\, United Kingdom
CATEGORIES:Bars,Events Queer London,LGBTQ+ Art
ATTACH;FMTTYPE=image/jpeg:https://www.qxmagazine.com/wp-content/uploads/2025/01/imageedit_86_6924908505.jpg
GEO:51.5235984;-0.1416972
X-APPLE-STRUCTURED-LOCATION;VALUE=URI;X-ADDRESS=Boys! Boys! Boys! Gallery Cafe Warren Street London W1T 5NF United Kingdom;X-APPLE-RADIUS=500;X-TITLE=Warren Street:geo:-0.1416972,51.5235984
END:VEVENT
BEGIN:VEVENT
DTSTART;TZID=UTC:20261018T140000
DTEND;TZID=UTC:20261018T180000
DTSTAMP:20260424T101317
CREATED:20251106T091415Z
LAST-MODIFIED:20260330T145640Z
UID:10115452-1792332000-1792346400@www.qxmagazine.com
SUMMARY:The BOYS! BOYS! BOYS! Gallery Café
DESCRIPTION:A gallery café that promotes queer and gay fine art photography. Serving wine and coffee\, etc.
URL:https://www.qxmagazine.com/event/the-boys-boys-boys-gallery-cafe-2/2026-10-18/
LOCATION:Boys! Boys! Boys! Gallery Cafe\, Warren Street\, London\, W1T 5NF\, United Kingdom
CATEGORIES:LGBTQ+ Art
ATTACH;FMTTYPE=image/jpeg:https://www.qxmagazine.com/wp-content/uploads/2025/11/imageedit_8_5725713851.jpg
GEO:51.5235984;-0.1416972
X-APPLE-STRUCTURED-LOCATION;VALUE=URI;X-ADDRESS=Boys! Boys! Boys! Gallery Cafe Warren Street London W1T 5NF United Kingdom;X-APPLE-RADIUS=500;X-TITLE=Warren Street:geo:-0.1416972,51.5235984
END:VEVENT
BEGIN:VEVENT
DTSTART;TZID=UTC:20261020T140000
DTEND;TZID=UTC:20261020T190000
DTSTAMP:20260424T101317
CREATED:20250111T135415Z
LAST-MODIFIED:20260407T084428Z
UID:10118303-1792504800-1792522800@www.qxmagazine.com
SUMMARY:The BOYS! BOYS! BOYS! Gallery Café
DESCRIPTION:A gallery café that promotes queer and gay fine art photography. Serving wine and coffee\, etc.
URL:https://www.qxmagazine.com/event/the-boys-boys-boys-gallery-cafe/2026-10-20/
LOCATION:Boys! Boys! Boys! Gallery Cafe\, Warren Street\, London\, W1T 5NF\, United Kingdom
CATEGORIES:Bars,Events Queer London,LGBTQ+ Art
ATTACH;FMTTYPE=image/jpeg:https://www.qxmagazine.com/wp-content/uploads/2025/01/imageedit_86_6924908505.jpg
GEO:51.5235984;-0.1416972
X-APPLE-STRUCTURED-LOCATION;VALUE=URI;X-ADDRESS=Boys! Boys! Boys! Gallery Cafe Warren Street London W1T 5NF United Kingdom;X-APPLE-RADIUS=500;X-TITLE=Warren Street:geo:-0.1416972,51.5235984
END:VEVENT
BEGIN:VEVENT
DTSTART;TZID=UTC:20261021T140000
DTEND;TZID=UTC:20261021T180000
DTSTAMP:20260424T101317
CREATED:20251106T091415Z
LAST-MODIFIED:20260330T145640Z
UID:10115453-1792591200-1792605600@www.qxmagazine.com
SUMMARY:The BOYS! BOYS! BOYS! Gallery Café
DESCRIPTION:A gallery café that promotes queer and gay fine art photography. Serving wine and coffee\, etc.
URL:https://www.qxmagazine.com/event/the-boys-boys-boys-gallery-cafe-2/2026-10-21/
LOCATION:Boys! Boys! Boys! Gallery Cafe\, Warren Street\, London\, W1T 5NF\, United Kingdom
CATEGORIES:LGBTQ+ Art
ATTACH;FMTTYPE=image/jpeg:https://www.qxmagazine.com/wp-content/uploads/2025/11/imageedit_8_5725713851.jpg
GEO:51.5235984;-0.1416972
X-APPLE-STRUCTURED-LOCATION;VALUE=URI;X-ADDRESS=Boys! Boys! Boys! Gallery Cafe Warren Street London W1T 5NF United Kingdom;X-APPLE-RADIUS=500;X-TITLE=Warren Street:geo:-0.1416972,51.5235984
END:VEVENT
BEGIN:VEVENT
DTSTART;TZID=UTC:20261022T140000
DTEND;TZID=UTC:20261022T190000
DTSTAMP:20260424T101317
CREATED:20250111T135415Z
LAST-MODIFIED:20260407T084428Z
UID:10118304-1792677600-1792695600@www.qxmagazine.com
SUMMARY:The BOYS! BOYS! BOYS! Gallery Café
DESCRIPTION:A gallery café that promotes queer and gay fine art photography. Serving wine and coffee\, etc.
URL:https://www.qxmagazine.com/event/the-boys-boys-boys-gallery-cafe/2026-10-22/
LOCATION:Boys! Boys! Boys! Gallery Cafe\, Warren Street\, London\, W1T 5NF\, United Kingdom
CATEGORIES:Bars,Events Queer London,LGBTQ+ Art
ATTACH;FMTTYPE=image/jpeg:https://www.qxmagazine.com/wp-content/uploads/2025/01/imageedit_86_6924908505.jpg
GEO:51.5235984;-0.1416972
X-APPLE-STRUCTURED-LOCATION;VALUE=URI;X-ADDRESS=Boys! Boys! Boys! Gallery Cafe Warren Street London W1T 5NF United Kingdom;X-APPLE-RADIUS=500;X-TITLE=Warren Street:geo:-0.1416972,51.5235984
END:VEVENT
BEGIN:VEVENT
DTSTART;TZID=UTC:20261023T140000
DTEND;TZID=UTC:20261023T190000
DTSTAMP:20260424T101317
CREATED:20250111T135415Z
LAST-MODIFIED:20260407T084428Z
UID:10118305-1792764000-1792782000@www.qxmagazine.com
SUMMARY:The BOYS! BOYS! BOYS! Gallery Café
DESCRIPTION:A gallery café that promotes queer and gay fine art photography. Serving wine and coffee\, etc.
URL:https://www.qxmagazine.com/event/the-boys-boys-boys-gallery-cafe/2026-10-23/
LOCATION:Boys! Boys! Boys! Gallery Cafe\, Warren Street\, London\, W1T 5NF\, United Kingdom
CATEGORIES:Bars,Events Queer London,LGBTQ+ Art
ATTACH;FMTTYPE=image/jpeg:https://www.qxmagazine.com/wp-content/uploads/2025/01/imageedit_86_6924908505.jpg
GEO:51.5235984;-0.1416972
X-APPLE-STRUCTURED-LOCATION;VALUE=URI;X-ADDRESS=Boys! Boys! Boys! Gallery Cafe Warren Street London W1T 5NF United Kingdom;X-APPLE-RADIUS=500;X-TITLE=Warren Street:geo:-0.1416972,51.5235984
END:VEVENT
BEGIN:VEVENT
DTSTART;TZID=UTC:20261025T140000
DTEND;TZID=UTC:20261025T180000
DTSTAMP:20260424T101317
CREATED:20251106T091415Z
LAST-MODIFIED:20260330T145640Z
UID:10115454-1792936800-1792951200@www.qxmagazine.com
SUMMARY:The BOYS! BOYS! BOYS! Gallery Café
DESCRIPTION:A gallery café that promotes queer and gay fine art photography. Serving wine and coffee\, etc.
URL:https://www.qxmagazine.com/event/the-boys-boys-boys-gallery-cafe-2/2026-10-25/
LOCATION:Boys! Boys! Boys! Gallery Cafe\, Warren Street\, London\, W1T 5NF\, United Kingdom
CATEGORIES:LGBTQ+ Art
ATTACH;FMTTYPE=image/jpeg:https://www.qxmagazine.com/wp-content/uploads/2025/11/imageedit_8_5725713851.jpg
GEO:51.5235984;-0.1416972
X-APPLE-STRUCTURED-LOCATION;VALUE=URI;X-ADDRESS=Boys! Boys! Boys! Gallery Cafe Warren Street London W1T 5NF United Kingdom;X-APPLE-RADIUS=500;X-TITLE=Warren Street:geo:-0.1416972,51.5235984
END:VEVENT
BEGIN:VEVENT
DTSTART;TZID=UTC:20261027T140000
DTEND;TZID=UTC:20261027T190000
DTSTAMP:20260424T101317
CREATED:20250111T135415Z
LAST-MODIFIED:20260407T084428Z
UID:10118306-1793109600-1793127600@www.qxmagazine.com
SUMMARY:The BOYS! BOYS! BOYS! Gallery Café
DESCRIPTION:A gallery café that promotes queer and gay fine art photography. Serving wine and coffee\, etc.
URL:https://www.qxmagazine.com/event/the-boys-boys-boys-gallery-cafe/2026-10-27/
LOCATION:Boys! Boys! Boys! Gallery Cafe\, Warren Street\, London\, W1T 5NF\, United Kingdom
CATEGORIES:Bars,Events Queer London,LGBTQ+ Art
ATTACH;FMTTYPE=image/jpeg:https://www.qxmagazine.com/wp-content/uploads/2025/01/imageedit_86_6924908505.jpg
GEO:51.5235984;-0.1416972
X-APPLE-STRUCTURED-LOCATION;VALUE=URI;X-ADDRESS=Boys! Boys! Boys! Gallery Cafe Warren Street London W1T 5NF United Kingdom;X-APPLE-RADIUS=500;X-TITLE=Warren Street:geo:-0.1416972,51.5235984
END:VEVENT
BEGIN:VEVENT
DTSTART;TZID=UTC:20261028T140000
DTEND;TZID=UTC:20261028T180000
DTSTAMP:20260424T101317
CREATED:20251106T091415Z
LAST-MODIFIED:20260330T145640Z
UID:10115455-1793196000-1793210400@www.qxmagazine.com
SUMMARY:The BOYS! BOYS! BOYS! Gallery Café
DESCRIPTION:A gallery café that promotes queer and gay fine art photography. Serving wine and coffee\, etc.
URL:https://www.qxmagazine.com/event/the-boys-boys-boys-gallery-cafe-2/2026-10-28/
LOCATION:Boys! Boys! Boys! Gallery Cafe\, Warren Street\, London\, W1T 5NF\, United Kingdom
CATEGORIES:LGBTQ+ Art
ATTACH;FMTTYPE=image/jpeg:https://www.qxmagazine.com/wp-content/uploads/2025/11/imageedit_8_5725713851.jpg
GEO:51.5235984;-0.1416972
X-APPLE-STRUCTURED-LOCATION;VALUE=URI;X-ADDRESS=Boys! Boys! Boys! Gallery Cafe Warren Street London W1T 5NF United Kingdom;X-APPLE-RADIUS=500;X-TITLE=Warren Street:geo:-0.1416972,51.5235984
END:VEVENT
BEGIN:VEVENT
DTSTART;TZID=UTC:20261029T140000
DTEND;TZID=UTC:20261029T190000
DTSTAMP:20260424T101317
CREATED:20250111T135415Z
LAST-MODIFIED:20260407T084428Z
UID:10118307-1793282400-1793300400@www.qxmagazine.com
SUMMARY:The BOYS! BOYS! BOYS! Gallery Café
DESCRIPTION:A gallery café that promotes queer and gay fine art photography. Serving wine and coffee\, etc.
URL:https://www.qxmagazine.com/event/the-boys-boys-boys-gallery-cafe/2026-10-29/
LOCATION:Boys! Boys! Boys! Gallery Cafe\, Warren Street\, London\, W1T 5NF\, United Kingdom
CATEGORIES:Bars,Events Queer London,LGBTQ+ Art
ATTACH;FMTTYPE=image/jpeg:https://www.qxmagazine.com/wp-content/uploads/2025/01/imageedit_86_6924908505.jpg
GEO:51.5235984;-0.1416972
X-APPLE-STRUCTURED-LOCATION;VALUE=URI;X-ADDRESS=Boys! Boys! Boys! Gallery Cafe Warren Street London W1T 5NF United Kingdom;X-APPLE-RADIUS=500;X-TITLE=Warren Street:geo:-0.1416972,51.5235984
END:VEVENT
BEGIN:VEVENT
DTSTART;TZID=UTC:20261030T140000
DTEND;TZID=UTC:20261030T190000
DTSTAMP:20260424T101317
CREATED:20250111T135415Z
LAST-MODIFIED:20260407T084428Z
UID:10118308-1793368800-1793386800@www.qxmagazine.com
SUMMARY:The BOYS! BOYS! BOYS! Gallery Café
DESCRIPTION:A gallery café that promotes queer and gay fine art photography. Serving wine and coffee\, etc.
URL:https://www.qxmagazine.com/event/the-boys-boys-boys-gallery-cafe/2026-10-30/
LOCATION:Boys! Boys! Boys! Gallery Cafe\, Warren Street\, London\, W1T 5NF\, United Kingdom
CATEGORIES:Bars,Events Queer London,LGBTQ+ Art
ATTACH;FMTTYPE=image/jpeg:https://www.qxmagazine.com/wp-content/uploads/2025/01/imageedit_86_6924908505.jpg
GEO:51.5235984;-0.1416972
X-APPLE-STRUCTURED-LOCATION;VALUE=URI;X-ADDRESS=Boys! Boys! Boys! Gallery Cafe Warren Street London W1T 5NF United Kingdom;X-APPLE-RADIUS=500;X-TITLE=Warren Street:geo:-0.1416972,51.5235984
END:VEVENT
BEGIN:VEVENT
DTSTART;TZID=UTC:20261101T140000
DTEND;TZID=UTC:20261101T180000
DTSTAMP:20260424T101317
CREATED:20251106T091415Z
LAST-MODIFIED:20260330T145640Z
UID:10115456-1793541600-1793556000@www.qxmagazine.com
SUMMARY:The BOYS! BOYS! BOYS! Gallery Café
DESCRIPTION:A gallery café that promotes queer and gay fine art photography. Serving wine and coffee\, etc.
URL:https://www.qxmagazine.com/event/the-boys-boys-boys-gallery-cafe-2/2026-11-01/
LOCATION:Boys! Boys! Boys! Gallery Cafe\, Warren Street\, London\, W1T 5NF\, United Kingdom
CATEGORIES:LGBTQ+ Art
ATTACH;FMTTYPE=image/jpeg:https://www.qxmagazine.com/wp-content/uploads/2025/11/imageedit_8_5725713851.jpg
GEO:51.5235984;-0.1416972
X-APPLE-STRUCTURED-LOCATION;VALUE=URI;X-ADDRESS=Boys! Boys! Boys! Gallery Cafe Warren Street London W1T 5NF United Kingdom;X-APPLE-RADIUS=500;X-TITLE=Warren Street:geo:-0.1416972,51.5235984
END:VEVENT
BEGIN:VEVENT
DTSTART;TZID=UTC:20261103T140000
DTEND;TZID=UTC:20261103T190000
DTSTAMP:20260424T101317
CREATED:20250111T135415Z
LAST-MODIFIED:20260407T084428Z
UID:10118309-1793714400-1793732400@www.qxmagazine.com
SUMMARY:The BOYS! BOYS! BOYS! Gallery Café
DESCRIPTION:A gallery café that promotes queer and gay fine art photography. Serving wine and coffee\, etc.
URL:https://www.qxmagazine.com/event/the-boys-boys-boys-gallery-cafe/2026-11-03/
LOCATION:Boys! Boys! Boys! Gallery Cafe\, Warren Street\, London\, W1T 5NF\, United Kingdom
CATEGORIES:Bars,Events Queer London,LGBTQ+ Art
ATTACH;FMTTYPE=image/jpeg:https://www.qxmagazine.com/wp-content/uploads/2025/01/imageedit_86_6924908505.jpg
GEO:51.5235984;-0.1416972
X-APPLE-STRUCTURED-LOCATION;VALUE=URI;X-ADDRESS=Boys! Boys! Boys! Gallery Cafe Warren Street London W1T 5NF United Kingdom;X-APPLE-RADIUS=500;X-TITLE=Warren Street:geo:-0.1416972,51.5235984
END:VEVENT
BEGIN:VEVENT
DTSTART;TZID=UTC:20261104T140000
DTEND;TZID=UTC:20261104T180000
DTSTAMP:20260424T101317
CREATED:20251106T091415Z
LAST-MODIFIED:20260330T145640Z
UID:10115457-1793800800-1793815200@www.qxmagazine.com
SUMMARY:The BOYS! BOYS! BOYS! Gallery Café
DESCRIPTION:A gallery café that promotes queer and gay fine art photography. Serving wine and coffee\, etc.
URL:https://www.qxmagazine.com/event/the-boys-boys-boys-gallery-cafe-2/2026-11-04/
LOCATION:Boys! Boys! Boys! Gallery Cafe\, Warren Street\, London\, W1T 5NF\, United Kingdom
CATEGORIES:LGBTQ+ Art
ATTACH;FMTTYPE=image/jpeg:https://www.qxmagazine.com/wp-content/uploads/2025/11/imageedit_8_5725713851.jpg
GEO:51.5235984;-0.1416972
X-APPLE-STRUCTURED-LOCATION;VALUE=URI;X-ADDRESS=Boys! Boys! Boys! Gallery Cafe Warren Street London W1T 5NF United Kingdom;X-APPLE-RADIUS=500;X-TITLE=Warren Street:geo:-0.1416972,51.5235984
END:VEVENT
BEGIN:VEVENT
DTSTART;TZID=UTC:20261105T140000
DTEND;TZID=UTC:20261105T190000
DTSTAMP:20260424T101317
CREATED:20250111T135415Z
LAST-MODIFIED:20260407T084428Z
UID:10118310-1793887200-1793905200@www.qxmagazine.com
SUMMARY:The BOYS! BOYS! BOYS! Gallery Café
DESCRIPTION:A gallery café that promotes queer and gay fine art photography. Serving wine and coffee\, etc.
URL:https://www.qxmagazine.com/event/the-boys-boys-boys-gallery-cafe/2026-11-05/
LOCATION:Boys! Boys! Boys! Gallery Cafe\, Warren Street\, London\, W1T 5NF\, United Kingdom
CATEGORIES:Bars,Events Queer London,LGBTQ+ Art
ATTACH;FMTTYPE=image/jpeg:https://www.qxmagazine.com/wp-content/uploads/2025/01/imageedit_86_6924908505.jpg
GEO:51.5235984;-0.1416972
X-APPLE-STRUCTURED-LOCATION;VALUE=URI;X-ADDRESS=Boys! Boys! Boys! Gallery Cafe Warren Street London W1T 5NF United Kingdom;X-APPLE-RADIUS=500;X-TITLE=Warren Street:geo:-0.1416972,51.5235984
END:VEVENT
BEGIN:VEVENT
DTSTART;TZID=UTC:20261106T140000
DTEND;TZID=UTC:20261106T190000
DTSTAMP:20260424T101317
CREATED:20250111T135415Z
LAST-MODIFIED:20260407T084428Z
UID:10118311-1793973600-1793991600@www.qxmagazine.com
SUMMARY:The BOYS! BOYS! BOYS! Gallery Café
DESCRIPTION:A gallery café that promotes queer and gay fine art photography. Serving wine and coffee\, etc.
URL:https://www.qxmagazine.com/event/the-boys-boys-boys-gallery-cafe/2026-11-06/
LOCATION:Boys! Boys! Boys! Gallery Cafe\, Warren Street\, London\, W1T 5NF\, United Kingdom
CATEGORIES:Bars,Events Queer London,LGBTQ+ Art
ATTACH;FMTTYPE=image/jpeg:https://www.qxmagazine.com/wp-content/uploads/2025/01/imageedit_86_6924908505.jpg
GEO:51.5235984;-0.1416972
X-APPLE-STRUCTURED-LOCATION;VALUE=URI;X-ADDRESS=Boys! Boys! Boys! Gallery Cafe Warren Street London W1T 5NF United Kingdom;X-APPLE-RADIUS=500;X-TITLE=Warren Street:geo:-0.1416972,51.5235984
END:VEVENT
BEGIN:VEVENT
DTSTART;TZID=UTC:20261108T140000
DTEND;TZID=UTC:20261108T180000
DTSTAMP:20260424T101317
CREATED:20251106T091415Z
LAST-MODIFIED:20260330T145640Z
UID:10115458-1794146400-1794160800@www.qxmagazine.com
SUMMARY:The BOYS! BOYS! BOYS! Gallery Café
DESCRIPTION:A gallery café that promotes queer and gay fine art photography. Serving wine and coffee\, etc.
URL:https://www.qxmagazine.com/event/the-boys-boys-boys-gallery-cafe-2/2026-11-08/
LOCATION:Boys! Boys! Boys! Gallery Cafe\, Warren Street\, London\, W1T 5NF\, United Kingdom
CATEGORIES:LGBTQ+ Art
ATTACH;FMTTYPE=image/jpeg:https://www.qxmagazine.com/wp-content/uploads/2025/11/imageedit_8_5725713851.jpg
GEO:51.5235984;-0.1416972
X-APPLE-STRUCTURED-LOCATION;VALUE=URI;X-ADDRESS=Boys! Boys! Boys! Gallery Cafe Warren Street London W1T 5NF United Kingdom;X-APPLE-RADIUS=500;X-TITLE=Warren Street:geo:-0.1416972,51.5235984
END:VEVENT
BEGIN:VEVENT
DTSTART;TZID=UTC:20261110T140000
DTEND;TZID=UTC:20261110T190000
DTSTAMP:20260424T101317
CREATED:20250111T135415Z
LAST-MODIFIED:20260407T084428Z
UID:10118312-1794319200-1794337200@www.qxmagazine.com
SUMMARY:The BOYS! BOYS! BOYS! Gallery Café
DESCRIPTION:A gallery café that promotes queer and gay fine art photography. Serving wine and coffee\, etc.
URL:https://www.qxmagazine.com/event/the-boys-boys-boys-gallery-cafe/2026-11-10/
LOCATION:Boys! Boys! Boys! Gallery Cafe\, Warren Street\, London\, W1T 5NF\, United Kingdom
CATEGORIES:Bars,Events Queer London,LGBTQ+ Art
ATTACH;FMTTYPE=image/jpeg:https://www.qxmagazine.com/wp-content/uploads/2025/01/imageedit_86_6924908505.jpg
GEO:51.5235984;-0.1416972
X-APPLE-STRUCTURED-LOCATION;VALUE=URI;X-ADDRESS=Boys! Boys! Boys! Gallery Cafe Warren Street London W1T 5NF United Kingdom;X-APPLE-RADIUS=500;X-TITLE=Warren Street:geo:-0.1416972,51.5235984
END:VEVENT
BEGIN:VEVENT
DTSTART;TZID=UTC:20261111T140000
DTEND;TZID=UTC:20261111T180000
DTSTAMP:20260424T101317
CREATED:20251106T091415Z
LAST-MODIFIED:20260330T145640Z
UID:10115459-1794405600-1794420000@www.qxmagazine.com
SUMMARY:The BOYS! BOYS! BOYS! Gallery Café
DESCRIPTION:A gallery café that promotes queer and gay fine art photography. Serving wine and coffee\, etc.
URL:https://www.qxmagazine.com/event/the-boys-boys-boys-gallery-cafe-2/2026-11-11/
LOCATION:Boys! Boys! Boys! Gallery Cafe\, Warren Street\, London\, W1T 5NF\, United Kingdom
CATEGORIES:LGBTQ+ Art
ATTACH;FMTTYPE=image/jpeg:https://www.qxmagazine.com/wp-content/uploads/2025/11/imageedit_8_5725713851.jpg
GEO:51.5235984;-0.1416972
X-APPLE-STRUCTURED-LOCATION;VALUE=URI;X-ADDRESS=Boys! Boys! Boys! Gallery Cafe Warren Street London W1T 5NF United Kingdom;X-APPLE-RADIUS=500;X-TITLE=Warren Street:geo:-0.1416972,51.5235984
END:VEVENT
BEGIN:VEVENT
DTSTART;TZID=UTC:20261112T140000
DTEND;TZID=UTC:20261112T190000
DTSTAMP:20260424T101317
CREATED:20250111T135415Z
LAST-MODIFIED:20260407T084428Z
UID:10118313-1794492000-1794510000@www.qxmagazine.com
SUMMARY:The BOYS! BOYS! BOYS! Gallery Café
DESCRIPTION:A gallery café that promotes queer and gay fine art photography. Serving wine and coffee\, etc.
URL:https://www.qxmagazine.com/event/the-boys-boys-boys-gallery-cafe/2026-11-12/
LOCATION:Boys! Boys! Boys! Gallery Cafe\, Warren Street\, London\, W1T 5NF\, United Kingdom
CATEGORIES:Bars,Events Queer London,LGBTQ+ Art
ATTACH;FMTTYPE=image/jpeg:https://www.qxmagazine.com/wp-content/uploads/2025/01/imageedit_86_6924908505.jpg
GEO:51.5235984;-0.1416972
X-APPLE-STRUCTURED-LOCATION;VALUE=URI;X-ADDRESS=Boys! Boys! Boys! Gallery Cafe Warren Street London W1T 5NF United Kingdom;X-APPLE-RADIUS=500;X-TITLE=Warren Street:geo:-0.1416972,51.5235984
END:VEVENT
BEGIN:VEVENT
DTSTART;TZID=UTC:20261113T140000
DTEND;TZID=UTC:20261113T190000
DTSTAMP:20260424T101317
CREATED:20250111T135415Z
LAST-MODIFIED:20260407T084428Z
UID:10118314-1794578400-1794596400@www.qxmagazine.com
SUMMARY:The BOYS! BOYS! BOYS! Gallery Café
DESCRIPTION:A gallery café that promotes queer and gay fine art photography. Serving wine and coffee\, etc.
URL:https://www.qxmagazine.com/event/the-boys-boys-boys-gallery-cafe/2026-11-13/
LOCATION:Boys! Boys! Boys! Gallery Cafe\, Warren Street\, London\, W1T 5NF\, United Kingdom
CATEGORIES:Bars,Events Queer London,LGBTQ+ Art
ATTACH;FMTTYPE=image/jpeg:https://www.qxmagazine.com/wp-content/uploads/2025/01/imageedit_86_6924908505.jpg
GEO:51.5235984;-0.1416972
X-APPLE-STRUCTURED-LOCATION;VALUE=URI;X-ADDRESS=Boys! Boys! Boys! Gallery Cafe Warren Street London W1T 5NF United Kingdom;X-APPLE-RADIUS=500;X-TITLE=Warren Street:geo:-0.1416972,51.5235984
END:VEVENT
BEGIN:VEVENT
DTSTART;TZID=UTC:20261115T140000
DTEND;TZID=UTC:20261115T180000
DTSTAMP:20260424T101317
CREATED:20251106T091415Z
LAST-MODIFIED:20260330T145640Z
UID:10115460-1794751200-1794765600@www.qxmagazine.com
SUMMARY:The BOYS! BOYS! BOYS! Gallery Café
DESCRIPTION:A gallery café that promotes queer and gay fine art photography. Serving wine and coffee\, etc.
URL:https://www.qxmagazine.com/event/the-boys-boys-boys-gallery-cafe-2/2026-11-15/
LOCATION:Boys! Boys! Boys! Gallery Cafe\, Warren Street\, London\, W1T 5NF\, United Kingdom
CATEGORIES:LGBTQ+ Art
ATTACH;FMTTYPE=image/jpeg:https://www.qxmagazine.com/wp-content/uploads/2025/11/imageedit_8_5725713851.jpg
GEO:51.5235984;-0.1416972
X-APPLE-STRUCTURED-LOCATION;VALUE=URI;X-ADDRESS=Boys! Boys! Boys! Gallery Cafe Warren Street London W1T 5NF United Kingdom;X-APPLE-RADIUS=500;X-TITLE=Warren Street:geo:-0.1416972,51.5235984
END:VEVENT
BEGIN:VEVENT
DTSTART;TZID=UTC:20261117T140000
DTEND;TZID=UTC:20261117T190000
DTSTAMP:20260424T101317
CREATED:20250111T135415Z
LAST-MODIFIED:20260407T084428Z
UID:10118315-1794924000-1794942000@www.qxmagazine.com
SUMMARY:The BOYS! BOYS! BOYS! Gallery Café
DESCRIPTION:A gallery café that promotes queer and gay fine art photography. Serving wine and coffee\, etc.
URL:https://www.qxmagazine.com/event/the-boys-boys-boys-gallery-cafe/2026-11-17/
LOCATION:Boys! Boys! Boys! Gallery Cafe\, Warren Street\, London\, W1T 5NF\, United Kingdom
CATEGORIES:Bars,Events Queer London,LGBTQ+ Art
ATTACH;FMTTYPE=image/jpeg:https://www.qxmagazine.com/wp-content/uploads/2025/01/imageedit_86_6924908505.jpg
GEO:51.5235984;-0.1416972
X-APPLE-STRUCTURED-LOCATION;VALUE=URI;X-ADDRESS=Boys! Boys! Boys! Gallery Cafe Warren Street London W1T 5NF United Kingdom;X-APPLE-RADIUS=500;X-TITLE=Warren Street:geo:-0.1416972,51.5235984
END:VEVENT
BEGIN:VEVENT
DTSTART;TZID=UTC:20261118T140000
DTEND;TZID=UTC:20261118T180000
DTSTAMP:20260424T101317
CREATED:20251106T091415Z
LAST-MODIFIED:20260330T145640Z
UID:10115461-1795010400-1795024800@www.qxmagazine.com
SUMMARY:The BOYS! BOYS! BOYS! Gallery Café
DESCRIPTION:A gallery café that promotes queer and gay fine art photography. Serving wine and coffee\, etc.
URL:https://www.qxmagazine.com/event/the-boys-boys-boys-gallery-cafe-2/2026-11-18/
LOCATION:Boys! Boys! Boys! Gallery Cafe\, Warren Street\, London\, W1T 5NF\, United Kingdom
CATEGORIES:LGBTQ+ Art
ATTACH;FMTTYPE=image/jpeg:https://www.qxmagazine.com/wp-content/uploads/2025/11/imageedit_8_5725713851.jpg
GEO:51.5235984;-0.1416972
X-APPLE-STRUCTURED-LOCATION;VALUE=URI;X-ADDRESS=Boys! Boys! Boys! Gallery Cafe Warren Street London W1T 5NF United Kingdom;X-APPLE-RADIUS=500;X-TITLE=Warren Street:geo:-0.1416972,51.5235984
END:VEVENT
BEGIN:VEVENT
DTSTART;TZID=UTC:20261119T140000
DTEND;TZID=UTC:20261119T190000
DTSTAMP:20260424T101317
CREATED:20250111T135415Z
LAST-MODIFIED:20260407T084428Z
UID:10118316-1795096800-1795114800@www.qxmagazine.com
SUMMARY:The BOYS! BOYS! BOYS! Gallery Café
DESCRIPTION:A gallery café that promotes queer and gay fine art photography. Serving wine and coffee\, etc.
URL:https://www.qxmagazine.com/event/the-boys-boys-boys-gallery-cafe/2026-11-19/
LOCATION:Boys! Boys! Boys! Gallery Cafe\, Warren Street\, London\, W1T 5NF\, United Kingdom
CATEGORIES:Bars,Events Queer London,LGBTQ+ Art
ATTACH;FMTTYPE=image/jpeg:https://www.qxmagazine.com/wp-content/uploads/2025/01/imageedit_86_6924908505.jpg
GEO:51.5235984;-0.1416972
X-APPLE-STRUCTURED-LOCATION;VALUE=URI;X-ADDRESS=Boys! Boys! Boys! Gallery Cafe Warren Street London W1T 5NF United Kingdom;X-APPLE-RADIUS=500;X-TITLE=Warren Street:geo:-0.1416972,51.5235984
END:VEVENT
END:VCALENDAR