BEGIN:VCALENDAR
VERSION:2.0
PRODID:-//QX Magazine - ECPv6.15.20//NONSGML v1.0//EN
CALSCALE:GREGORIAN
METHOD:PUBLISH
X-ORIGINAL-URL:https://www.qxmagazine.com
X-WR-CALDESC:Events for QX Magazine
REFRESH-INTERVAL;VALUE=DURATION:PT1H
X-Robots-Tag:noindex
X-PUBLISHED-TTL:PT1H
BEGIN:VTIMEZONE
TZID:UTC
BEGIN:STANDARD
TZOFFSETFROM:+0000
TZOFFSETTO:+0000
TZNAME:UTC
DTSTART:20250101T000000
END:STANDARD
END:VTIMEZONE
BEGIN:VEVENT
DTSTART;TZID=UTC:20261120T140000
DTEND;TZID=UTC:20261120T190000
DTSTAMP:20260424T114034
CREATED:20250111T135415Z
LAST-MODIFIED:20260407T084428Z
UID:10118317-1795183200-1795201200@www.qxmagazine.com
SUMMARY:The BOYS! BOYS! BOYS! Gallery Café
DESCRIPTION:A gallery café that promotes queer and gay fine art photography. Serving wine and coffee\, etc.
URL:https://www.qxmagazine.com/event/the-boys-boys-boys-gallery-cafe/2026-11-20/
LOCATION:Boys! Boys! Boys! Gallery Cafe\, Warren Street\, London\, W1T 5NF\, United Kingdom
CATEGORIES:Bars,Events Queer London,LGBTQ+ Art
ATTACH;FMTTYPE=image/jpeg:https://www.qxmagazine.com/wp-content/uploads/2025/01/imageedit_86_6924908505.jpg
GEO:51.5235984;-0.1416972
X-APPLE-STRUCTURED-LOCATION;VALUE=URI;X-ADDRESS=Boys! Boys! Boys! Gallery Cafe Warren Street London W1T 5NF United Kingdom;X-APPLE-RADIUS=500;X-TITLE=Warren Street:geo:-0.1416972,51.5235984
END:VEVENT
BEGIN:VEVENT
DTSTART;TZID=UTC:20261122T140000
DTEND;TZID=UTC:20261122T180000
DTSTAMP:20260424T114034
CREATED:20251106T091415Z
LAST-MODIFIED:20260330T145640Z
UID:10115462-1795356000-1795370400@www.qxmagazine.com
SUMMARY:The BOYS! BOYS! BOYS! Gallery Café
DESCRIPTION:A gallery café that promotes queer and gay fine art photography. Serving wine and coffee\, etc.
URL:https://www.qxmagazine.com/event/the-boys-boys-boys-gallery-cafe-2/2026-11-22/
LOCATION:Boys! Boys! Boys! Gallery Cafe\, Warren Street\, London\, W1T 5NF\, United Kingdom
CATEGORIES:LGBTQ+ Art
ATTACH;FMTTYPE=image/jpeg:https://www.qxmagazine.com/wp-content/uploads/2025/11/imageedit_8_5725713851.jpg
GEO:51.5235984;-0.1416972
X-APPLE-STRUCTURED-LOCATION;VALUE=URI;X-ADDRESS=Boys! Boys! Boys! Gallery Cafe Warren Street London W1T 5NF United Kingdom;X-APPLE-RADIUS=500;X-TITLE=Warren Street:geo:-0.1416972,51.5235984
END:VEVENT
BEGIN:VEVENT
DTSTART;TZID=UTC:20261124T140000
DTEND;TZID=UTC:20261124T190000
DTSTAMP:20260424T114034
CREATED:20250111T135415Z
LAST-MODIFIED:20260407T084428Z
UID:10118318-1795528800-1795546800@www.qxmagazine.com
SUMMARY:The BOYS! BOYS! BOYS! Gallery Café
DESCRIPTION:A gallery café that promotes queer and gay fine art photography. Serving wine and coffee\, etc.
URL:https://www.qxmagazine.com/event/the-boys-boys-boys-gallery-cafe/2026-11-24/
LOCATION:Boys! Boys! Boys! Gallery Cafe\, Warren Street\, London\, W1T 5NF\, United Kingdom
CATEGORIES:Bars,Events Queer London,LGBTQ+ Art
ATTACH;FMTTYPE=image/jpeg:https://www.qxmagazine.com/wp-content/uploads/2025/01/imageedit_86_6924908505.jpg
GEO:51.5235984;-0.1416972
X-APPLE-STRUCTURED-LOCATION;VALUE=URI;X-ADDRESS=Boys! Boys! Boys! Gallery Cafe Warren Street London W1T 5NF United Kingdom;X-APPLE-RADIUS=500;X-TITLE=Warren Street:geo:-0.1416972,51.5235984
END:VEVENT
BEGIN:VEVENT
DTSTART;TZID=UTC:20261125T140000
DTEND;TZID=UTC:20261125T180000
DTSTAMP:20260424T114034
CREATED:20251106T091415Z
LAST-MODIFIED:20260330T145640Z
UID:10115463-1795615200-1795629600@www.qxmagazine.com
SUMMARY:The BOYS! BOYS! BOYS! Gallery Café
DESCRIPTION:A gallery café that promotes queer and gay fine art photography. Serving wine and coffee\, etc.
URL:https://www.qxmagazine.com/event/the-boys-boys-boys-gallery-cafe-2/2026-11-25/
LOCATION:Boys! Boys! Boys! Gallery Cafe\, Warren Street\, London\, W1T 5NF\, United Kingdom
CATEGORIES:LGBTQ+ Art
ATTACH;FMTTYPE=image/jpeg:https://www.qxmagazine.com/wp-content/uploads/2025/11/imageedit_8_5725713851.jpg
GEO:51.5235984;-0.1416972
X-APPLE-STRUCTURED-LOCATION;VALUE=URI;X-ADDRESS=Boys! Boys! Boys! Gallery Cafe Warren Street London W1T 5NF United Kingdom;X-APPLE-RADIUS=500;X-TITLE=Warren Street:geo:-0.1416972,51.5235984
END:VEVENT
BEGIN:VEVENT
DTSTART;TZID=UTC:20261126T140000
DTEND;TZID=UTC:20261126T190000
DTSTAMP:20260424T114034
CREATED:20250111T135415Z
LAST-MODIFIED:20260407T084428Z
UID:10118319-1795701600-1795719600@www.qxmagazine.com
SUMMARY:The BOYS! BOYS! BOYS! Gallery Café
DESCRIPTION:A gallery café that promotes queer and gay fine art photography. Serving wine and coffee\, etc.
URL:https://www.qxmagazine.com/event/the-boys-boys-boys-gallery-cafe/2026-11-26/
LOCATION:Boys! Boys! Boys! Gallery Cafe\, Warren Street\, London\, W1T 5NF\, United Kingdom
CATEGORIES:Bars,Events Queer London,LGBTQ+ Art
ATTACH;FMTTYPE=image/jpeg:https://www.qxmagazine.com/wp-content/uploads/2025/01/imageedit_86_6924908505.jpg
GEO:51.5235984;-0.1416972
X-APPLE-STRUCTURED-LOCATION;VALUE=URI;X-ADDRESS=Boys! Boys! Boys! Gallery Cafe Warren Street London W1T 5NF United Kingdom;X-APPLE-RADIUS=500;X-TITLE=Warren Street:geo:-0.1416972,51.5235984
END:VEVENT
BEGIN:VEVENT
DTSTART;TZID=UTC:20261127T140000
DTEND;TZID=UTC:20261127T190000
DTSTAMP:20260424T114034
CREATED:20250111T135415Z
LAST-MODIFIED:20260407T084428Z
UID:10118320-1795788000-1795806000@www.qxmagazine.com
SUMMARY:The BOYS! BOYS! BOYS! Gallery Café
DESCRIPTION:A gallery café that promotes queer and gay fine art photography. Serving wine and coffee\, etc.
URL:https://www.qxmagazine.com/event/the-boys-boys-boys-gallery-cafe/2026-11-27/
LOCATION:Boys! Boys! Boys! Gallery Cafe\, Warren Street\, London\, W1T 5NF\, United Kingdom
CATEGORIES:Bars,Events Queer London,LGBTQ+ Art
ATTACH;FMTTYPE=image/jpeg:https://www.qxmagazine.com/wp-content/uploads/2025/01/imageedit_86_6924908505.jpg
GEO:51.5235984;-0.1416972
X-APPLE-STRUCTURED-LOCATION;VALUE=URI;X-ADDRESS=Boys! Boys! Boys! Gallery Cafe Warren Street London W1T 5NF United Kingdom;X-APPLE-RADIUS=500;X-TITLE=Warren Street:geo:-0.1416972,51.5235984
END:VEVENT
BEGIN:VEVENT
DTSTART;TZID=UTC:20261129T140000
DTEND;TZID=UTC:20261129T180000
DTSTAMP:20260424T114034
CREATED:20251106T091415Z
LAST-MODIFIED:20260330T145640Z
UID:10115464-1795960800-1795975200@www.qxmagazine.com
SUMMARY:The BOYS! BOYS! BOYS! Gallery Café
DESCRIPTION:A gallery café that promotes queer and gay fine art photography. Serving wine and coffee\, etc.
URL:https://www.qxmagazine.com/event/the-boys-boys-boys-gallery-cafe-2/2026-11-29/
LOCATION:Boys! Boys! Boys! Gallery Cafe\, Warren Street\, London\, W1T 5NF\, United Kingdom
CATEGORIES:LGBTQ+ Art
ATTACH;FMTTYPE=image/jpeg:https://www.qxmagazine.com/wp-content/uploads/2025/11/imageedit_8_5725713851.jpg
GEO:51.5235984;-0.1416972
X-APPLE-STRUCTURED-LOCATION;VALUE=URI;X-ADDRESS=Boys! Boys! Boys! Gallery Cafe Warren Street London W1T 5NF United Kingdom;X-APPLE-RADIUS=500;X-TITLE=Warren Street:geo:-0.1416972,51.5235984
END:VEVENT
BEGIN:VEVENT
DTSTART;TZID=UTC:20261201T140000
DTEND;TZID=UTC:20261201T190000
DTSTAMP:20260424T114034
CREATED:20250111T135415Z
LAST-MODIFIED:20260407T084428Z
UID:10118321-1796133600-1796151600@www.qxmagazine.com
SUMMARY:The BOYS! BOYS! BOYS! Gallery Café
DESCRIPTION:A gallery café that promotes queer and gay fine art photography. Serving wine and coffee\, etc.
URL:https://www.qxmagazine.com/event/the-boys-boys-boys-gallery-cafe/2026-12-01/
LOCATION:Boys! Boys! Boys! Gallery Cafe\, Warren Street\, London\, W1T 5NF\, United Kingdom
CATEGORIES:Bars,Events Queer London,LGBTQ+ Art
ATTACH;FMTTYPE=image/jpeg:https://www.qxmagazine.com/wp-content/uploads/2025/01/imageedit_86_6924908505.jpg
GEO:51.5235984;-0.1416972
X-APPLE-STRUCTURED-LOCATION;VALUE=URI;X-ADDRESS=Boys! Boys! Boys! Gallery Cafe Warren Street London W1T 5NF United Kingdom;X-APPLE-RADIUS=500;X-TITLE=Warren Street:geo:-0.1416972,51.5235984
END:VEVENT
BEGIN:VEVENT
DTSTART;TZID=UTC:20261202T140000
DTEND;TZID=UTC:20261202T180000
DTSTAMP:20260424T114034
CREATED:20251106T091415Z
LAST-MODIFIED:20260330T145640Z
UID:10115465-1796220000-1796234400@www.qxmagazine.com
SUMMARY:The BOYS! BOYS! BOYS! Gallery Café
DESCRIPTION:A gallery café that promotes queer and gay fine art photography. Serving wine and coffee\, etc.
URL:https://www.qxmagazine.com/event/the-boys-boys-boys-gallery-cafe-2/2026-12-02/
LOCATION:Boys! Boys! Boys! Gallery Cafe\, Warren Street\, London\, W1T 5NF\, United Kingdom
CATEGORIES:LGBTQ+ Art
ATTACH;FMTTYPE=image/jpeg:https://www.qxmagazine.com/wp-content/uploads/2025/11/imageedit_8_5725713851.jpg
GEO:51.5235984;-0.1416972
X-APPLE-STRUCTURED-LOCATION;VALUE=URI;X-ADDRESS=Boys! Boys! Boys! Gallery Cafe Warren Street London W1T 5NF United Kingdom;X-APPLE-RADIUS=500;X-TITLE=Warren Street:geo:-0.1416972,51.5235984
END:VEVENT
BEGIN:VEVENT
DTSTART;TZID=UTC:20261203T140000
DTEND;TZID=UTC:20261203T190000
DTSTAMP:20260424T114034
CREATED:20250111T135415Z
LAST-MODIFIED:20260407T084428Z
UID:10118322-1796306400-1796324400@www.qxmagazine.com
SUMMARY:The BOYS! BOYS! BOYS! Gallery Café
DESCRIPTION:A gallery café that promotes queer and gay fine art photography. Serving wine and coffee\, etc.
URL:https://www.qxmagazine.com/event/the-boys-boys-boys-gallery-cafe/2026-12-03/
LOCATION:Boys! Boys! Boys! Gallery Cafe\, Warren Street\, London\, W1T 5NF\, United Kingdom
CATEGORIES:Bars,Events Queer London,LGBTQ+ Art
ATTACH;FMTTYPE=image/jpeg:https://www.qxmagazine.com/wp-content/uploads/2025/01/imageedit_86_6924908505.jpg
GEO:51.5235984;-0.1416972
X-APPLE-STRUCTURED-LOCATION;VALUE=URI;X-ADDRESS=Boys! Boys! Boys! Gallery Cafe Warren Street London W1T 5NF United Kingdom;X-APPLE-RADIUS=500;X-TITLE=Warren Street:geo:-0.1416972,51.5235984
END:VEVENT
BEGIN:VEVENT
DTSTART;TZID=UTC:20261204T140000
DTEND;TZID=UTC:20261204T190000
DTSTAMP:20260424T114034
CREATED:20250111T135415Z
LAST-MODIFIED:20260407T084428Z
UID:10118323-1796392800-1796410800@www.qxmagazine.com
SUMMARY:The BOYS! BOYS! BOYS! Gallery Café
DESCRIPTION:A gallery café that promotes queer and gay fine art photography. Serving wine and coffee\, etc.
URL:https://www.qxmagazine.com/event/the-boys-boys-boys-gallery-cafe/2026-12-04/
LOCATION:Boys! Boys! Boys! Gallery Cafe\, Warren Street\, London\, W1T 5NF\, United Kingdom
CATEGORIES:Bars,Events Queer London,LGBTQ+ Art
ATTACH;FMTTYPE=image/jpeg:https://www.qxmagazine.com/wp-content/uploads/2025/01/imageedit_86_6924908505.jpg
GEO:51.5235984;-0.1416972
X-APPLE-STRUCTURED-LOCATION;VALUE=URI;X-ADDRESS=Boys! Boys! Boys! Gallery Cafe Warren Street London W1T 5NF United Kingdom;X-APPLE-RADIUS=500;X-TITLE=Warren Street:geo:-0.1416972,51.5235984
END:VEVENT
BEGIN:VEVENT
DTSTART;TZID=UTC:20261206T140000
DTEND;TZID=UTC:20261206T180000
DTSTAMP:20260424T114034
CREATED:20251106T091415Z
LAST-MODIFIED:20260330T145640Z
UID:10115466-1796565600-1796580000@www.qxmagazine.com
SUMMARY:The BOYS! BOYS! BOYS! Gallery Café
DESCRIPTION:A gallery café that promotes queer and gay fine art photography. Serving wine and coffee\, etc.
URL:https://www.qxmagazine.com/event/the-boys-boys-boys-gallery-cafe-2/2026-12-06/
LOCATION:Boys! Boys! Boys! Gallery Cafe\, Warren Street\, London\, W1T 5NF\, United Kingdom
CATEGORIES:LGBTQ+ Art
ATTACH;FMTTYPE=image/jpeg:https://www.qxmagazine.com/wp-content/uploads/2025/11/imageedit_8_5725713851.jpg
GEO:51.5235984;-0.1416972
X-APPLE-STRUCTURED-LOCATION;VALUE=URI;X-ADDRESS=Boys! Boys! Boys! Gallery Cafe Warren Street London W1T 5NF United Kingdom;X-APPLE-RADIUS=500;X-TITLE=Warren Street:geo:-0.1416972,51.5235984
END:VEVENT
BEGIN:VEVENT
DTSTART;TZID=UTC:20261208T140000
DTEND;TZID=UTC:20261208T190000
DTSTAMP:20260424T114034
CREATED:20250111T135415Z
LAST-MODIFIED:20260407T084428Z
UID:10118324-1796738400-1796756400@www.qxmagazine.com
SUMMARY:The BOYS! BOYS! BOYS! Gallery Café
DESCRIPTION:A gallery café that promotes queer and gay fine art photography. Serving wine and coffee\, etc.
URL:https://www.qxmagazine.com/event/the-boys-boys-boys-gallery-cafe/2026-12-08/
LOCATION:Boys! Boys! Boys! Gallery Cafe\, Warren Street\, London\, W1T 5NF\, United Kingdom
CATEGORIES:Bars,Events Queer London,LGBTQ+ Art
ATTACH;FMTTYPE=image/jpeg:https://www.qxmagazine.com/wp-content/uploads/2025/01/imageedit_86_6924908505.jpg
GEO:51.5235984;-0.1416972
X-APPLE-STRUCTURED-LOCATION;VALUE=URI;X-ADDRESS=Boys! Boys! Boys! Gallery Cafe Warren Street London W1T 5NF United Kingdom;X-APPLE-RADIUS=500;X-TITLE=Warren Street:geo:-0.1416972,51.5235984
END:VEVENT
BEGIN:VEVENT
DTSTART;TZID=UTC:20261209T140000
DTEND;TZID=UTC:20261209T180000
DTSTAMP:20260424T114034
CREATED:20251106T091415Z
LAST-MODIFIED:20260330T145640Z
UID:10115467-1796824800-1796839200@www.qxmagazine.com
SUMMARY:The BOYS! BOYS! BOYS! Gallery Café
DESCRIPTION:A gallery café that promotes queer and gay fine art photography. Serving wine and coffee\, etc.
URL:https://www.qxmagazine.com/event/the-boys-boys-boys-gallery-cafe-2/2026-12-09/
LOCATION:Boys! Boys! Boys! Gallery Cafe\, Warren Street\, London\, W1T 5NF\, United Kingdom
CATEGORIES:LGBTQ+ Art
ATTACH;FMTTYPE=image/jpeg:https://www.qxmagazine.com/wp-content/uploads/2025/11/imageedit_8_5725713851.jpg
GEO:51.5235984;-0.1416972
X-APPLE-STRUCTURED-LOCATION;VALUE=URI;X-ADDRESS=Boys! Boys! Boys! Gallery Cafe Warren Street London W1T 5NF United Kingdom;X-APPLE-RADIUS=500;X-TITLE=Warren Street:geo:-0.1416972,51.5235984
END:VEVENT
BEGIN:VEVENT
DTSTART;TZID=UTC:20261210T140000
DTEND;TZID=UTC:20261210T190000
DTSTAMP:20260424T114034
CREATED:20250111T135415Z
LAST-MODIFIED:20260407T084428Z
UID:10118325-1796911200-1796929200@www.qxmagazine.com
SUMMARY:The BOYS! BOYS! BOYS! Gallery Café
DESCRIPTION:A gallery café that promotes queer and gay fine art photography. Serving wine and coffee\, etc.
URL:https://www.qxmagazine.com/event/the-boys-boys-boys-gallery-cafe/2026-12-10/
LOCATION:Boys! Boys! Boys! Gallery Cafe\, Warren Street\, London\, W1T 5NF\, United Kingdom
CATEGORIES:Bars,Events Queer London,LGBTQ+ Art
ATTACH;FMTTYPE=image/jpeg:https://www.qxmagazine.com/wp-content/uploads/2025/01/imageedit_86_6924908505.jpg
GEO:51.5235984;-0.1416972
X-APPLE-STRUCTURED-LOCATION;VALUE=URI;X-ADDRESS=Boys! Boys! Boys! Gallery Cafe Warren Street London W1T 5NF United Kingdom;X-APPLE-RADIUS=500;X-TITLE=Warren Street:geo:-0.1416972,51.5235984
END:VEVENT
BEGIN:VEVENT
DTSTART;TZID=UTC:20261211T140000
DTEND;TZID=UTC:20261211T190000
DTSTAMP:20260424T114034
CREATED:20250111T135415Z
LAST-MODIFIED:20260407T084428Z
UID:10118326-1796997600-1797015600@www.qxmagazine.com
SUMMARY:The BOYS! BOYS! BOYS! Gallery Café
DESCRIPTION:A gallery café that promotes queer and gay fine art photography. Serving wine and coffee\, etc.
URL:https://www.qxmagazine.com/event/the-boys-boys-boys-gallery-cafe/2026-12-11/
LOCATION:Boys! Boys! Boys! Gallery Cafe\, Warren Street\, London\, W1T 5NF\, United Kingdom
CATEGORIES:Bars,Events Queer London,LGBTQ+ Art
ATTACH;FMTTYPE=image/jpeg:https://www.qxmagazine.com/wp-content/uploads/2025/01/imageedit_86_6924908505.jpg
GEO:51.5235984;-0.1416972
X-APPLE-STRUCTURED-LOCATION;VALUE=URI;X-ADDRESS=Boys! Boys! Boys! Gallery Cafe Warren Street London W1T 5NF United Kingdom;X-APPLE-RADIUS=500;X-TITLE=Warren Street:geo:-0.1416972,51.5235984
END:VEVENT
BEGIN:VEVENT
DTSTART;TZID=UTC:20261213T140000
DTEND;TZID=UTC:20261213T180000
DTSTAMP:20260424T114034
CREATED:20251106T091415Z
LAST-MODIFIED:20260330T145640Z
UID:10115468-1797170400-1797184800@www.qxmagazine.com
SUMMARY:The BOYS! BOYS! BOYS! Gallery Café
DESCRIPTION:A gallery café that promotes queer and gay fine art photography. Serving wine and coffee\, etc.
URL:https://www.qxmagazine.com/event/the-boys-boys-boys-gallery-cafe-2/2026-12-13/
LOCATION:Boys! Boys! Boys! Gallery Cafe\, Warren Street\, London\, W1T 5NF\, United Kingdom
CATEGORIES:LGBTQ+ Art
ATTACH;FMTTYPE=image/jpeg:https://www.qxmagazine.com/wp-content/uploads/2025/11/imageedit_8_5725713851.jpg
GEO:51.5235984;-0.1416972
X-APPLE-STRUCTURED-LOCATION;VALUE=URI;X-ADDRESS=Boys! Boys! Boys! Gallery Cafe Warren Street London W1T 5NF United Kingdom;X-APPLE-RADIUS=500;X-TITLE=Warren Street:geo:-0.1416972,51.5235984
END:VEVENT
BEGIN:VEVENT
DTSTART;TZID=UTC:20261215T140000
DTEND;TZID=UTC:20261215T190000
DTSTAMP:20260424T114034
CREATED:20250111T135415Z
LAST-MODIFIED:20260407T084428Z
UID:10118327-1797343200-1797361200@www.qxmagazine.com
SUMMARY:The BOYS! BOYS! BOYS! Gallery Café
DESCRIPTION:A gallery café that promotes queer and gay fine art photography. Serving wine and coffee\, etc.
URL:https://www.qxmagazine.com/event/the-boys-boys-boys-gallery-cafe/2026-12-15/
LOCATION:Boys! Boys! Boys! Gallery Cafe\, Warren Street\, London\, W1T 5NF\, United Kingdom
CATEGORIES:Bars,Events Queer London,LGBTQ+ Art
ATTACH;FMTTYPE=image/jpeg:https://www.qxmagazine.com/wp-content/uploads/2025/01/imageedit_86_6924908505.jpg
GEO:51.5235984;-0.1416972
X-APPLE-STRUCTURED-LOCATION;VALUE=URI;X-ADDRESS=Boys! Boys! Boys! Gallery Cafe Warren Street London W1T 5NF United Kingdom;X-APPLE-RADIUS=500;X-TITLE=Warren Street:geo:-0.1416972,51.5235984
END:VEVENT
BEGIN:VEVENT
DTSTART;TZID=UTC:20261216T140000
DTEND;TZID=UTC:20261216T180000
DTSTAMP:20260424T114034
CREATED:20251106T091415Z
LAST-MODIFIED:20260330T145640Z
UID:10115469-1797429600-1797444000@www.qxmagazine.com
SUMMARY:The BOYS! BOYS! BOYS! Gallery Café
DESCRIPTION:A gallery café that promotes queer and gay fine art photography. Serving wine and coffee\, etc.
URL:https://www.qxmagazine.com/event/the-boys-boys-boys-gallery-cafe-2/2026-12-16/
LOCATION:Boys! Boys! Boys! Gallery Cafe\, Warren Street\, London\, W1T 5NF\, United Kingdom
CATEGORIES:LGBTQ+ Art
ATTACH;FMTTYPE=image/jpeg:https://www.qxmagazine.com/wp-content/uploads/2025/11/imageedit_8_5725713851.jpg
GEO:51.5235984;-0.1416972
X-APPLE-STRUCTURED-LOCATION;VALUE=URI;X-ADDRESS=Boys! Boys! Boys! Gallery Cafe Warren Street London W1T 5NF United Kingdom;X-APPLE-RADIUS=500;X-TITLE=Warren Street:geo:-0.1416972,51.5235984
END:VEVENT
BEGIN:VEVENT
DTSTART;TZID=UTC:20261217T140000
DTEND;TZID=UTC:20261217T190000
DTSTAMP:20260424T114034
CREATED:20250111T135415Z
LAST-MODIFIED:20260407T084428Z
UID:10118328-1797516000-1797534000@www.qxmagazine.com
SUMMARY:The BOYS! BOYS! BOYS! Gallery Café
DESCRIPTION:A gallery café that promotes queer and gay fine art photography. Serving wine and coffee\, etc.
URL:https://www.qxmagazine.com/event/the-boys-boys-boys-gallery-cafe/2026-12-17/
LOCATION:Boys! Boys! Boys! Gallery Cafe\, Warren Street\, London\, W1T 5NF\, United Kingdom
CATEGORIES:Bars,Events Queer London,LGBTQ+ Art
ATTACH;FMTTYPE=image/jpeg:https://www.qxmagazine.com/wp-content/uploads/2025/01/imageedit_86_6924908505.jpg
GEO:51.5235984;-0.1416972
X-APPLE-STRUCTURED-LOCATION;VALUE=URI;X-ADDRESS=Boys! Boys! Boys! Gallery Cafe Warren Street London W1T 5NF United Kingdom;X-APPLE-RADIUS=500;X-TITLE=Warren Street:geo:-0.1416972,51.5235984
END:VEVENT
BEGIN:VEVENT
DTSTART;TZID=UTC:20261218T140000
DTEND;TZID=UTC:20261218T190000
DTSTAMP:20260424T114034
CREATED:20250111T135415Z
LAST-MODIFIED:20260407T084428Z
UID:10118329-1797602400-1797620400@www.qxmagazine.com
SUMMARY:The BOYS! BOYS! BOYS! Gallery Café
DESCRIPTION:A gallery café that promotes queer and gay fine art photography. Serving wine and coffee\, etc.
URL:https://www.qxmagazine.com/event/the-boys-boys-boys-gallery-cafe/2026-12-18/
LOCATION:Boys! Boys! Boys! Gallery Cafe\, Warren Street\, London\, W1T 5NF\, United Kingdom
CATEGORIES:Bars,Events Queer London,LGBTQ+ Art
ATTACH;FMTTYPE=image/jpeg:https://www.qxmagazine.com/wp-content/uploads/2025/01/imageedit_86_6924908505.jpg
GEO:51.5235984;-0.1416972
X-APPLE-STRUCTURED-LOCATION;VALUE=URI;X-ADDRESS=Boys! Boys! Boys! Gallery Cafe Warren Street London W1T 5NF United Kingdom;X-APPLE-RADIUS=500;X-TITLE=Warren Street:geo:-0.1416972,51.5235984
END:VEVENT
BEGIN:VEVENT
DTSTART;TZID=UTC:20261220T140000
DTEND;TZID=UTC:20261220T180000
DTSTAMP:20260424T114034
CREATED:20251106T091415Z
LAST-MODIFIED:20260330T145640Z
UID:10115470-1797775200-1797789600@www.qxmagazine.com
SUMMARY:The BOYS! BOYS! BOYS! Gallery Café
DESCRIPTION:A gallery café that promotes queer and gay fine art photography. Serving wine and coffee\, etc.
URL:https://www.qxmagazine.com/event/the-boys-boys-boys-gallery-cafe-2/2026-12-20/
LOCATION:Boys! Boys! Boys! Gallery Cafe\, Warren Street\, London\, W1T 5NF\, United Kingdom
CATEGORIES:LGBTQ+ Art
ATTACH;FMTTYPE=image/jpeg:https://www.qxmagazine.com/wp-content/uploads/2025/11/imageedit_8_5725713851.jpg
GEO:51.5235984;-0.1416972
X-APPLE-STRUCTURED-LOCATION;VALUE=URI;X-ADDRESS=Boys! Boys! Boys! Gallery Cafe Warren Street London W1T 5NF United Kingdom;X-APPLE-RADIUS=500;X-TITLE=Warren Street:geo:-0.1416972,51.5235984
END:VEVENT
BEGIN:VEVENT
DTSTART;TZID=UTC:20261222T140000
DTEND;TZID=UTC:20261222T190000
DTSTAMP:20260424T114034
CREATED:20250111T135415Z
LAST-MODIFIED:20260407T084428Z
UID:10118330-1797948000-1797966000@www.qxmagazine.com
SUMMARY:The BOYS! BOYS! BOYS! Gallery Café
DESCRIPTION:A gallery café that promotes queer and gay fine art photography. Serving wine and coffee\, etc.
URL:https://www.qxmagazine.com/event/the-boys-boys-boys-gallery-cafe/2026-12-22/
LOCATION:Boys! Boys! Boys! Gallery Cafe\, Warren Street\, London\, W1T 5NF\, United Kingdom
CATEGORIES:Bars,Events Queer London,LGBTQ+ Art
ATTACH;FMTTYPE=image/jpeg:https://www.qxmagazine.com/wp-content/uploads/2025/01/imageedit_86_6924908505.jpg
GEO:51.5235984;-0.1416972
X-APPLE-STRUCTURED-LOCATION;VALUE=URI;X-ADDRESS=Boys! Boys! Boys! Gallery Cafe Warren Street London W1T 5NF United Kingdom;X-APPLE-RADIUS=500;X-TITLE=Warren Street:geo:-0.1416972,51.5235984
END:VEVENT
BEGIN:VEVENT
DTSTART;TZID=UTC:20261223T140000
DTEND;TZID=UTC:20261223T180000
DTSTAMP:20260424T114034
CREATED:20251106T091415Z
LAST-MODIFIED:20260330T145640Z
UID:10115471-1798034400-1798048800@www.qxmagazine.com
SUMMARY:The BOYS! BOYS! BOYS! Gallery Café
DESCRIPTION:A gallery café that promotes queer and gay fine art photography. Serving wine and coffee\, etc.
URL:https://www.qxmagazine.com/event/the-boys-boys-boys-gallery-cafe-2/2026-12-23/
LOCATION:Boys! Boys! Boys! Gallery Cafe\, Warren Street\, London\, W1T 5NF\, United Kingdom
CATEGORIES:LGBTQ+ Art
ATTACH;FMTTYPE=image/jpeg:https://www.qxmagazine.com/wp-content/uploads/2025/11/imageedit_8_5725713851.jpg
GEO:51.5235984;-0.1416972
X-APPLE-STRUCTURED-LOCATION;VALUE=URI;X-ADDRESS=Boys! Boys! Boys! Gallery Cafe Warren Street London W1T 5NF United Kingdom;X-APPLE-RADIUS=500;X-TITLE=Warren Street:geo:-0.1416972,51.5235984
END:VEVENT
END:VCALENDAR