BEGIN:VCALENDAR
VERSION:2.0
PRODID:-//QX Magazine - ECPv6.15.20//NONSGML v1.0//EN
CALSCALE:GREGORIAN
METHOD:PUBLISH
X-ORIGINAL-URL:https://www.qxmagazine.com
X-WR-CALDESC:Events for QX Magazine
REFRESH-INTERVAL;VALUE=DURATION:PT1H
X-Robots-Tag:noindex
X-PUBLISHED-TTL:PT1H
BEGIN:VTIMEZONE
TZID:UTC
BEGIN:STANDARD
TZOFFSETFROM:+0000
TZOFFSETTO:+0000
TZNAME:UTC
DTSTART:20240101T000000
END:STANDARD
END:VTIMEZONE
BEGIN:VEVENT
DTSTART;TZID=UTC:20251026T150000
DTEND;TZID=UTC:20251026T220000
DTSTAMP:20260419T151655
CREATED:20251004T130221Z
LAST-MODIFIED:20251009T151244Z
UID:10103170-1761490800-1761516000@www.qxmagazine.com
SUMMARY:Sunday Happy Day: The Halloween Edition
DESCRIPTION:Your fabulous host: The one and only Yveelucious. SHD is all about inclusivity and creating an attitude-free space—a warm\, welcoming environment for all queers and their allies. 
URL:https://www.qxmagazine.com/event/sunday-happy-day-the-halloween-edition/
LOCATION:Century Club\, 61-63 Shaftesbury Avenue\, London\, W1D 6LQ\, United Kingdom
CATEGORIES:Club Nights,Events Queer London,Featured Event,LGBTQ+ Halloween
ATTACH;FMTTYPE=image/jpeg:https://www.qxmagazine.com/wp-content/uploads/2025/10/imageedit_6_2007277434-2.jpg
END:VEVENT
BEGIN:VEVENT
DTSTART;TZID=UTC:20250705T160000
DTEND;TZID=UTC:20250706T010000
DTSTAMP:20260419T151655
CREATED:20250604T110225Z
LAST-MODIFIED:20250705T120241Z
UID:10100307-1751731200-1751763600@www.qxmagazine.com
SUMMARY:Sunday Happy Sunday presents Pride Carnival Party SOLD OUT
DESCRIPTION:Now in its 20th year\, Sunday Happy Day (SHD) is a queer-led club night for LGBTQ+ individuals and our allies\, and is known for creating joy-fuelled and inclusive parties. \nPride Carnival Party features a stellar DJ lineup\, including headline DJ Ruby Savage\, guest DJ Afrochick\, and SHD residents Ben Jamin\, Aquila\, Sugabear\, and Alex Eugiene. \nEnjoy some fierce queer cabaret\, sultry burlesque\, and fabulous drag performances throughout the night. \nYour Pride Carnival Party hosts are Yveelicious and Marky Mark\, two legendary figures in London’s queer party scene. \nAlthough The Century Club is usually members-only\, everyone is welcome for this special Pride celebration. \nTickets £25 each entry only or drinks tickets plus two drinks at £40 each \nTickets are available for pre-sale only. Please note that no tickets will be available at the door.
URL:https://www.qxmagazine.com/event/sunday-happy-sunday-presents-pride-carnival-party/
LOCATION:Century Club\, 61-63 Shaftesbury Avenue\, London\, W1D 6LQ\, United Kingdom
CATEGORIES:After Midnight Late Opening,Club Nights,Events Queer London,Featured Event,LGBTQ+ Cabaret & Drag,Pride In London
ATTACH;FMTTYPE=image/jpeg:https://www.qxmagazine.com/wp-content/uploads/2025/05/imageedit_104_7625258892-2.jpg
END:VEVENT
END:VCALENDAR