BEGIN:VCALENDAR
VERSION:2.0
PRODID:-//QX Magazine - ECPv6.15.20//NONSGML v1.0//EN
CALSCALE:GREGORIAN
METHOD:PUBLISH
X-WR-CALNAME:QX Magazine
X-ORIGINAL-URL:https://www.qxmagazine.com
X-WR-CALDESC:Events for QX Magazine
REFRESH-INTERVAL;VALUE=DURATION:PT1H
X-Robots-Tag:noindex
X-PUBLISHED-TTL:PT1H
BEGIN:VTIMEZONE
TZID:UTC
BEGIN:STANDARD
TZOFFSETFROM:+0000
TZOFFSETTO:+0000
TZNAME:UTC
DTSTART:20240101T000000
END:STANDARD
END:VTIMEZONE
BEGIN:VEVENT
DTSTART;TZID=UTC:20251205T190000
DTEND;TZID=UTC:20251206T000000
DTSTAMP:20260419T133941
CREATED:20251128T102832Z
LAST-MODIFIED:20251128T102832Z
UID:10108541-1764961200-1764979200@www.qxmagazine.com
SUMMARY:Naked Boys Reading Unwrapped
DESCRIPTION:After a 6-year hiatus\, and in a world of division\, what more do we need than an in-the buff\, queer AF\, literary salon?
URL:https://www.qxmagazine.com/event/naked-boys-reading-unwrapped/
LOCATION:Chats Palace\, 42-44 Brooksby's Walk\, London\, E9 6DF\, United Kingdom
CATEGORIES:Bars,Events Queer London,Featured Event,LGBTQ+ Art
ATTACH;FMTTYPE=image/jpeg:https://www.qxmagazine.com/wp-content/uploads/2025/11/imageedit_39_2150973304.jpg
END:VEVENT
END:VCALENDAR