BEGIN:VCALENDAR
VERSION:2.0
PRODID:-//QX Magazine - ECPv6.15.20//NONSGML v1.0//EN
CALSCALE:GREGORIAN
METHOD:PUBLISH
X-WR-CALNAME:QX Magazine
X-ORIGINAL-URL:https://www.qxmagazine.com
X-WR-CALDESC:Events for QX Magazine
REFRESH-INTERVAL;VALUE=DURATION:PT1H
X-Robots-Tag:noindex
X-PUBLISHED-TTL:PT1H
BEGIN:VTIMEZONE
TZID:UTC
BEGIN:STANDARD
TZOFFSETFROM:+0000
TZOFFSETTO:+0000
TZNAME:UTC
DTSTART:20250101T000000
END:STANDARD
END:VTIMEZONE
BEGIN:VEVENT
DTSTART;TZID=UTC:20260402T180000
DTEND;TZID=UTC:20260402T230000
DTSTAMP:20260419T163608
CREATED:20260323T214959Z
LAST-MODIFIED:20260323T214959Z
UID:10116992-1775152800-1775170800@www.qxmagazine.com
SUMMARY:WLQP Bank Holiday Bingo Night
DESCRIPTION:Get ready for a night of laughs\, prizes\, and pure queer joy as Ginger’s Big Drag Bingo lands in Chiswick this Bank Holiday Weekend. Hosted by the fabulous Ginger\, this is not your average bingo night\, it’s a full-on evening of loud and chaotic fun! Presale drink options available.
URL:https://www.qxmagazine.com/event/wlqp-bank-holiday-bingo-night/
LOCATION:Chiswick Town Hall\, Heathfield Terrace\, Turnham Green\, Chiswick\, London\, W4 4JN\, United Kingdom
CATEGORIES:Events Queer London,Featured Event,LGBTQ+ Bingo & Quiz,LGBTQ+ Cabaret & Drag
ATTACH;FMTTYPE=image/jpeg:https://www.qxmagazine.com/wp-content/uploads/2026/03/imageedit_56_6768959021.jpg
END:VEVENT
END:VCALENDAR