BEGIN:VCALENDAR
VERSION:2.0
PRODID:-//QX Magazine - ECPv6.15.20//NONSGML v1.0//EN
CALSCALE:GREGORIAN
METHOD:PUBLISH
X-WR-CALNAME:QX Magazine
X-ORIGINAL-URL:https://www.qxmagazine.com
X-WR-CALDESC:Events for QX Magazine
REFRESH-INTERVAL;VALUE=DURATION:PT1H
X-Robots-Tag:noindex
X-PUBLISHED-TTL:PT1H
BEGIN:VTIMEZONE
TZID:UTC
BEGIN:STANDARD
TZOFFSETFROM:+0000
TZOFFSETTO:+0000
TZNAME:UTC
DTSTART:20250101T000000
END:STANDARD
END:VTIMEZONE
BEGIN:VEVENT
DTSTART;TZID=UTC:20260827T210000
DTEND;TZID=UTC:20260828T000000
DTSTAMP:20260422T083718
CREATED:20230313T112051Z
LAST-MODIFIED:20260103T103144Z
UID:10111372-1787864400-1787875200@www.qxmagazine.com
SUMMARY:Fursday
DESCRIPTION:Fursdays are the new Friday. And the furrier they are\, the better. Welly resident DJ BEN JAMIN ignites the dance floor with Classic House\, RnB\, Nu Disco\, Nu House and Pop tracks late into the night. A night for bears\, cubs\, chubs\, daddies\, otters\, chasers and admirers or those of you that just love to start the weekend early.
URL:https://www.qxmagazine.com/event/fursday/2026-08-27/
LOCATION:Duke of Wellington\, 77 Wardour Street\, London\, W1V 3TH\, United Kingdom
CATEGORIES:Bars,Discount or Free Entry,Featured Event
ATTACH;FMTTYPE=image/jpeg:https://www.qxmagazine.com/wp-content/uploads/2023/03/imageedit_180_2370637960-2.jpg
GEO:51.512343;-0.1331208
X-APPLE-STRUCTURED-LOCATION;VALUE=URI;X-ADDRESS=Duke of Wellington 77 Wardour Street London W1V 3TH United Kingdom;X-APPLE-RADIUS=500;X-TITLE=77 Wardour Street:geo:-0.1331208,51.512343
END:VEVENT
BEGIN:VEVENT
DTSTART;TZID=UTC:20260828T210000
DTEND;TZID=UTC:20260829T000000
DTSTAMP:20260422T083718
CREATED:20240618T115024Z
LAST-MODIFIED:20260323T104823Z
UID:10111430-1787950800-1787961600@www.qxmagazine.com
SUMMARY:DJ Night at The Welly
DESCRIPTION:Various DJs spin tunes on Friday and Saturday night. Popular with the boys.
URL:https://www.qxmagazine.com/event/dj-night-at-the-welly-2/2026-08-28/
LOCATION:Duke of Wellington\, 77 Wardour Street\, London\, W1V 3TH\, United Kingdom
CATEGORIES:Bars
ATTACH;FMTTYPE=image/jpeg:https://www.qxmagazine.com/wp-content/uploads/2024/06/imageedit_33_7437450999.jpg
GEO:51.512343;-0.1331208
X-APPLE-STRUCTURED-LOCATION;VALUE=URI;X-ADDRESS=Duke of Wellington 77 Wardour Street London W1V 3TH United Kingdom;X-APPLE-RADIUS=500;X-TITLE=77 Wardour Street:geo:-0.1331208,51.512343
END:VEVENT
BEGIN:VEVENT
DTSTART;TZID=UTC:20260829T210000
DTEND;TZID=UTC:20260830T000000
DTSTAMP:20260422T083718
CREATED:20240618T115024Z
LAST-MODIFIED:20260323T104823Z
UID:10116670-1788037200-1788048000@www.qxmagazine.com
SUMMARY:DJ Night at The Welly
DESCRIPTION:Various DJs spin tunes on Friday and Saturday night. Popular with the boys.
URL:https://www.qxmagazine.com/event/dj-night-at-the-welly-2/2026-08-29/
LOCATION:Duke of Wellington\, 77 Wardour Street\, London\, W1V 3TH\, United Kingdom
CATEGORIES:Bars
ATTACH;FMTTYPE=image/jpeg:https://www.qxmagazine.com/wp-content/uploads/2024/06/imageedit_33_7437450999.jpg
GEO:51.512343;-0.1331208
X-APPLE-STRUCTURED-LOCATION;VALUE=URI;X-ADDRESS=Duke of Wellington 77 Wardour Street London W1V 3TH United Kingdom;X-APPLE-RADIUS=500;X-TITLE=77 Wardour Street:geo:-0.1331208,51.512343
END:VEVENT
BEGIN:VEVENT
DTSTART;TZID=UTC:20260831T110000
DTEND;TZID=UTC:20260831T230000
DTSTAMP:20260422T083718
CREATED:20230313T090919Z
LAST-MODIFIED:20260329T195225Z
UID:10112008-1788174000-1788217200@www.qxmagazine.com
SUMMARY:Drinks Promotion Monday and Showtunes
DESCRIPTION:There’s an all-day drinks promotion at The Duke of Wellington in Soho every Monday. Enjoy a wide range of discounted house spirits and mixers or a cheap pint.
URL:https://www.qxmagazine.com/event/drinks-promotion-monday-2/2026-08-31/
LOCATION:Duke of Wellington\, 77 Wardour Street\, London\, W1V 3TH\, United Kingdom
CATEGORIES:Bars,Discount or Free Entry,LGBTQ+ Happy Hour
ATTACH;FMTTYPE=image/jpeg:https://www.qxmagazine.com/wp-content/uploads/2023/03/imageedit_42_4579812350.jpg
GEO:51.512343;-0.1331208
X-APPLE-STRUCTURED-LOCATION;VALUE=URI;X-ADDRESS=Duke of Wellington 77 Wardour Street London W1V 3TH United Kingdom;X-APPLE-RADIUS=500;X-TITLE=77 Wardour Street:geo:-0.1331208,51.512343
END:VEVENT
BEGIN:VEVENT
DTSTART;TZID=UTC:20260901T200000
DTEND;TZID=UTC:20260901T223000
DTSTAMP:20260422T083718
CREATED:20221129T000713Z
LAST-MODIFIED:20260103T103549Z
UID:10111499-1788292800-1788301800@www.qxmagazine.com
SUMMARY:Busy Lady Bingo
DESCRIPTION:Sheila Simmonds and Beverly are upstairs\, in the Sky Lounge. Five quid to play with a big cash jackpot and camp poundland prizes!
URL:https://www.qxmagazine.com/event/busy-lady-bingo-2/2026-09-01/
LOCATION:Duke of Wellington\, 77 Wardour Street\, London\, W1V 3TH\, United Kingdom
CATEGORIES:Bars,LGBTQ+ Bingo & Quiz
ATTACH;FMTTYPE=image/jpeg:https://www.qxmagazine.com/wp-content/uploads/2022/11/imageedit_29_5230184482.jpg
GEO:51.512343;-0.1331208
X-APPLE-STRUCTURED-LOCATION;VALUE=URI;X-ADDRESS=Duke of Wellington 77 Wardour Street London W1V 3TH United Kingdom;X-APPLE-RADIUS=500;X-TITLE=77 Wardour Street:geo:-0.1331208,51.512343
END:VEVENT
BEGIN:VEVENT
DTSTART;TZID=UTC:20260903T210000
DTEND;TZID=UTC:20260904T000000
DTSTAMP:20260422T083718
CREATED:20230313T112051Z
LAST-MODIFIED:20260103T103144Z
UID:10111373-1788469200-1788480000@www.qxmagazine.com
SUMMARY:Fursday
DESCRIPTION:Fursdays are the new Friday. And the furrier they are\, the better. Welly resident DJ BEN JAMIN ignites the dance floor with Classic House\, RnB\, Nu Disco\, Nu House and Pop tracks late into the night. A night for bears\, cubs\, chubs\, daddies\, otters\, chasers and admirers or those of you that just love to start the weekend early.
URL:https://www.qxmagazine.com/event/fursday/2026-09-03/
LOCATION:Duke of Wellington\, 77 Wardour Street\, London\, W1V 3TH\, United Kingdom
CATEGORIES:Bars,Discount or Free Entry,Featured Event
ATTACH;FMTTYPE=image/jpeg:https://www.qxmagazine.com/wp-content/uploads/2023/03/imageedit_180_2370637960-2.jpg
GEO:51.512343;-0.1331208
X-APPLE-STRUCTURED-LOCATION;VALUE=URI;X-ADDRESS=Duke of Wellington 77 Wardour Street London W1V 3TH United Kingdom;X-APPLE-RADIUS=500;X-TITLE=77 Wardour Street:geo:-0.1331208,51.512343
END:VEVENT
BEGIN:VEVENT
DTSTART;TZID=UTC:20260904T210000
DTEND;TZID=UTC:20260905T000000
DTSTAMP:20260422T083718
CREATED:20240618T115024Z
LAST-MODIFIED:20260323T104823Z
UID:10111432-1788555600-1788566400@www.qxmagazine.com
SUMMARY:DJ Night at The Welly
DESCRIPTION:Various DJs spin tunes on Friday and Saturday night. Popular with the boys.
URL:https://www.qxmagazine.com/event/dj-night-at-the-welly-2/2026-09-04/
LOCATION:Duke of Wellington\, 77 Wardour Street\, London\, W1V 3TH\, United Kingdom
CATEGORIES:Bars
ATTACH;FMTTYPE=image/jpeg:https://www.qxmagazine.com/wp-content/uploads/2024/06/imageedit_33_7437450999.jpg
GEO:51.512343;-0.1331208
X-APPLE-STRUCTURED-LOCATION;VALUE=URI;X-ADDRESS=Duke of Wellington 77 Wardour Street London W1V 3TH United Kingdom;X-APPLE-RADIUS=500;X-TITLE=77 Wardour Street:geo:-0.1331208,51.512343
END:VEVENT
BEGIN:VEVENT
DTSTART;TZID=UTC:20260905T210000
DTEND;TZID=UTC:20260906T000000
DTSTAMP:20260422T083718
CREATED:20240618T115024Z
LAST-MODIFIED:20260323T104823Z
UID:10116671-1788642000-1788652800@www.qxmagazine.com
SUMMARY:DJ Night at The Welly
DESCRIPTION:Various DJs spin tunes on Friday and Saturday night. Popular with the boys.
URL:https://www.qxmagazine.com/event/dj-night-at-the-welly-2/2026-09-05/
LOCATION:Duke of Wellington\, 77 Wardour Street\, London\, W1V 3TH\, United Kingdom
CATEGORIES:Bars
ATTACH;FMTTYPE=image/jpeg:https://www.qxmagazine.com/wp-content/uploads/2024/06/imageedit_33_7437450999.jpg
GEO:51.512343;-0.1331208
X-APPLE-STRUCTURED-LOCATION;VALUE=URI;X-ADDRESS=Duke of Wellington 77 Wardour Street London W1V 3TH United Kingdom;X-APPLE-RADIUS=500;X-TITLE=77 Wardour Street:geo:-0.1331208,51.512343
END:VEVENT
BEGIN:VEVENT
DTSTART;TZID=UTC:20260907T110000
DTEND;TZID=UTC:20260907T230000
DTSTAMP:20260422T083718
CREATED:20230313T090919Z
LAST-MODIFIED:20260329T195225Z
UID:10112009-1788778800-1788822000@www.qxmagazine.com
SUMMARY:Drinks Promotion Monday and Showtunes
DESCRIPTION:There’s an all-day drinks promotion at The Duke of Wellington in Soho every Monday. Enjoy a wide range of discounted house spirits and mixers or a cheap pint.
URL:https://www.qxmagazine.com/event/drinks-promotion-monday-2/2026-09-07/
LOCATION:Duke of Wellington\, 77 Wardour Street\, London\, W1V 3TH\, United Kingdom
CATEGORIES:Bars,Discount or Free Entry,LGBTQ+ Happy Hour
ATTACH;FMTTYPE=image/jpeg:https://www.qxmagazine.com/wp-content/uploads/2023/03/imageedit_42_4579812350.jpg
GEO:51.512343;-0.1331208
X-APPLE-STRUCTURED-LOCATION;VALUE=URI;X-ADDRESS=Duke of Wellington 77 Wardour Street London W1V 3TH United Kingdom;X-APPLE-RADIUS=500;X-TITLE=77 Wardour Street:geo:-0.1331208,51.512343
END:VEVENT
BEGIN:VEVENT
DTSTART;TZID=UTC:20260908T200000
DTEND;TZID=UTC:20260908T223000
DTSTAMP:20260422T083718
CREATED:20221129T000713Z
LAST-MODIFIED:20260103T103549Z
UID:10111500-1788897600-1788906600@www.qxmagazine.com
SUMMARY:Busy Lady Bingo
DESCRIPTION:Sheila Simmonds and Beverly are upstairs\, in the Sky Lounge. Five quid to play with a big cash jackpot and camp poundland prizes!
URL:https://www.qxmagazine.com/event/busy-lady-bingo-2/2026-09-08/
LOCATION:Duke of Wellington\, 77 Wardour Street\, London\, W1V 3TH\, United Kingdom
CATEGORIES:Bars,LGBTQ+ Bingo & Quiz
ATTACH;FMTTYPE=image/jpeg:https://www.qxmagazine.com/wp-content/uploads/2022/11/imageedit_29_5230184482.jpg
GEO:51.512343;-0.1331208
X-APPLE-STRUCTURED-LOCATION;VALUE=URI;X-ADDRESS=Duke of Wellington 77 Wardour Street London W1V 3TH United Kingdom;X-APPLE-RADIUS=500;X-TITLE=77 Wardour Street:geo:-0.1331208,51.512343
END:VEVENT
BEGIN:VEVENT
DTSTART;TZID=UTC:20260910T210000
DTEND;TZID=UTC:20260911T000000
DTSTAMP:20260422T083718
CREATED:20230313T112051Z
LAST-MODIFIED:20260103T103144Z
UID:10111374-1789074000-1789084800@www.qxmagazine.com
SUMMARY:Fursday
DESCRIPTION:Fursdays are the new Friday. And the furrier they are\, the better. Welly resident DJ BEN JAMIN ignites the dance floor with Classic House\, RnB\, Nu Disco\, Nu House and Pop tracks late into the night. A night for bears\, cubs\, chubs\, daddies\, otters\, chasers and admirers or those of you that just love to start the weekend early.
URL:https://www.qxmagazine.com/event/fursday/2026-09-10/
LOCATION:Duke of Wellington\, 77 Wardour Street\, London\, W1V 3TH\, United Kingdom
CATEGORIES:Bars,Discount or Free Entry,Featured Event
ATTACH;FMTTYPE=image/jpeg:https://www.qxmagazine.com/wp-content/uploads/2023/03/imageedit_180_2370637960-2.jpg
GEO:51.512343;-0.1331208
X-APPLE-STRUCTURED-LOCATION;VALUE=URI;X-ADDRESS=Duke of Wellington 77 Wardour Street London W1V 3TH United Kingdom;X-APPLE-RADIUS=500;X-TITLE=77 Wardour Street:geo:-0.1331208,51.512343
END:VEVENT
BEGIN:VEVENT
DTSTART;TZID=UTC:20260911T210000
DTEND;TZID=UTC:20260912T000000
DTSTAMP:20260422T083718
CREATED:20240618T115024Z
LAST-MODIFIED:20260323T104823Z
UID:10111434-1789160400-1789171200@www.qxmagazine.com
SUMMARY:DJ Night at The Welly
DESCRIPTION:Various DJs spin tunes on Friday and Saturday night. Popular with the boys.
URL:https://www.qxmagazine.com/event/dj-night-at-the-welly-2/2026-09-11/
LOCATION:Duke of Wellington\, 77 Wardour Street\, London\, W1V 3TH\, United Kingdom
CATEGORIES:Bars
ATTACH;FMTTYPE=image/jpeg:https://www.qxmagazine.com/wp-content/uploads/2024/06/imageedit_33_7437450999.jpg
GEO:51.512343;-0.1331208
X-APPLE-STRUCTURED-LOCATION;VALUE=URI;X-ADDRESS=Duke of Wellington 77 Wardour Street London W1V 3TH United Kingdom;X-APPLE-RADIUS=500;X-TITLE=77 Wardour Street:geo:-0.1331208,51.512343
END:VEVENT
BEGIN:VEVENT
DTSTART;TZID=UTC:20260912T210000
DTEND;TZID=UTC:20260913T000000
DTSTAMP:20260422T083718
CREATED:20240618T115024Z
LAST-MODIFIED:20260323T104823Z
UID:10116672-1789246800-1789257600@www.qxmagazine.com
SUMMARY:DJ Night at The Welly
DESCRIPTION:Various DJs spin tunes on Friday and Saturday night. Popular with the boys.
URL:https://www.qxmagazine.com/event/dj-night-at-the-welly-2/2026-09-12/
LOCATION:Duke of Wellington\, 77 Wardour Street\, London\, W1V 3TH\, United Kingdom
CATEGORIES:Bars
ATTACH;FMTTYPE=image/jpeg:https://www.qxmagazine.com/wp-content/uploads/2024/06/imageedit_33_7437450999.jpg
GEO:51.512343;-0.1331208
X-APPLE-STRUCTURED-LOCATION;VALUE=URI;X-ADDRESS=Duke of Wellington 77 Wardour Street London W1V 3TH United Kingdom;X-APPLE-RADIUS=500;X-TITLE=77 Wardour Street:geo:-0.1331208,51.512343
END:VEVENT
BEGIN:VEVENT
DTSTART;TZID=UTC:20260914T110000
DTEND;TZID=UTC:20260914T230000
DTSTAMP:20260422T083718
CREATED:20230313T090919Z
LAST-MODIFIED:20260329T195225Z
UID:10112010-1789383600-1789426800@www.qxmagazine.com
SUMMARY:Drinks Promotion Monday and Showtunes
DESCRIPTION:There’s an all-day drinks promotion at The Duke of Wellington in Soho every Monday. Enjoy a wide range of discounted house spirits and mixers or a cheap pint.
URL:https://www.qxmagazine.com/event/drinks-promotion-monday-2/2026-09-14/
LOCATION:Duke of Wellington\, 77 Wardour Street\, London\, W1V 3TH\, United Kingdom
CATEGORIES:Bars,Discount or Free Entry,LGBTQ+ Happy Hour
ATTACH;FMTTYPE=image/jpeg:https://www.qxmagazine.com/wp-content/uploads/2023/03/imageedit_42_4579812350.jpg
GEO:51.512343;-0.1331208
X-APPLE-STRUCTURED-LOCATION;VALUE=URI;X-ADDRESS=Duke of Wellington 77 Wardour Street London W1V 3TH United Kingdom;X-APPLE-RADIUS=500;X-TITLE=77 Wardour Street:geo:-0.1331208,51.512343
END:VEVENT
BEGIN:VEVENT
DTSTART;TZID=UTC:20260915T200000
DTEND;TZID=UTC:20260915T223000
DTSTAMP:20260422T083718
CREATED:20221129T000713Z
LAST-MODIFIED:20260103T103549Z
UID:10111501-1789502400-1789511400@www.qxmagazine.com
SUMMARY:Busy Lady Bingo
DESCRIPTION:Sheila Simmonds and Beverly are upstairs\, in the Sky Lounge. Five quid to play with a big cash jackpot and camp poundland prizes!
URL:https://www.qxmagazine.com/event/busy-lady-bingo-2/2026-09-15/
LOCATION:Duke of Wellington\, 77 Wardour Street\, London\, W1V 3TH\, United Kingdom
CATEGORIES:Bars,LGBTQ+ Bingo & Quiz
ATTACH;FMTTYPE=image/jpeg:https://www.qxmagazine.com/wp-content/uploads/2022/11/imageedit_29_5230184482.jpg
GEO:51.512343;-0.1331208
X-APPLE-STRUCTURED-LOCATION;VALUE=URI;X-ADDRESS=Duke of Wellington 77 Wardour Street London W1V 3TH United Kingdom;X-APPLE-RADIUS=500;X-TITLE=77 Wardour Street:geo:-0.1331208,51.512343
END:VEVENT
BEGIN:VEVENT
DTSTART;TZID=UTC:20260917T210000
DTEND;TZID=UTC:20260918T000000
DTSTAMP:20260422T083718
CREATED:20230313T112051Z
LAST-MODIFIED:20260103T103144Z
UID:10111375-1789678800-1789689600@www.qxmagazine.com
SUMMARY:Fursday
DESCRIPTION:Fursdays are the new Friday. And the furrier they are\, the better. Welly resident DJ BEN JAMIN ignites the dance floor with Classic House\, RnB\, Nu Disco\, Nu House and Pop tracks late into the night. A night for bears\, cubs\, chubs\, daddies\, otters\, chasers and admirers or those of you that just love to start the weekend early.
URL:https://www.qxmagazine.com/event/fursday/2026-09-17/
LOCATION:Duke of Wellington\, 77 Wardour Street\, London\, W1V 3TH\, United Kingdom
CATEGORIES:Bars,Discount or Free Entry,Featured Event
ATTACH;FMTTYPE=image/jpeg:https://www.qxmagazine.com/wp-content/uploads/2023/03/imageedit_180_2370637960-2.jpg
GEO:51.512343;-0.1331208
X-APPLE-STRUCTURED-LOCATION;VALUE=URI;X-ADDRESS=Duke of Wellington 77 Wardour Street London W1V 3TH United Kingdom;X-APPLE-RADIUS=500;X-TITLE=77 Wardour Street:geo:-0.1331208,51.512343
END:VEVENT
BEGIN:VEVENT
DTSTART;TZID=UTC:20260918T210000
DTEND;TZID=UTC:20260919T000000
DTSTAMP:20260422T083718
CREATED:20240618T115024Z
LAST-MODIFIED:20260323T104823Z
UID:10111436-1789765200-1789776000@www.qxmagazine.com
SUMMARY:DJ Night at The Welly
DESCRIPTION:Various DJs spin tunes on Friday and Saturday night. Popular with the boys.
URL:https://www.qxmagazine.com/event/dj-night-at-the-welly-2/2026-09-18/
LOCATION:Duke of Wellington\, 77 Wardour Street\, London\, W1V 3TH\, United Kingdom
CATEGORIES:Bars
ATTACH;FMTTYPE=image/jpeg:https://www.qxmagazine.com/wp-content/uploads/2024/06/imageedit_33_7437450999.jpg
GEO:51.512343;-0.1331208
X-APPLE-STRUCTURED-LOCATION;VALUE=URI;X-ADDRESS=Duke of Wellington 77 Wardour Street London W1V 3TH United Kingdom;X-APPLE-RADIUS=500;X-TITLE=77 Wardour Street:geo:-0.1331208,51.512343
END:VEVENT
BEGIN:VEVENT
DTSTART;TZID=UTC:20260919T210000
DTEND;TZID=UTC:20260920T000000
DTSTAMP:20260422T083718
CREATED:20240618T115024Z
LAST-MODIFIED:20260323T104823Z
UID:10116673-1789851600-1789862400@www.qxmagazine.com
SUMMARY:DJ Night at The Welly
DESCRIPTION:Various DJs spin tunes on Friday and Saturday night. Popular with the boys.
URL:https://www.qxmagazine.com/event/dj-night-at-the-welly-2/2026-09-19/
LOCATION:Duke of Wellington\, 77 Wardour Street\, London\, W1V 3TH\, United Kingdom
CATEGORIES:Bars
ATTACH;FMTTYPE=image/jpeg:https://www.qxmagazine.com/wp-content/uploads/2024/06/imageedit_33_7437450999.jpg
GEO:51.512343;-0.1331208
X-APPLE-STRUCTURED-LOCATION;VALUE=URI;X-ADDRESS=Duke of Wellington 77 Wardour Street London W1V 3TH United Kingdom;X-APPLE-RADIUS=500;X-TITLE=77 Wardour Street:geo:-0.1331208,51.512343
END:VEVENT
BEGIN:VEVENT
DTSTART;TZID=UTC:20260921T110000
DTEND;TZID=UTC:20260921T230000
DTSTAMP:20260422T083718
CREATED:20230313T090919Z
LAST-MODIFIED:20260329T195225Z
UID:10112011-1789988400-1790031600@www.qxmagazine.com
SUMMARY:Drinks Promotion Monday and Showtunes
DESCRIPTION:There’s an all-day drinks promotion at The Duke of Wellington in Soho every Monday. Enjoy a wide range of discounted house spirits and mixers or a cheap pint.
URL:https://www.qxmagazine.com/event/drinks-promotion-monday-2/2026-09-21/
LOCATION:Duke of Wellington\, 77 Wardour Street\, London\, W1V 3TH\, United Kingdom
CATEGORIES:Bars,Discount or Free Entry,LGBTQ+ Happy Hour
ATTACH;FMTTYPE=image/jpeg:https://www.qxmagazine.com/wp-content/uploads/2023/03/imageedit_42_4579812350.jpg
GEO:51.512343;-0.1331208
X-APPLE-STRUCTURED-LOCATION;VALUE=URI;X-ADDRESS=Duke of Wellington 77 Wardour Street London W1V 3TH United Kingdom;X-APPLE-RADIUS=500;X-TITLE=77 Wardour Street:geo:-0.1331208,51.512343
END:VEVENT
BEGIN:VEVENT
DTSTART;TZID=UTC:20260922T200000
DTEND;TZID=UTC:20260922T223000
DTSTAMP:20260422T083718
CREATED:20221129T000713Z
LAST-MODIFIED:20260103T103549Z
UID:10111502-1790107200-1790116200@www.qxmagazine.com
SUMMARY:Busy Lady Bingo
DESCRIPTION:Sheila Simmonds and Beverly are upstairs\, in the Sky Lounge. Five quid to play with a big cash jackpot and camp poundland prizes!
URL:https://www.qxmagazine.com/event/busy-lady-bingo-2/2026-09-22/
LOCATION:Duke of Wellington\, 77 Wardour Street\, London\, W1V 3TH\, United Kingdom
CATEGORIES:Bars,LGBTQ+ Bingo & Quiz
ATTACH;FMTTYPE=image/jpeg:https://www.qxmagazine.com/wp-content/uploads/2022/11/imageedit_29_5230184482.jpg
GEO:51.512343;-0.1331208
X-APPLE-STRUCTURED-LOCATION;VALUE=URI;X-ADDRESS=Duke of Wellington 77 Wardour Street London W1V 3TH United Kingdom;X-APPLE-RADIUS=500;X-TITLE=77 Wardour Street:geo:-0.1331208,51.512343
END:VEVENT
BEGIN:VEVENT
DTSTART;TZID=UTC:20260924T210000
DTEND;TZID=UTC:20260925T000000
DTSTAMP:20260422T083718
CREATED:20230313T112051Z
LAST-MODIFIED:20260103T103144Z
UID:10111376-1790283600-1790294400@www.qxmagazine.com
SUMMARY:Fursday
DESCRIPTION:Fursdays are the new Friday. And the furrier they are\, the better. Welly resident DJ BEN JAMIN ignites the dance floor with Classic House\, RnB\, Nu Disco\, Nu House and Pop tracks late into the night. A night for bears\, cubs\, chubs\, daddies\, otters\, chasers and admirers or those of you that just love to start the weekend early.
URL:https://www.qxmagazine.com/event/fursday/2026-09-24/
LOCATION:Duke of Wellington\, 77 Wardour Street\, London\, W1V 3TH\, United Kingdom
CATEGORIES:Bars,Discount or Free Entry,Featured Event
ATTACH;FMTTYPE=image/jpeg:https://www.qxmagazine.com/wp-content/uploads/2023/03/imageedit_180_2370637960-2.jpg
GEO:51.512343;-0.1331208
X-APPLE-STRUCTURED-LOCATION;VALUE=URI;X-ADDRESS=Duke of Wellington 77 Wardour Street London W1V 3TH United Kingdom;X-APPLE-RADIUS=500;X-TITLE=77 Wardour Street:geo:-0.1331208,51.512343
END:VEVENT
BEGIN:VEVENT
DTSTART;TZID=UTC:20260925T210000
DTEND;TZID=UTC:20260926T000000
DTSTAMP:20260422T083718
CREATED:20240618T115024Z
LAST-MODIFIED:20260323T104823Z
UID:10111438-1790370000-1790380800@www.qxmagazine.com
SUMMARY:DJ Night at The Welly
DESCRIPTION:Various DJs spin tunes on Friday and Saturday night. Popular with the boys.
URL:https://www.qxmagazine.com/event/dj-night-at-the-welly-2/2026-09-25/
LOCATION:Duke of Wellington\, 77 Wardour Street\, London\, W1V 3TH\, United Kingdom
CATEGORIES:Bars
ATTACH;FMTTYPE=image/jpeg:https://www.qxmagazine.com/wp-content/uploads/2024/06/imageedit_33_7437450999.jpg
GEO:51.512343;-0.1331208
X-APPLE-STRUCTURED-LOCATION;VALUE=URI;X-ADDRESS=Duke of Wellington 77 Wardour Street London W1V 3TH United Kingdom;X-APPLE-RADIUS=500;X-TITLE=77 Wardour Street:geo:-0.1331208,51.512343
END:VEVENT
BEGIN:VEVENT
DTSTART;TZID=UTC:20260926T210000
DTEND;TZID=UTC:20260927T000000
DTSTAMP:20260422T083718
CREATED:20240618T115024Z
LAST-MODIFIED:20260323T104823Z
UID:10116674-1790456400-1790467200@www.qxmagazine.com
SUMMARY:DJ Night at The Welly
DESCRIPTION:Various DJs spin tunes on Friday and Saturday night. Popular with the boys.
URL:https://www.qxmagazine.com/event/dj-night-at-the-welly-2/2026-09-26/
LOCATION:Duke of Wellington\, 77 Wardour Street\, London\, W1V 3TH\, United Kingdom
CATEGORIES:Bars
ATTACH;FMTTYPE=image/jpeg:https://www.qxmagazine.com/wp-content/uploads/2024/06/imageedit_33_7437450999.jpg
GEO:51.512343;-0.1331208
X-APPLE-STRUCTURED-LOCATION;VALUE=URI;X-ADDRESS=Duke of Wellington 77 Wardour Street London W1V 3TH United Kingdom;X-APPLE-RADIUS=500;X-TITLE=77 Wardour Street:geo:-0.1331208,51.512343
END:VEVENT
BEGIN:VEVENT
DTSTART;TZID=UTC:20260928T110000
DTEND;TZID=UTC:20260928T230000
DTSTAMP:20260422T083718
CREATED:20230313T090919Z
LAST-MODIFIED:20260329T195225Z
UID:10112012-1790593200-1790636400@www.qxmagazine.com
SUMMARY:Drinks Promotion Monday and Showtunes
DESCRIPTION:There’s an all-day drinks promotion at The Duke of Wellington in Soho every Monday. Enjoy a wide range of discounted house spirits and mixers or a cheap pint.
URL:https://www.qxmagazine.com/event/drinks-promotion-monday-2/2026-09-28/
LOCATION:Duke of Wellington\, 77 Wardour Street\, London\, W1V 3TH\, United Kingdom
CATEGORIES:Bars,Discount or Free Entry,LGBTQ+ Happy Hour
ATTACH;FMTTYPE=image/jpeg:https://www.qxmagazine.com/wp-content/uploads/2023/03/imageedit_42_4579812350.jpg
GEO:51.512343;-0.1331208
X-APPLE-STRUCTURED-LOCATION;VALUE=URI;X-ADDRESS=Duke of Wellington 77 Wardour Street London W1V 3TH United Kingdom;X-APPLE-RADIUS=500;X-TITLE=77 Wardour Street:geo:-0.1331208,51.512343
END:VEVENT
BEGIN:VEVENT
DTSTART;TZID=UTC:20260929T200000
DTEND;TZID=UTC:20260929T223000
DTSTAMP:20260422T083718
CREATED:20221129T000713Z
LAST-MODIFIED:20260103T103549Z
UID:10111503-1790712000-1790721000@www.qxmagazine.com
SUMMARY:Busy Lady Bingo
DESCRIPTION:Sheila Simmonds and Beverly are upstairs\, in the Sky Lounge. Five quid to play with a big cash jackpot and camp poundland prizes!
URL:https://www.qxmagazine.com/event/busy-lady-bingo-2/2026-09-29/
LOCATION:Duke of Wellington\, 77 Wardour Street\, London\, W1V 3TH\, United Kingdom
CATEGORIES:Bars,LGBTQ+ Bingo & Quiz
ATTACH;FMTTYPE=image/jpeg:https://www.qxmagazine.com/wp-content/uploads/2022/11/imageedit_29_5230184482.jpg
GEO:51.512343;-0.1331208
X-APPLE-STRUCTURED-LOCATION;VALUE=URI;X-ADDRESS=Duke of Wellington 77 Wardour Street London W1V 3TH United Kingdom;X-APPLE-RADIUS=500;X-TITLE=77 Wardour Street:geo:-0.1331208,51.512343
END:VEVENT
BEGIN:VEVENT
DTSTART;TZID=UTC:20261001T210000
DTEND;TZID=UTC:20261002T000000
DTSTAMP:20260422T083718
CREATED:20230313T112051Z
LAST-MODIFIED:20260103T103144Z
UID:10111377-1790888400-1790899200@www.qxmagazine.com
SUMMARY:Fursday
DESCRIPTION:Fursdays are the new Friday. And the furrier they are\, the better. Welly resident DJ BEN JAMIN ignites the dance floor with Classic House\, RnB\, Nu Disco\, Nu House and Pop tracks late into the night. A night for bears\, cubs\, chubs\, daddies\, otters\, chasers and admirers or those of you that just love to start the weekend early.
URL:https://www.qxmagazine.com/event/fursday/2026-10-01/
LOCATION:Duke of Wellington\, 77 Wardour Street\, London\, W1V 3TH\, United Kingdom
CATEGORIES:Bars,Discount or Free Entry,Featured Event
ATTACH;FMTTYPE=image/jpeg:https://www.qxmagazine.com/wp-content/uploads/2023/03/imageedit_180_2370637960-2.jpg
GEO:51.512343;-0.1331208
X-APPLE-STRUCTURED-LOCATION;VALUE=URI;X-ADDRESS=Duke of Wellington 77 Wardour Street London W1V 3TH United Kingdom;X-APPLE-RADIUS=500;X-TITLE=77 Wardour Street:geo:-0.1331208,51.512343
END:VEVENT
BEGIN:VEVENT
DTSTART;TZID=UTC:20261002T210000
DTEND;TZID=UTC:20261003T000000
DTSTAMP:20260422T083718
CREATED:20240618T115024Z
LAST-MODIFIED:20260323T104823Z
UID:10111440-1790974800-1790985600@www.qxmagazine.com
SUMMARY:DJ Night at The Welly
DESCRIPTION:Various DJs spin tunes on Friday and Saturday night. Popular with the boys.
URL:https://www.qxmagazine.com/event/dj-night-at-the-welly-2/2026-10-02/
LOCATION:Duke of Wellington\, 77 Wardour Street\, London\, W1V 3TH\, United Kingdom
CATEGORIES:Bars
ATTACH;FMTTYPE=image/jpeg:https://www.qxmagazine.com/wp-content/uploads/2024/06/imageedit_33_7437450999.jpg
GEO:51.512343;-0.1331208
X-APPLE-STRUCTURED-LOCATION;VALUE=URI;X-ADDRESS=Duke of Wellington 77 Wardour Street London W1V 3TH United Kingdom;X-APPLE-RADIUS=500;X-TITLE=77 Wardour Street:geo:-0.1331208,51.512343
END:VEVENT
BEGIN:VEVENT
DTSTART;TZID=UTC:20261003T210000
DTEND;TZID=UTC:20261004T000000
DTSTAMP:20260422T083718
CREATED:20240618T115024Z
LAST-MODIFIED:20260323T104823Z
UID:10116675-1791061200-1791072000@www.qxmagazine.com
SUMMARY:DJ Night at The Welly
DESCRIPTION:Various DJs spin tunes on Friday and Saturday night. Popular with the boys.
URL:https://www.qxmagazine.com/event/dj-night-at-the-welly-2/2026-10-03/
LOCATION:Duke of Wellington\, 77 Wardour Street\, London\, W1V 3TH\, United Kingdom
CATEGORIES:Bars
ATTACH;FMTTYPE=image/jpeg:https://www.qxmagazine.com/wp-content/uploads/2024/06/imageedit_33_7437450999.jpg
GEO:51.512343;-0.1331208
X-APPLE-STRUCTURED-LOCATION;VALUE=URI;X-ADDRESS=Duke of Wellington 77 Wardour Street London W1V 3TH United Kingdom;X-APPLE-RADIUS=500;X-TITLE=77 Wardour Street:geo:-0.1331208,51.512343
END:VEVENT
BEGIN:VEVENT
DTSTART;TZID=UTC:20261005T110000
DTEND;TZID=UTC:20261005T230000
DTSTAMP:20260422T083718
CREATED:20230313T090919Z
LAST-MODIFIED:20260329T195225Z
UID:10112013-1791198000-1791241200@www.qxmagazine.com
SUMMARY:Drinks Promotion Monday and Showtunes
DESCRIPTION:There’s an all-day drinks promotion at The Duke of Wellington in Soho every Monday. Enjoy a wide range of discounted house spirits and mixers or a cheap pint.
URL:https://www.qxmagazine.com/event/drinks-promotion-monday-2/2026-10-05/
LOCATION:Duke of Wellington\, 77 Wardour Street\, London\, W1V 3TH\, United Kingdom
CATEGORIES:Bars,Discount or Free Entry,LGBTQ+ Happy Hour
ATTACH;FMTTYPE=image/jpeg:https://www.qxmagazine.com/wp-content/uploads/2023/03/imageedit_42_4579812350.jpg
GEO:51.512343;-0.1331208
X-APPLE-STRUCTURED-LOCATION;VALUE=URI;X-ADDRESS=Duke of Wellington 77 Wardour Street London W1V 3TH United Kingdom;X-APPLE-RADIUS=500;X-TITLE=77 Wardour Street:geo:-0.1331208,51.512343
END:VEVENT
BEGIN:VEVENT
DTSTART;TZID=UTC:20261006T200000
DTEND;TZID=UTC:20261006T223000
DTSTAMP:20260422T083718
CREATED:20221129T000713Z
LAST-MODIFIED:20260103T103549Z
UID:10111504-1791316800-1791325800@www.qxmagazine.com
SUMMARY:Busy Lady Bingo
DESCRIPTION:Sheila Simmonds and Beverly are upstairs\, in the Sky Lounge. Five quid to play with a big cash jackpot and camp poundland prizes!
URL:https://www.qxmagazine.com/event/busy-lady-bingo-2/2026-10-06/
LOCATION:Duke of Wellington\, 77 Wardour Street\, London\, W1V 3TH\, United Kingdom
CATEGORIES:Bars,LGBTQ+ Bingo & Quiz
ATTACH;FMTTYPE=image/jpeg:https://www.qxmagazine.com/wp-content/uploads/2022/11/imageedit_29_5230184482.jpg
GEO:51.512343;-0.1331208
X-APPLE-STRUCTURED-LOCATION;VALUE=URI;X-ADDRESS=Duke of Wellington 77 Wardour Street London W1V 3TH United Kingdom;X-APPLE-RADIUS=500;X-TITLE=77 Wardour Street:geo:-0.1331208,51.512343
END:VEVENT
END:VCALENDAR