BEGIN:VCALENDAR
VERSION:2.0
PRODID:-//QX Magazine - ECPv6.15.20//NONSGML v1.0//EN
CALSCALE:GREGORIAN
METHOD:PUBLISH
X-ORIGINAL-URL:https://www.qxmagazine.com
X-WR-CALDESC:Events for QX Magazine
REFRESH-INTERVAL;VALUE=DURATION:PT1H
X-Robots-Tag:noindex
X-PUBLISHED-TTL:PT1H
BEGIN:VTIMEZONE
TZID:UTC
BEGIN:STANDARD
TZOFFSETFROM:+0000
TZOFFSETTO:+0000
TZNAME:UTC
DTSTART:20240101T000000
END:STANDARD
END:VTIMEZONE
BEGIN:VEVENT
DTSTART;TZID=UTC:20250705T200000
DTEND;TZID=UTC:20250706T040000
DTSTAMP:20260420T081643
CREATED:20250626T123202Z
LAST-MODIFIED:20250626T123249Z
UID:10100823-1751745600-1751774400@www.qxmagazine.com
SUMMARY:Mint presents Code x Greek Street Live: The Ultimate Soho Reunion and Pride After-Party
DESCRIPTION:Mint presents: Code x Greek Street Live\, a London Pride after-party fuelled by nostalgia\, powered by pure queer joy\, and hosted in the newly reimagined Greek Street Live – formerly known as The Green Carnation. This legendary Soho space gave us unforgettable Code Fridays\, outrageous memories\, and pure dancefloor magic — and this Pride\, we’re bringing the magic back—just for one night. \nA CELEBRATION OF LGBTQ+ NIGHTLIFE\, ROOTED IN SOHO HISTORY \nSpread across three floors of high-energy Pride celebration\, this full-venue takeover features an unmissable DJ lineup from Gaydio\, Code\, Mint\, and Soho’s most iconic queer club nights\, including: \nYvette Lindquist · Zach Burns · Lola · Alpha · 2-Traxx · El Conchitas · Goddess · Jackie P · Zoe From Work \nExpect a floor-filling soundtrack of house\, Pride anthems\, and club classics\, representing the full spectrum of London’s vibrant queer nightlife. \nThis is more than just a party – it’s a love letter to the venues that shaped Soho’s LGBTQ+ legacy. With so many beloved spaces lost over the years\, this is a chance to revive that spirit\, reunite old friends\, and dance into the early hours surrounded by community. \nWHO’S IT FOR? \nEveryone is welcome – gays\, theys\, sapphics\, trans siblings\, queer friends\, and proud allies. This is a truly mixed\, inclusive event where all genders and identities can come together and celebrate under one roof. \nACCESSIBILITY \nDue to the listed status of the building\, accessibility is limited. The ground floor is wheelchair accessible\, but there is no accessible toilet on site\, and all toilets are located downstairs. We recognise this may affect some guests and appreciate your understanding. \nENTRY REQUIREMENTS \n\nOver 21s only\nPhysical Government-Issued Photo ID required for all guests\, regardless of age (Passport or Driving Licence).    \nNo ID\, No Entry – strictly enforced
URL:https://www.qxmagazine.com/event/mint-presents-code-x-greek-street-live-the-ultimate-soho-reunion-and-pride-after-party/
LOCATION:Greek Street Live\, 5 Greek Street\,\, London\, W1D 4DD\, United Kingdom
CATEGORIES:After Midnight Late Opening,Club Nights,Events Gay Men London,Events Lesbian London,Events Non-binary London,Events Queer London,Events Transgender London,Pride In London
ATTACH;FMTTYPE=image/jpeg:https://www.qxmagazine.com/wp-content/uploads/2025/06/imageedit_23_3004295558-2.jpg
END:VEVENT
END:VCALENDAR