BEGIN:VCALENDAR
VERSION:2.0
PRODID:-//QX Magazine - ECPv6.15.20//NONSGML v1.0//EN
CALSCALE:GREGORIAN
METHOD:PUBLISH
X-ORIGINAL-URL:https://www.qxmagazine.com
X-WR-CALDESC:Events for QX Magazine
REFRESH-INTERVAL;VALUE=DURATION:PT1H
X-Robots-Tag:noindex
X-PUBLISHED-TTL:PT1H
BEGIN:VTIMEZONE
TZID:UTC
BEGIN:STANDARD
TZOFFSETFROM:+0000
TZOFFSETTO:+0000
TZNAME:UTC
DTSTART:20220101T000000
END:STANDARD
END:VTIMEZONE
BEGIN:VEVENT
DTSTART;TZID=UTC:20230902T110000
DTEND;TZID=UTC:20230902T110000
DTSTAMP:20260422T154607
CREATED:20230827T130754Z
LAST-MODIFIED:20231125T164740Z
UID:10046530-1693652400-1693652400@www.qxmagazine.com
SUMMARY:Queer Summer Fayre 2023
DESCRIPTION:They are welcoming back the Raze Collective for the Queer Summer Fayre. Queer Makers Market\, activities and after Party are free. Open until late. Workshops and cabaret 5er. There are different tickets for workshops and cabarets: Amazi Hoops\, Queer Come Dancing\, Fiona Quadri Zine Making\, Fabulous Follies Cabaret and more. The venue is home to East London’s finest street food vendors\, bars\, cafes\, local independent retailers\, workspaces\, studios and event spaces. Further details and info about how to buy tickets are on the event website. 
URL:https://www.qxmagazine.com/event/queer-summer-fayre-2023/
LOCATION:Hackney Bridge\, Echo Building\, E Bay Lane\, London\, E15 2SJ\, United Kingdom
CATEGORIES:Discount or Free Entry,Featured Event,LGBTQ+ Cabaret & Drag,LGBTQ+ Dining,LGBTQ+ Festivals 2023
ATTACH;FMTTYPE=image/jpeg:https://www.qxmagazine.com/wp-content/uploads/2023/08/imageedit_43_7237854622-2.jpg
GEO:51.5450547;-0.0214275
X-APPLE-STRUCTURED-LOCATION;VALUE=URI;X-ADDRESS=Hackney Bridge Echo Building E Bay Lane London E15 2SJ United Kingdom;X-APPLE-RADIUS=500;X-TITLE=Echo Building\, E Bay Lane:geo:-0.0214275,51.5450547
END:VEVENT
END:VCALENDAR