BEGIN:VCALENDAR
VERSION:2.0
PRODID:-//QX Magazine - ECPv6.15.20//NONSGML v1.0//EN
CALSCALE:GREGORIAN
METHOD:PUBLISH
X-ORIGINAL-URL:https://www.qxmagazine.com
X-WR-CALDESC:Events for QX Magazine
REFRESH-INTERVAL;VALUE=DURATION:PT1H
X-Robots-Tag:noindex
X-PUBLISHED-TTL:PT1H
BEGIN:VTIMEZONE
TZID:UTC
BEGIN:STANDARD
TZOFFSETFROM:+0000
TZOFFSETTO:+0000
TZNAME:UTC
DTSTART:20230101T000000
END:STANDARD
END:VTIMEZONE
BEGIN:VEVENT
DTSTART;TZID=UTC:20241231T190000
DTEND;TZID=UTC:20250101T020000
DTSTAMP:20260425T002415
CREATED:20241102T234339Z
LAST-MODIFIED:20241129T151905Z
UID:10079636-1735671600-1735696800@www.qxmagazine.com
SUMMARY:West London Queer Project NYE Party
DESCRIPTION:Back where is all started\, and for one night only\, we’ll be taking over the entire Queen’s Head (it´s what the venue used to be called)  transforming it into a camp-fest to celebrate NYE! Drag show and Happy Hour. Tickets are likely to sell out quickly.
URL:https://www.qxmagazine.com/event/west-london-queer-project-nye-party/
LOCATION:Hole In The Wall\, Sutton Lane North\, London\, Greater London\, W4 4LD\, United Kingdom
CATEGORIES:Bars,Events Queer London,Featured Event,LGBTQ+ Cabaret & Drag,LGBTQ+ New Year's Eve Party
ATTACH;FMTTYPE=image/jpeg:https://www.qxmagazine.com/wp-content/uploads/2024/11/imageedit_48_7064413211.jpg
GEO:51.4890361;-0.2701598
X-APPLE-STRUCTURED-LOCATION;VALUE=URI;X-ADDRESS=Hole In The Wall Sutton Lane North London Greater London W4 4LD United Kingdom;X-APPLE-RADIUS=500;X-TITLE=Sutton Lane North:geo:-0.2701598,51.4890361
END:VEVENT
BEGIN:VEVENT
DTSTART;TZID=UTC:20241208T120000
DTEND;TZID=UTC:20241208T150000
DTSTAMP:20260425T002415
CREATED:20241102T230345Z
LAST-MODIFIED:20241204T164517Z
UID:10079634-1733659200-1733670000@www.qxmagazine.com
SUMMARY:Sunday Roast Christmas Special with West London Queer Project
DESCRIPTION:Join West London Queer Project after their ‘Ealing to Chiswick\, West London Walk’ or the ‘Hogarth Santa Run’ for a Sunday Roast Christmas Social.
URL:https://www.qxmagazine.com/event/sunday-roast-christmas-special-with-west-london-queer-project/
LOCATION:Hole In The Wall\, Sutton Lane North\, London\, Greater London\, W4 4LD\, United Kingdom
CATEGORIES:Bars,Featured Event,LGBTQ+ Christmas,LGBTQ+ Dining
ATTACH;FMTTYPE=image/jpeg:https://www.qxmagazine.com/wp-content/uploads/2024/11/imageedit_42_9979057340.jpg
GEO:51.4890361;-0.2701598
X-APPLE-STRUCTURED-LOCATION;VALUE=URI;X-ADDRESS=Hole In The Wall Sutton Lane North London Greater London W4 4LD United Kingdom;X-APPLE-RADIUS=500;X-TITLE=Sutton Lane North:geo:-0.2701598,51.4890361
END:VEVENT
END:VCALENDAR