BEGIN:VCALENDAR
VERSION:2.0
PRODID:-//QX Magazine - ECPv6.15.20//NONSGML v1.0//EN
CALSCALE:GREGORIAN
METHOD:PUBLISH
X-ORIGINAL-URL:https://www.qxmagazine.com
X-WR-CALDESC:Events for QX Magazine
REFRESH-INTERVAL;VALUE=DURATION:PT1H
X-Robots-Tag:noindex
X-PUBLISHED-TTL:PT1H
BEGIN:VTIMEZONE
TZID:UTC
BEGIN:STANDARD
TZOFFSETFROM:+0000
TZOFFSETTO:+0000
TZNAME:UTC
DTSTART:20220101T000000
END:STANDARD
END:VTIMEZONE
BEGIN:VEVENT
DTSTART;TZID=UTC:20230517T190000
DTEND;TZID=UTC:20230517T190000
DTSTAMP:20260420T192640
CREATED:20230510T142828Z
LAST-MODIFIED:20230523T122348Z
UID:10040660-1684350000-1684350000@www.qxmagazine.com
SUMMARY:The MP\, Aunty Mandy & Me
DESCRIPTION:Dom wants to be an #instagay #influencer\, but no one likes his posts\, and he can’t find a fella who shares his love of trains. He also lives with his MDMA-popping\, Simply Red loving mum in a small northern village miles from the nearest gay. He is yearning to live an extraordinary life with A-Gays in the city\, but his social anxiety prevents this from being realised. Then a chance encounter with his local MP turns everything upside down. The play explores grooming\, consent and coercion within the gay male community with contemporary social commentary and biting humour. “A gripping story brilliantly told” ★★★★★ Broadway Baby. “Something truly special” ★★★★★ The Theatre Talk. “Perfectly timed comedic relief in its thought-provoking plot” I Love Manchester. Book your tickets here.
URL:https://www.qxmagazine.com/event/the-mp-aunty-mandy-me/2023-05-17/
LOCATION:Kings Head Theatre\, 116 Upper Street\, London\, N1 1QN\, United Kingdom
CATEGORIES:Featured Event,LGBTQ+ Theatre
ATTACH;FMTTYPE=image/jpeg:https://www.qxmagazine.com/wp-content/uploads/2023/05/imageedit_12_8481164767-2.jpg
GEO:51.5383131;-0.1025807
X-APPLE-STRUCTURED-LOCATION;VALUE=URI;X-ADDRESS=Kings Head Theatre 116 Upper Street London N1 1QN United Kingdom;X-APPLE-RADIUS=500;X-TITLE=116 Upper Street:geo:-0.1025807,51.5383131
END:VEVENT
BEGIN:VEVENT
DTSTART;TZID=UTC:20230516T190000
DTEND;TZID=UTC:20230516T190000
DTSTAMP:20260420T192640
CREATED:20230510T142828Z
LAST-MODIFIED:20230523T122348Z
UID:10040659-1684263600-1684263600@www.qxmagazine.com
SUMMARY:The MP\, Aunty Mandy & Me
DESCRIPTION:Dom wants to be an #instagay #influencer\, but no one likes his posts\, and he can’t find a fella who shares his love of trains. He also lives with his MDMA-popping\, Simply Red loving mum in a small northern village miles from the nearest gay. He is yearning to live an extraordinary life with A-Gays in the city\, but his social anxiety prevents this from being realised. Then a chance encounter with his local MP turns everything upside down. The play explores grooming\, consent and coercion within the gay male community with contemporary social commentary and biting humour. “A gripping story brilliantly told” ★★★★★ Broadway Baby. “Something truly special” ★★★★★ The Theatre Talk. “Perfectly timed comedic relief in its thought-provoking plot” I Love Manchester. Book your tickets here.
URL:https://www.qxmagazine.com/event/the-mp-aunty-mandy-me/2023-05-16/
LOCATION:Kings Head Theatre\, 116 Upper Street\, London\, N1 1QN\, United Kingdom
CATEGORIES:Featured Event,LGBTQ+ Theatre
ATTACH;FMTTYPE=image/jpeg:https://www.qxmagazine.com/wp-content/uploads/2023/05/imageedit_12_8481164767-2.jpg
GEO:51.5383131;-0.1025807
X-APPLE-STRUCTURED-LOCATION;VALUE=URI;X-ADDRESS=Kings Head Theatre 116 Upper Street London N1 1QN United Kingdom;X-APPLE-RADIUS=500;X-TITLE=116 Upper Street:geo:-0.1025807,51.5383131
END:VEVENT
BEGIN:VEVENT
DTSTART;TZID=UTC:20230515T190000
DTEND;TZID=UTC:20230515T190000
DTSTAMP:20260420T192640
CREATED:20230510T142828Z
LAST-MODIFIED:20230523T122348Z
UID:10040658-1684177200-1684177200@www.qxmagazine.com
SUMMARY:The MP\, Aunty Mandy & Me
DESCRIPTION:Dom wants to be an #instagay #influencer\, but no one likes his posts\, and he can’t find a fella who shares his love of trains. He also lives with his MDMA-popping\, Simply Red loving mum in a small northern village miles from the nearest gay. He is yearning to live an extraordinary life with A-Gays in the city\, but his social anxiety prevents this from being realised. Then a chance encounter with his local MP turns everything upside down. The play explores grooming\, consent and coercion within the gay male community with contemporary social commentary and biting humour. “A gripping story brilliantly told” ★★★★★ Broadway Baby. “Something truly special” ★★★★★ The Theatre Talk. “Perfectly timed comedic relief in its thought-provoking plot” I Love Manchester. Book your tickets here.
URL:https://www.qxmagazine.com/event/the-mp-aunty-mandy-me/2023-05-15/
LOCATION:Kings Head Theatre\, 116 Upper Street\, London\, N1 1QN\, United Kingdom
CATEGORIES:Featured Event,LGBTQ+ Theatre
ATTACH;FMTTYPE=image/jpeg:https://www.qxmagazine.com/wp-content/uploads/2023/05/imageedit_12_8481164767-2.jpg
GEO:51.5383131;-0.1025807
X-APPLE-STRUCTURED-LOCATION;VALUE=URI;X-ADDRESS=Kings Head Theatre 116 Upper Street London N1 1QN United Kingdom;X-APPLE-RADIUS=500;X-TITLE=116 Upper Street:geo:-0.1025807,51.5383131
END:VEVENT
BEGIN:VEVENT
DTSTART;TZID=UTC:20230419T210000
DTEND;TZID=UTC:20230419T210000
DTSTAMP:20260420T192640
CREATED:20230411T075542Z
LAST-MODIFIED:20230411T075542Z
UID:10030971-1681938000-1681938000@www.qxmagazine.com
SUMMARY:Rapture
DESCRIPTION:A queer\, chaotic 3-hander staging community\, power and healing in contemporary East London. Buy your tickets here.
URL:https://www.qxmagazine.com/event/rapture/
LOCATION:Kings Head Theatre\, 116 Upper Street\, London\, N1 1QN\, United Kingdom
CATEGORIES:Featured Event,LGBTQ+ Sober,LGBTQ+ Theatre
ATTACH;FMTTYPE=image/jpeg:https://www.qxmagazine.com/wp-content/uploads/2020/02/imageedit_33_5222393362-2.jpg
GEO:51.5383131;-0.1025807
X-APPLE-STRUCTURED-LOCATION;VALUE=URI;X-ADDRESS=Kings Head Theatre 116 Upper Street London N1 1QN United Kingdom;X-APPLE-RADIUS=500;X-TITLE=116 Upper Street:geo:-0.1025807,51.5383131
END:VEVENT
BEGIN:VEVENT
DTSTART;TZID=UTC:20230408T200000
DTEND;TZID=UTC:20230408T200000
DTSTAMP:20260420T192640
CREATED:20230406T151512Z
LAST-MODIFIED:20230406T151708Z
UID:10028912-1680984000-1680984000@www.qxmagazine.com
SUMMARY:Perverts
DESCRIPTION:Described as ‘Inspired’ by The Independent and ‘Unmissable’ on To-Do List\, Perverts is a surreal\, sarky and sexy comedy about queer shame and desire. After all\, “there is nothing less sexy than the cloakroom queue at a sex party.” Tickets are available here. \nThis show is part of Sight Unseen\, a season curated by Isabel Adomakoh Young for The Takeover. Explore the full season and find out more here!
URL:https://www.qxmagazine.com/event/perverts/2023-04-08/
LOCATION:Kings Head Theatre\, 116 Upper Street\, London\, N1 1QN\, United Kingdom
CATEGORIES:LGBTQ+ Sober,LGBTQ+ Theatre
ATTACH;FMTTYPE=image/jpeg:https://www.qxmagazine.com/wp-content/uploads/2020/02/imageedit_1_6666266724-2.jpg
GEO:51.5383131;-0.1025807
X-APPLE-STRUCTURED-LOCATION;VALUE=URI;X-ADDRESS=Kings Head Theatre 116 Upper Street London N1 1QN United Kingdom;X-APPLE-RADIUS=500;X-TITLE=116 Upper Street:geo:-0.1025807,51.5383131
END:VEVENT
BEGIN:VEVENT
DTSTART;TZID=UTC:20230407T210000
DTEND;TZID=UTC:20230407T210000
DTSTAMP:20260420T192640
CREATED:20230406T151512Z
LAST-MODIFIED:20230406T151708Z
UID:10028911-1680901200-1680901200@www.qxmagazine.com
SUMMARY:Perverts
DESCRIPTION:Described as ‘Inspired’ by The Independent and ‘Unmissable’ on To-Do List\, Perverts is a surreal\, sarky and sexy comedy about queer shame and desire. After all\, “there is nothing less sexy than the cloakroom queue at a sex party.” Tickets are available here. \nThis show is part of Sight Unseen\, a season curated by Isabel Adomakoh Young for The Takeover. Explore the full season and find out more here!
URL:https://www.qxmagazine.com/event/perverts/2023-04-07/
LOCATION:Kings Head Theatre\, 116 Upper Street\, London\, N1 1QN\, United Kingdom
CATEGORIES:LGBTQ+ Sober,LGBTQ+ Theatre
ATTACH;FMTTYPE=image/jpeg:https://www.qxmagazine.com/wp-content/uploads/2020/02/imageedit_1_6666266724-2.jpg
GEO:51.5383131;-0.1025807
X-APPLE-STRUCTURED-LOCATION;VALUE=URI;X-ADDRESS=Kings Head Theatre 116 Upper Street London N1 1QN United Kingdom;X-APPLE-RADIUS=500;X-TITLE=116 Upper Street:geo:-0.1025807,51.5383131
END:VEVENT
END:VCALENDAR