BEGIN:VCALENDAR
VERSION:2.0
PRODID:-//QX Magazine - ECPv6.15.20//NONSGML v1.0//EN
CALSCALE:GREGORIAN
METHOD:PUBLISH
X-WR-CALNAME:QX Magazine
X-ORIGINAL-URL:https://www.qxmagazine.com
X-WR-CALDESC:Events for QX Magazine
REFRESH-INTERVAL;VALUE=DURATION:PT1H
X-Robots-Tag:noindex
X-PUBLISHED-TTL:PT1H
BEGIN:VTIMEZONE
TZID:UTC
BEGIN:STANDARD
TZOFFSETFROM:+0000
TZOFFSETTO:+0000
TZNAME:UTC
DTSTART:20250101T000000
END:STANDARD
END:VTIMEZONE
BEGIN:VEVENT
DTSTART;TZID=UTC:20261218T100000
DTEND;TZID=UTC:20261218T233000
DTSTAMP:20260422T081046
CREATED:20260102T143629Z
LAST-MODIFIED:20260102T143744Z
UID:10110052-1797588000-1797636600@www.qxmagazine.com
SUMMARY:La Camionera Lesbian Bar
DESCRIPTION:La Canionera also hosts singles nights including for POC and specific ages\, life drawing\, and screenings. See website fro further details.
URL:https://www.qxmagazine.com/event/la-camionera-lesbian-bar-4/2026-12-18/
LOCATION:La Camionera\, Well Street\, London\, E9 6RG\, United Kingdom
CATEGORIES:Bars,Events Lesbian London,Events Non-binary London,Events QTBIPOC London,Events Queer Women London,Events Transgender London,LGBTQ+ Beer Garden
ATTACH;FMTTYPE=image/jpeg:https://www.qxmagazine.com/wp-content/uploads/2024/05/imageedit_22_6582514906.jpg
GEO:51.5444649;-0.046901
X-APPLE-STRUCTURED-LOCATION;VALUE=URI;X-ADDRESS=La Camionera Well Street London E9 6RG United Kingdom;X-APPLE-RADIUS=500;X-TITLE=Well Street:geo:-0.046901,51.5444649
END:VEVENT
BEGIN:VEVENT
DTSTART;TZID=UTC:20261219T100000
DTEND;TZID=UTC:20261219T233000
DTSTAMP:20260422T081046
CREATED:20260102T143629Z
LAST-MODIFIED:20260102T143744Z
UID:10110053-1797674400-1797723000@www.qxmagazine.com
SUMMARY:La Camionera Lesbian Bar
DESCRIPTION:La Canionera also hosts singles nights including for POC and specific ages\, life drawing\, and screenings. See website fro further details.
URL:https://www.qxmagazine.com/event/la-camionera-lesbian-bar-4/2026-12-19/
LOCATION:La Camionera\, Well Street\, London\, E9 6RG\, United Kingdom
CATEGORIES:Bars,Events Lesbian London,Events Non-binary London,Events QTBIPOC London,Events Queer Women London,Events Transgender London,LGBTQ+ Beer Garden
ATTACH;FMTTYPE=image/jpeg:https://www.qxmagazine.com/wp-content/uploads/2024/05/imageedit_22_6582514906.jpg
GEO:51.5444649;-0.046901
X-APPLE-STRUCTURED-LOCATION;VALUE=URI;X-ADDRESS=La Camionera Well Street London E9 6RG United Kingdom;X-APPLE-RADIUS=500;X-TITLE=Well Street:geo:-0.046901,51.5444649
END:VEVENT
BEGIN:VEVENT
DTSTART;TZID=UTC:20261220T100000
DTEND;TZID=UTC:20261220T230000
DTSTAMP:20260422T081046
CREATED:20240525T205908Z
LAST-MODIFIED:20260102T143838Z
UID:10104402-1797760800-1797807600@www.qxmagazine.com
SUMMARY:La Camionera Lesbian Bar
DESCRIPTION:La Canionera also hosts singles nights including for POC and specific ages\, life drawing\, and screenings. See website fro further details.
URL:https://www.qxmagazine.com/event/la-camionera-lesbian-bar/2026-12-20/
LOCATION:La Camionera\, Well Street\, London\, E9 6RG\, United Kingdom
CATEGORIES:Bars,Events Lesbian London,Events Non-binary London,Events QTBIPOC London,Events Queer Women London,Events Transgender London,LGBTQ+ Beer Garden
ATTACH;FMTTYPE=image/jpeg:https://www.qxmagazine.com/wp-content/uploads/2024/05/imageedit_22_6582514906.jpg
GEO:51.5444649;-0.046901
X-APPLE-STRUCTURED-LOCATION;VALUE=URI;X-ADDRESS=La Camionera Well Street London E9 6RG United Kingdom;X-APPLE-RADIUS=500;X-TITLE=Well Street:geo:-0.046901,51.5444649
END:VEVENT
BEGIN:VEVENT
DTSTART;TZID=UTC:20261221T160000
DTEND;TZID=UTC:20261221T230000
DTSTAMP:20260422T081046
CREATED:20251105T112841Z
LAST-MODIFIED:20260315T084450Z
UID:10114320-1797868800-1797894000@www.qxmagazine.com
SUMMARY:La Camionera Lesbian Bar
DESCRIPTION:La Canionera also hosts singles nights including for POC and specific ages\, life drawing\, and screenings. See website fro further details.
URL:https://www.qxmagazine.com/event/la-camionera-lesbian-bar-3/2026-12-21/
LOCATION:La Camionera\, Well Street\, London\, E9 6RG\, United Kingdom
CATEGORIES:Bars,Events Lesbian London
ATTACH;FMTTYPE=image/jpeg:https://www.qxmagazine.com/wp-content/uploads/2024/05/imageedit_22_6582514906.jpg
GEO:51.5444649;-0.046901
X-APPLE-STRUCTURED-LOCATION;VALUE=URI;X-ADDRESS=La Camionera Well Street London E9 6RG United Kingdom;X-APPLE-RADIUS=500;X-TITLE=Well Street:geo:-0.046901,51.5444649
END:VEVENT
BEGIN:VEVENT
DTSTART;TZID=UTC:20261222T160000
DTEND;TZID=UTC:20261222T230000
DTSTAMP:20260422T081046
CREATED:20251105T112841Z
LAST-MODIFIED:20260315T084450Z
UID:10114321-1797955200-1797980400@www.qxmagazine.com
SUMMARY:La Camionera Lesbian Bar
DESCRIPTION:La Canionera also hosts singles nights including for POC and specific ages\, life drawing\, and screenings. See website fro further details.
URL:https://www.qxmagazine.com/event/la-camionera-lesbian-bar-3/2026-12-22/
LOCATION:La Camionera\, Well Street\, London\, E9 6RG\, United Kingdom
CATEGORIES:Bars,Events Lesbian London
ATTACH;FMTTYPE=image/jpeg:https://www.qxmagazine.com/wp-content/uploads/2024/05/imageedit_22_6582514906.jpg
GEO:51.5444649;-0.046901
X-APPLE-STRUCTURED-LOCATION;VALUE=URI;X-ADDRESS=La Camionera Well Street London E9 6RG United Kingdom;X-APPLE-RADIUS=500;X-TITLE=Well Street:geo:-0.046901,51.5444649
END:VEVENT
BEGIN:VEVENT
DTSTART;TZID=UTC:20261223T100000
DTEND;TZID=UTC:20261223T230000
DTSTAMP:20260422T081046
CREATED:20240525T205908Z
LAST-MODIFIED:20260102T143838Z
UID:10104403-1798020000-1798066800@www.qxmagazine.com
SUMMARY:La Camionera Lesbian Bar
DESCRIPTION:La Canionera also hosts singles nights including for POC and specific ages\, life drawing\, and screenings. See website fro further details.
URL:https://www.qxmagazine.com/event/la-camionera-lesbian-bar/2026-12-23/
LOCATION:La Camionera\, Well Street\, London\, E9 6RG\, United Kingdom
CATEGORIES:Bars,Events Lesbian London,Events Non-binary London,Events QTBIPOC London,Events Queer Women London,Events Transgender London,LGBTQ+ Beer Garden
ATTACH;FMTTYPE=image/jpeg:https://www.qxmagazine.com/wp-content/uploads/2024/05/imageedit_22_6582514906.jpg
GEO:51.5444649;-0.046901
X-APPLE-STRUCTURED-LOCATION;VALUE=URI;X-ADDRESS=La Camionera Well Street London E9 6RG United Kingdom;X-APPLE-RADIUS=500;X-TITLE=Well Street:geo:-0.046901,51.5444649
END:VEVENT
END:VCALENDAR