BEGIN:VCALENDAR
VERSION:2.0
PRODID:-//QX Magazine - ECPv6.15.20//NONSGML v1.0//EN
CALSCALE:GREGORIAN
METHOD:PUBLISH
X-ORIGINAL-URL:https://www.qxmagazine.com
X-WR-CALDESC:Events for QX Magazine
REFRESH-INTERVAL;VALUE=DURATION:PT1H
X-Robots-Tag:noindex
X-PUBLISHED-TTL:PT1H
BEGIN:VTIMEZONE
TZID:UTC
BEGIN:STANDARD
TZOFFSETFROM:+0000
TZOFFSETTO:+0000
TZNAME:UTC
DTSTART:20240101T000000
END:STANDARD
END:VTIMEZONE
BEGIN:VEVENT
DTSTART;TZID=UTC:20250920T082000
DTEND;TZID=UTC:20250920T192000
DTSTAMP:20260419T134157
CREATED:20250914T101843Z
LAST-MODIFIED:20250914T102059Z
UID:10103128-1758356400-1758396000@www.qxmagazine.com
SUMMARY:WLQP Adventure Walk: Arundel
DESCRIPTION:You will be getting the 8:39am train from London Bridge\, arriving in Arundel at 10:02am for a challenging 19-20km walk. Cost includes train ticket\, otherwise free if you arrange your own transport.
URL:https://www.qxmagazine.com/event/wlqp-adventure-walk-arundel/
LOCATION:London Bridge Station\, London Bridge Station\, London\, SE1 9SP\, United Kingdom
CATEGORIES:Discount or Free Entry,Events Queer London,LGBTQ+ Outdoors
ATTACH;FMTTYPE=image/jpeg:https://www.qxmagazine.com/wp-content/uploads/2025/09/imageedit_7_3986179551.jpg
END:VEVENT
END:VCALENDAR