BEGIN:VCALENDAR
VERSION:2.0
PRODID:-//QX Magazine - ECPv6.15.20//NONSGML v1.0//EN
CALSCALE:GREGORIAN
METHOD:PUBLISH
X-ORIGINAL-URL:https://www.qxmagazine.com
X-WR-CALDESC:Events for QX Magazine
REFRESH-INTERVAL;VALUE=DURATION:PT1H
X-Robots-Tag:noindex
X-PUBLISHED-TTL:PT1H
BEGIN:VTIMEZONE
TZID:UTC
BEGIN:STANDARD
TZOFFSETFROM:+0000
TZOFFSETTO:+0000
TZNAME:UTC
DTSTART:20220101T000000
END:STANDARD
END:VTIMEZONE
BEGIN:VEVENT
DTSTART;TZID=UTC:20230825T180000
DTEND;TZID=UTC:20230825T190000
DTSTAMP:20260422T100803
CREATED:20230515T095400Z
LAST-MODIFIED:20230617T152013Z
UID:10042878-1692986400-1692990000@www.qxmagazine.com
SUMMARY:Living Free Asylum Corner
DESCRIPTION:A monthly meeting and LGBTQ+ safe space for Queer Africans seeking asylum.
URL:https://www.qxmagazine.com/event/living-free-asylum-corner/2023-08-25/
LOCATION:MayDay Rooms\, 88 Fleet Street\, London\, EC4Y 1DH\, United Kingdom
CATEGORIES:Discount or Free Entry,Events QTBIPOC London,Featured Event
ATTACH;FMTTYPE=image/jpeg:https://www.qxmagazine.com/wp-content/uploads/2023/05/imageedit_37_2920847263-2.jpg
GEO:51.5140534;-0.1056164
X-APPLE-STRUCTURED-LOCATION;VALUE=URI;X-ADDRESS=MayDay Rooms 88 Fleet Street London EC4Y 1DH United Kingdom;X-APPLE-RADIUS=500;X-TITLE=88 Fleet Street:geo:-0.1056164,51.5140534
END:VEVENT
BEGIN:VEVENT
DTSTART;TZID=UTC:20230728T180000
DTEND;TZID=UTC:20230728T190000
DTSTAMP:20260422T100803
CREATED:20230515T095400Z
LAST-MODIFIED:20230617T152013Z
UID:10042877-1690567200-1690570800@www.qxmagazine.com
SUMMARY:Living Free Asylum Corner
DESCRIPTION:A monthly meeting and LGBTQ+ safe space for Queer Africans seeking asylum.
URL:https://www.qxmagazine.com/event/living-free-asylum-corner/2023-07-28/
LOCATION:MayDay Rooms\, 88 Fleet Street\, London\, EC4Y 1DH\, United Kingdom
CATEGORIES:Discount or Free Entry,Events QTBIPOC London,Featured Event
ATTACH;FMTTYPE=image/jpeg:https://www.qxmagazine.com/wp-content/uploads/2023/05/imageedit_37_2920847263-2.jpg
GEO:51.5140534;-0.1056164
X-APPLE-STRUCTURED-LOCATION;VALUE=URI;X-ADDRESS=MayDay Rooms 88 Fleet Street London EC4Y 1DH United Kingdom;X-APPLE-RADIUS=500;X-TITLE=88 Fleet Street:geo:-0.1056164,51.5140534
END:VEVENT
BEGIN:VEVENT
DTSTART;TZID=UTC:20230623T180000
DTEND;TZID=UTC:20230623T190000
DTSTAMP:20260422T100803
CREATED:20230515T095400Z
LAST-MODIFIED:20230617T152013Z
UID:10042876-1687543200-1687546800@www.qxmagazine.com
SUMMARY:Living Free Asylum Corner
DESCRIPTION:A monthly meeting and LGBTQ+ safe space for Queer Africans seeking asylum.
URL:https://www.qxmagazine.com/event/living-free-asylum-corner/2023-06-23/
LOCATION:MayDay Rooms\, 88 Fleet Street\, London\, EC4Y 1DH\, United Kingdom
CATEGORIES:Discount or Free Entry,Events QTBIPOC London,Featured Event
ATTACH;FMTTYPE=image/jpeg:https://www.qxmagazine.com/wp-content/uploads/2023/05/imageedit_37_2920847263-2.jpg
GEO:51.5140534;-0.1056164
X-APPLE-STRUCTURED-LOCATION;VALUE=URI;X-ADDRESS=MayDay Rooms 88 Fleet Street London EC4Y 1DH United Kingdom;X-APPLE-RADIUS=500;X-TITLE=88 Fleet Street:geo:-0.1056164,51.5140534
END:VEVENT
BEGIN:VEVENT
DTSTART;TZID=UTC:20230526T180000
DTEND;TZID=UTC:20230526T190000
DTSTAMP:20260422T100803
CREATED:20230515T095400Z
LAST-MODIFIED:20230617T152013Z
UID:10042875-1685124000-1685127600@www.qxmagazine.com
SUMMARY:Living Free Asylum Corner
DESCRIPTION:A monthly meeting and LGBTQ+ safe space for Queer Africans seeking asylum.
URL:https://www.qxmagazine.com/event/living-free-asylum-corner/2023-05-26/
LOCATION:MayDay Rooms\, 88 Fleet Street\, London\, EC4Y 1DH\, United Kingdom
CATEGORIES:Discount or Free Entry,Events QTBIPOC London,Featured Event
ATTACH;FMTTYPE=image/jpeg:https://www.qxmagazine.com/wp-content/uploads/2023/05/imageedit_37_2920847263-2.jpg
GEO:51.5140534;-0.1056164
X-APPLE-STRUCTURED-LOCATION;VALUE=URI;X-ADDRESS=MayDay Rooms 88 Fleet Street London EC4Y 1DH United Kingdom;X-APPLE-RADIUS=500;X-TITLE=88 Fleet Street:geo:-0.1056164,51.5140534
END:VEVENT
END:VCALENDAR