BEGIN:VCALENDAR
VERSION:2.0
PRODID:-//QX Magazine - ECPv6.15.20//NONSGML v1.0//EN
CALSCALE:GREGORIAN
METHOD:PUBLISH
X-WR-CALNAME:QX Magazine
X-ORIGINAL-URL:https://www.qxmagazine.com
X-WR-CALDESC:Events for QX Magazine
REFRESH-INTERVAL;VALUE=DURATION:PT1H
X-Robots-Tag:noindex
X-PUBLISHED-TTL:PT1H
BEGIN:VTIMEZONE
TZID:UTC
BEGIN:STANDARD
TZOFFSETFROM:+0000
TZOFFSETTO:+0000
TZNAME:UTC
DTSTART:20240101T000000
END:STANDARD
END:VTIMEZONE
BEGIN:VEVENT
DTSTART;TZID=UTC:20260422T220000
DTEND;TZID=UTC:20260422T233000
DTSTAMP:20260424T094222
CREATED:20251128T114655Z
LAST-MODIFIED:20251128T132431Z
UID:10108562-1776895200-1776900600@www.qxmagazine.com
SUMMARY:The Show After The Show
DESCRIPTION:The Players Bar’s resident pianist Lee Ormsby and a host of other talent playing the biggest and best-loved hits from West End shows past and present\, leading a singalong around the grand piano every Wednesday. Everybody is welcome. \n  \nImage: Lee at The Players Bar
URL:https://www.qxmagazine.com/event/the-show-after-the-show/2026-04-22/
LOCATION:Players Bar\, Charring Cross Theatre\, The Arches\, Villiers St\,\, London\, WC2N 6NL
CATEGORIES:Bars,Discount or Free Entry,LGBTQ+ Live Music
ATTACH;FMTTYPE=image/jpeg:https://www.qxmagazine.com/wp-content/uploads/2025/11/imageedit_60_4164420217-2.jpg
END:VEVENT
BEGIN:VEVENT
DTSTART;TZID=UTC:20260415T220000
DTEND;TZID=UTC:20260415T233000
DTSTAMP:20260424T094222
CREATED:20251128T114655Z
LAST-MODIFIED:20251128T132431Z
UID:10108561-1776290400-1776295800@www.qxmagazine.com
SUMMARY:The Show After The Show
DESCRIPTION:The Players Bar’s resident pianist Lee Ormsby and a host of other talent playing the biggest and best-loved hits from West End shows past and present\, leading a singalong around the grand piano every Wednesday. Everybody is welcome. \n  \nImage: Lee at The Players Bar
URL:https://www.qxmagazine.com/event/the-show-after-the-show/2026-04-15/
LOCATION:Players Bar\, Charring Cross Theatre\, The Arches\, Villiers St\,\, London\, WC2N 6NL
CATEGORIES:Bars,Discount or Free Entry,LGBTQ+ Live Music
ATTACH;FMTTYPE=image/jpeg:https://www.qxmagazine.com/wp-content/uploads/2025/11/imageedit_60_4164420217-2.jpg
END:VEVENT
BEGIN:VEVENT
DTSTART;TZID=UTC:20260408T220000
DTEND;TZID=UTC:20260408T233000
DTSTAMP:20260424T094222
CREATED:20251128T114655Z
LAST-MODIFIED:20251128T132431Z
UID:10108560-1775685600-1775691000@www.qxmagazine.com
SUMMARY:The Show After The Show
DESCRIPTION:The Players Bar’s resident pianist Lee Ormsby and a host of other talent playing the biggest and best-loved hits from West End shows past and present\, leading a singalong around the grand piano every Wednesday. Everybody is welcome. \n  \nImage: Lee at The Players Bar
URL:https://www.qxmagazine.com/event/the-show-after-the-show/2026-04-08/
LOCATION:Players Bar\, Charring Cross Theatre\, The Arches\, Villiers St\,\, London\, WC2N 6NL
CATEGORIES:Bars,Discount or Free Entry,LGBTQ+ Live Music
ATTACH;FMTTYPE=image/jpeg:https://www.qxmagazine.com/wp-content/uploads/2025/11/imageedit_60_4164420217-2.jpg
END:VEVENT
BEGIN:VEVENT
DTSTART;TZID=UTC:20260401T220000
DTEND;TZID=UTC:20260401T233000
DTSTAMP:20260424T094222
CREATED:20251128T114655Z
LAST-MODIFIED:20251128T132431Z
UID:10108559-1775080800-1775086200@www.qxmagazine.com
SUMMARY:The Show After The Show
DESCRIPTION:The Players Bar’s resident pianist Lee Ormsby and a host of other talent playing the biggest and best-loved hits from West End shows past and present\, leading a singalong around the grand piano every Wednesday. Everybody is welcome. \n  \nImage: Lee at The Players Bar
URL:https://www.qxmagazine.com/event/the-show-after-the-show/2026-04-01/
LOCATION:Players Bar\, Charring Cross Theatre\, The Arches\, Villiers St\,\, London\, WC2N 6NL
CATEGORIES:Bars,Discount or Free Entry,LGBTQ+ Live Music
ATTACH;FMTTYPE=image/jpeg:https://www.qxmagazine.com/wp-content/uploads/2025/11/imageedit_60_4164420217-2.jpg
END:VEVENT
BEGIN:VEVENT
DTSTART;TZID=UTC:20260325T220000
DTEND;TZID=UTC:20260325T233000
DTSTAMP:20260424T094222
CREATED:20251128T114655Z
LAST-MODIFIED:20251128T132431Z
UID:10108558-1774476000-1774481400@www.qxmagazine.com
SUMMARY:The Show After The Show
DESCRIPTION:The Players Bar’s resident pianist Lee Ormsby and a host of other talent playing the biggest and best-loved hits from West End shows past and present\, leading a singalong around the grand piano every Wednesday. Everybody is welcome. \n  \nImage: Lee at The Players Bar
URL:https://www.qxmagazine.com/event/the-show-after-the-show/2026-03-25/
LOCATION:Players Bar\, Charring Cross Theatre\, The Arches\, Villiers St\,\, London\, WC2N 6NL
CATEGORIES:Bars,Discount or Free Entry,LGBTQ+ Live Music
ATTACH;FMTTYPE=image/jpeg:https://www.qxmagazine.com/wp-content/uploads/2025/11/imageedit_60_4164420217-2.jpg
END:VEVENT
BEGIN:VEVENT
DTSTART;TZID=UTC:20260318T220000
DTEND;TZID=UTC:20260318T233000
DTSTAMP:20260424T094222
CREATED:20251128T114655Z
LAST-MODIFIED:20251128T132431Z
UID:10108557-1773871200-1773876600@www.qxmagazine.com
SUMMARY:The Show After The Show
DESCRIPTION:The Players Bar’s resident pianist Lee Ormsby and a host of other talent playing the biggest and best-loved hits from West End shows past and present\, leading a singalong around the grand piano every Wednesday. Everybody is welcome. \n  \nImage: Lee at The Players Bar
URL:https://www.qxmagazine.com/event/the-show-after-the-show/2026-03-18/
LOCATION:Players Bar\, Charring Cross Theatre\, The Arches\, Villiers St\,\, London\, WC2N 6NL
CATEGORIES:Bars,Discount or Free Entry,LGBTQ+ Live Music
ATTACH;FMTTYPE=image/jpeg:https://www.qxmagazine.com/wp-content/uploads/2025/11/imageedit_60_4164420217-2.jpg
END:VEVENT
BEGIN:VEVENT
DTSTART;TZID=UTC:20260311T220000
DTEND;TZID=UTC:20260311T233000
DTSTAMP:20260424T094222
CREATED:20251128T114655Z
LAST-MODIFIED:20251128T132431Z
UID:10108556-1773266400-1773271800@www.qxmagazine.com
SUMMARY:The Show After The Show
DESCRIPTION:The Players Bar’s resident pianist Lee Ormsby and a host of other talent playing the biggest and best-loved hits from West End shows past and present\, leading a singalong around the grand piano every Wednesday. Everybody is welcome. \n  \nImage: Lee at The Players Bar
URL:https://www.qxmagazine.com/event/the-show-after-the-show/2026-03-11/
LOCATION:Players Bar\, Charring Cross Theatre\, The Arches\, Villiers St\,\, London\, WC2N 6NL
CATEGORIES:Bars,Discount or Free Entry,LGBTQ+ Live Music
ATTACH;FMTTYPE=image/jpeg:https://www.qxmagazine.com/wp-content/uploads/2025/11/imageedit_60_4164420217-2.jpg
END:VEVENT
BEGIN:VEVENT
DTSTART;TZID=UTC:20260304T220000
DTEND;TZID=UTC:20260304T233000
DTSTAMP:20260424T094222
CREATED:20251128T114655Z
LAST-MODIFIED:20251128T132431Z
UID:10108555-1772661600-1772667000@www.qxmagazine.com
SUMMARY:The Show After The Show
DESCRIPTION:The Players Bar’s resident pianist Lee Ormsby and a host of other talent playing the biggest and best-loved hits from West End shows past and present\, leading a singalong around the grand piano every Wednesday. Everybody is welcome. \n  \nImage: Lee at The Players Bar
URL:https://www.qxmagazine.com/event/the-show-after-the-show/2026-03-04/
LOCATION:Players Bar\, Charring Cross Theatre\, The Arches\, Villiers St\,\, London\, WC2N 6NL
CATEGORIES:Bars,Discount or Free Entry,LGBTQ+ Live Music
ATTACH;FMTTYPE=image/jpeg:https://www.qxmagazine.com/wp-content/uploads/2025/11/imageedit_60_4164420217-2.jpg
END:VEVENT
BEGIN:VEVENT
DTSTART;TZID=UTC:20260225T220000
DTEND;TZID=UTC:20260225T233000
DTSTAMP:20260424T094223
CREATED:20251128T114655Z
LAST-MODIFIED:20251128T132431Z
UID:10108554-1772056800-1772062200@www.qxmagazine.com
SUMMARY:The Show After The Show
DESCRIPTION:The Players Bar’s resident pianist Lee Ormsby and a host of other talent playing the biggest and best-loved hits from West End shows past and present\, leading a singalong around the grand piano every Wednesday. Everybody is welcome. \n  \nImage: Lee at The Players Bar
URL:https://www.qxmagazine.com/event/the-show-after-the-show/2026-02-25/
LOCATION:Players Bar\, Charring Cross Theatre\, The Arches\, Villiers St\,\, London\, WC2N 6NL
CATEGORIES:Bars,Discount or Free Entry,LGBTQ+ Live Music
ATTACH;FMTTYPE=image/jpeg:https://www.qxmagazine.com/wp-content/uploads/2025/11/imageedit_60_4164420217-2.jpg
END:VEVENT
BEGIN:VEVENT
DTSTART;TZID=UTC:20260218T220000
DTEND;TZID=UTC:20260218T233000
DTSTAMP:20260424T094223
CREATED:20251128T114655Z
LAST-MODIFIED:20251128T132431Z
UID:10108553-1771452000-1771457400@www.qxmagazine.com
SUMMARY:The Show After The Show
DESCRIPTION:The Players Bar’s resident pianist Lee Ormsby and a host of other talent playing the biggest and best-loved hits from West End shows past and present\, leading a singalong around the grand piano every Wednesday. Everybody is welcome. \n  \nImage: Lee at The Players Bar
URL:https://www.qxmagazine.com/event/the-show-after-the-show/2026-02-18/
LOCATION:Players Bar\, Charring Cross Theatre\, The Arches\, Villiers St\,\, London\, WC2N 6NL
CATEGORIES:Bars,Discount or Free Entry,LGBTQ+ Live Music
ATTACH;FMTTYPE=image/jpeg:https://www.qxmagazine.com/wp-content/uploads/2025/11/imageedit_60_4164420217-2.jpg
END:VEVENT
BEGIN:VEVENT
DTSTART;TZID=UTC:20260211T220000
DTEND;TZID=UTC:20260211T233000
DTSTAMP:20260424T094223
CREATED:20251128T114655Z
LAST-MODIFIED:20251128T132431Z
UID:10108552-1770847200-1770852600@www.qxmagazine.com
SUMMARY:The Show After The Show
DESCRIPTION:The Players Bar’s resident pianist Lee Ormsby and a host of other talent playing the biggest and best-loved hits from West End shows past and present\, leading a singalong around the grand piano every Wednesday. Everybody is welcome. \n  \nImage: Lee at The Players Bar
URL:https://www.qxmagazine.com/event/the-show-after-the-show/2026-02-11/
LOCATION:Players Bar\, Charring Cross Theatre\, The Arches\, Villiers St\,\, London\, WC2N 6NL
CATEGORIES:Bars,Discount or Free Entry,LGBTQ+ Live Music
ATTACH;FMTTYPE=image/jpeg:https://www.qxmagazine.com/wp-content/uploads/2025/11/imageedit_60_4164420217-2.jpg
END:VEVENT
BEGIN:VEVENT
DTSTART;TZID=UTC:20260204T220000
DTEND;TZID=UTC:20260204T233000
DTSTAMP:20260424T094223
CREATED:20251128T114655Z
LAST-MODIFIED:20251128T132431Z
UID:10108551-1770242400-1770247800@www.qxmagazine.com
SUMMARY:The Show After The Show
DESCRIPTION:The Players Bar’s resident pianist Lee Ormsby and a host of other talent playing the biggest and best-loved hits from West End shows past and present\, leading a singalong around the grand piano every Wednesday. Everybody is welcome. \n  \nImage: Lee at The Players Bar
URL:https://www.qxmagazine.com/event/the-show-after-the-show/2026-02-04/
LOCATION:Players Bar\, Charring Cross Theatre\, The Arches\, Villiers St\,\, London\, WC2N 6NL
CATEGORIES:Bars,Discount or Free Entry,LGBTQ+ Live Music
ATTACH;FMTTYPE=image/jpeg:https://www.qxmagazine.com/wp-content/uploads/2025/11/imageedit_60_4164420217-2.jpg
END:VEVENT
BEGIN:VEVENT
DTSTART;TZID=UTC:20260128T220000
DTEND;TZID=UTC:20260128T233000
DTSTAMP:20260424T094223
CREATED:20251128T114655Z
LAST-MODIFIED:20251128T132431Z
UID:10108550-1769637600-1769643000@www.qxmagazine.com
SUMMARY:The Show After The Show
DESCRIPTION:The Players Bar’s resident pianist Lee Ormsby and a host of other talent playing the biggest and best-loved hits from West End shows past and present\, leading a singalong around the grand piano every Wednesday. Everybody is welcome. \n  \nImage: Lee at The Players Bar
URL:https://www.qxmagazine.com/event/the-show-after-the-show/2026-01-28/
LOCATION:Players Bar\, Charring Cross Theatre\, The Arches\, Villiers St\,\, London\, WC2N 6NL
CATEGORIES:Bars,Discount or Free Entry,LGBTQ+ Live Music
ATTACH;FMTTYPE=image/jpeg:https://www.qxmagazine.com/wp-content/uploads/2025/11/imageedit_60_4164420217-2.jpg
END:VEVENT
BEGIN:VEVENT
DTSTART;TZID=UTC:20260121T220000
DTEND;TZID=UTC:20260121T233000
DTSTAMP:20260424T094223
CREATED:20251128T114655Z
LAST-MODIFIED:20251128T132431Z
UID:10108549-1769032800-1769038200@www.qxmagazine.com
SUMMARY:The Show After The Show
DESCRIPTION:The Players Bar’s resident pianist Lee Ormsby and a host of other talent playing the biggest and best-loved hits from West End shows past and present\, leading a singalong around the grand piano every Wednesday. Everybody is welcome. \n  \nImage: Lee at The Players Bar
URL:https://www.qxmagazine.com/event/the-show-after-the-show/2026-01-21/
LOCATION:Players Bar\, Charring Cross Theatre\, The Arches\, Villiers St\,\, London\, WC2N 6NL
CATEGORIES:Bars,Discount or Free Entry,LGBTQ+ Live Music
ATTACH;FMTTYPE=image/jpeg:https://www.qxmagazine.com/wp-content/uploads/2025/11/imageedit_60_4164420217-2.jpg
END:VEVENT
BEGIN:VEVENT
DTSTART;TZID=UTC:20260114T220000
DTEND;TZID=UTC:20260114T233000
DTSTAMP:20260424T094223
CREATED:20251128T114655Z
LAST-MODIFIED:20251128T132431Z
UID:10108548-1768428000-1768433400@www.qxmagazine.com
SUMMARY:The Show After The Show
DESCRIPTION:The Players Bar’s resident pianist Lee Ormsby and a host of other talent playing the biggest and best-loved hits from West End shows past and present\, leading a singalong around the grand piano every Wednesday. Everybody is welcome. \n  \nImage: Lee at The Players Bar
URL:https://www.qxmagazine.com/event/the-show-after-the-show/2026-01-14/
LOCATION:Players Bar\, Charring Cross Theatre\, The Arches\, Villiers St\,\, London\, WC2N 6NL
CATEGORIES:Bars,Discount or Free Entry,LGBTQ+ Live Music
ATTACH;FMTTYPE=image/jpeg:https://www.qxmagazine.com/wp-content/uploads/2025/11/imageedit_60_4164420217-2.jpg
END:VEVENT
BEGIN:VEVENT
DTSTART;TZID=UTC:20260107T220000
DTEND;TZID=UTC:20260107T233000
DTSTAMP:20260424T094223
CREATED:20251128T114655Z
LAST-MODIFIED:20251128T132431Z
UID:10108547-1767823200-1767828600@www.qxmagazine.com
SUMMARY:The Show After The Show
DESCRIPTION:The Players Bar’s resident pianist Lee Ormsby and a host of other talent playing the biggest and best-loved hits from West End shows past and present\, leading a singalong around the grand piano every Wednesday. Everybody is welcome. \n  \nImage: Lee at The Players Bar
URL:https://www.qxmagazine.com/event/the-show-after-the-show/2026-01-07/
LOCATION:Players Bar\, Charring Cross Theatre\, The Arches\, Villiers St\,\, London\, WC2N 6NL
CATEGORIES:Bars,Discount or Free Entry,LGBTQ+ Live Music
ATTACH;FMTTYPE=image/jpeg:https://www.qxmagazine.com/wp-content/uploads/2025/11/imageedit_60_4164420217-2.jpg
END:VEVENT
BEGIN:VEVENT
DTSTART;TZID=UTC:20251217T220000
DTEND;TZID=UTC:20251217T233000
DTSTAMP:20260424T094223
CREATED:20251128T114655Z
LAST-MODIFIED:20251128T132431Z
UID:10108544-1766008800-1766014200@www.qxmagazine.com
SUMMARY:The Show After The Show
DESCRIPTION:The Players Bar’s resident pianist Lee Ormsby and a host of other talent playing the biggest and best-loved hits from West End shows past and present\, leading a singalong around the grand piano every Wednesday. Everybody is welcome. \n  \nImage: Lee at The Players Bar
URL:https://www.qxmagazine.com/event/the-show-after-the-show/2025-12-17/
LOCATION:Players Bar\, Charring Cross Theatre\, The Arches\, Villiers St\,\, London\, WC2N 6NL
CATEGORIES:Bars,Discount or Free Entry,LGBTQ+ Live Music
ATTACH;FMTTYPE=image/jpeg:https://www.qxmagazine.com/wp-content/uploads/2025/11/imageedit_60_4164420217-2.jpg
END:VEVENT
BEGIN:VEVENT
DTSTART;TZID=UTC:20251210T220000
DTEND;TZID=UTC:20251210T233000
DTSTAMP:20260424T094223
CREATED:20251128T114655Z
LAST-MODIFIED:20251128T132431Z
UID:10108543-1765404000-1765409400@www.qxmagazine.com
SUMMARY:The Show After The Show
DESCRIPTION:The Players Bar’s resident pianist Lee Ormsby and a host of other talent playing the biggest and best-loved hits from West End shows past and present\, leading a singalong around the grand piano every Wednesday. Everybody is welcome. \n  \nImage: Lee at The Players Bar
URL:https://www.qxmagazine.com/event/the-show-after-the-show/2025-12-10/
LOCATION:Players Bar\, Charring Cross Theatre\, The Arches\, Villiers St\,\, London\, WC2N 6NL
CATEGORIES:Bars,Discount or Free Entry,LGBTQ+ Live Music
ATTACH;FMTTYPE=image/jpeg:https://www.qxmagazine.com/wp-content/uploads/2025/11/imageedit_60_4164420217-2.jpg
END:VEVENT
BEGIN:VEVENT
DTSTART;TZID=UTC:20251203T220000
DTEND;TZID=UTC:20251203T233000
DTSTAMP:20260424T094223
CREATED:20251128T114655Z
LAST-MODIFIED:20251128T132431Z
UID:10108542-1764799200-1764804600@www.qxmagazine.com
SUMMARY:The Show After The Show
DESCRIPTION:The Players Bar’s resident pianist Lee Ormsby and a host of other talent playing the biggest and best-loved hits from West End shows past and present\, leading a singalong around the grand piano every Wednesday. Everybody is welcome. \n  \nImage: Lee at The Players Bar
URL:https://www.qxmagazine.com/event/the-show-after-the-show/2025-12-03/
LOCATION:Players Bar\, Charring Cross Theatre\, The Arches\, Villiers St\,\, London\, WC2N 6NL
CATEGORIES:Bars,Discount or Free Entry,LGBTQ+ Live Music
ATTACH;FMTTYPE=image/jpeg:https://www.qxmagazine.com/wp-content/uploads/2025/11/imageedit_60_4164420217-2.jpg
END:VEVENT
END:VCALENDAR