BEGIN:VCALENDAR
VERSION:2.0
PRODID:-//QX Magazine - ECPv6.15.20//NONSGML v1.0//EN
CALSCALE:GREGORIAN
METHOD:PUBLISH
X-ORIGINAL-URL:https://www.qxmagazine.com
X-WR-CALDESC:Events for QX Magazine
REFRESH-INTERVAL;VALUE=DURATION:PT1H
X-Robots-Tag:noindex
X-PUBLISHED-TTL:PT1H
BEGIN:VTIMEZONE
TZID:UTC
BEGIN:STANDARD
TZOFFSETFROM:+0000
TZOFFSETTO:+0000
TZNAME:UTC
DTSTART:20260101T000000
END:STANDARD
END:VTIMEZONE
BEGIN:VEVENT
DTSTART;TZID=UTC:20270616T220000
DTEND;TZID=UTC:20270616T233000
DTSTAMP:20260422T144158
CREATED:20251128T114655Z
LAST-MODIFIED:20251128T132431Z
UID:10108622-1813183200-1813188600@www.qxmagazine.com
SUMMARY:The Show After The Show
DESCRIPTION:The Players Bar’s resident pianist Lee Ormsby and a host of other talent playing the biggest and best-loved hits from West End shows past and present\, leading a singalong around the grand piano every Wednesday. Everybody is welcome. \n  \nImage: Lee at The Players Bar
URL:https://www.qxmagazine.com/event/the-show-after-the-show/2027-06-16/
LOCATION:Players Bar\, Charring Cross Theatre\, The Arches\, Villiers St\,\, London\, WC2N 6NL
CATEGORIES:Bars,Discount or Free Entry,LGBTQ+ Live Music
ATTACH;FMTTYPE=image/jpeg:https://www.qxmagazine.com/wp-content/uploads/2025/11/imageedit_60_4164420217-2.jpg
END:VEVENT
BEGIN:VEVENT
DTSTART;TZID=UTC:20270623T220000
DTEND;TZID=UTC:20270623T233000
DTSTAMP:20260422T144158
CREATED:20251128T114655Z
LAST-MODIFIED:20251128T132431Z
UID:10108623-1813788000-1813793400@www.qxmagazine.com
SUMMARY:The Show After The Show
DESCRIPTION:The Players Bar’s resident pianist Lee Ormsby and a host of other talent playing the biggest and best-loved hits from West End shows past and present\, leading a singalong around the grand piano every Wednesday. Everybody is welcome. \n  \nImage: Lee at The Players Bar
URL:https://www.qxmagazine.com/event/the-show-after-the-show/2027-06-23/
LOCATION:Players Bar\, Charring Cross Theatre\, The Arches\, Villiers St\,\, London\, WC2N 6NL
CATEGORIES:Bars,Discount or Free Entry,LGBTQ+ Live Music
ATTACH;FMTTYPE=image/jpeg:https://www.qxmagazine.com/wp-content/uploads/2025/11/imageedit_60_4164420217-2.jpg
END:VEVENT
BEGIN:VEVENT
DTSTART;TZID=UTC:20270630T220000
DTEND;TZID=UTC:20270630T233000
DTSTAMP:20260422T144158
CREATED:20251128T114655Z
LAST-MODIFIED:20251128T132431Z
UID:10108624-1814392800-1814398200@www.qxmagazine.com
SUMMARY:The Show After The Show
DESCRIPTION:The Players Bar’s resident pianist Lee Ormsby and a host of other talent playing the biggest and best-loved hits from West End shows past and present\, leading a singalong around the grand piano every Wednesday. Everybody is welcome. \n  \nImage: Lee at The Players Bar
URL:https://www.qxmagazine.com/event/the-show-after-the-show/2027-06-30/
LOCATION:Players Bar\, Charring Cross Theatre\, The Arches\, Villiers St\,\, London\, WC2N 6NL
CATEGORIES:Bars,Discount or Free Entry,LGBTQ+ Live Music
ATTACH;FMTTYPE=image/jpeg:https://www.qxmagazine.com/wp-content/uploads/2025/11/imageedit_60_4164420217-2.jpg
END:VEVENT
BEGIN:VEVENT
DTSTART;TZID=UTC:20270707T220000
DTEND;TZID=UTC:20270707T233000
DTSTAMP:20260422T144158
CREATED:20251128T114655Z
LAST-MODIFIED:20251128T132431Z
UID:10108625-1814997600-1815003000@www.qxmagazine.com
SUMMARY:The Show After The Show
DESCRIPTION:The Players Bar’s resident pianist Lee Ormsby and a host of other talent playing the biggest and best-loved hits from West End shows past and present\, leading a singalong around the grand piano every Wednesday. Everybody is welcome. \n  \nImage: Lee at The Players Bar
URL:https://www.qxmagazine.com/event/the-show-after-the-show/2027-07-07/
LOCATION:Players Bar\, Charring Cross Theatre\, The Arches\, Villiers St\,\, London\, WC2N 6NL
CATEGORIES:Bars,Discount or Free Entry,LGBTQ+ Live Music
ATTACH;FMTTYPE=image/jpeg:https://www.qxmagazine.com/wp-content/uploads/2025/11/imageedit_60_4164420217-2.jpg
END:VEVENT
BEGIN:VEVENT
DTSTART;TZID=UTC:20270714T220000
DTEND;TZID=UTC:20270714T233000
DTSTAMP:20260422T144158
CREATED:20251128T114655Z
LAST-MODIFIED:20251128T132431Z
UID:10108626-1815602400-1815607800@www.qxmagazine.com
SUMMARY:The Show After The Show
DESCRIPTION:The Players Bar’s resident pianist Lee Ormsby and a host of other talent playing the biggest and best-loved hits from West End shows past and present\, leading a singalong around the grand piano every Wednesday. Everybody is welcome. \n  \nImage: Lee at The Players Bar
URL:https://www.qxmagazine.com/event/the-show-after-the-show/2027-07-14/
LOCATION:Players Bar\, Charring Cross Theatre\, The Arches\, Villiers St\,\, London\, WC2N 6NL
CATEGORIES:Bars,Discount or Free Entry,LGBTQ+ Live Music
ATTACH;FMTTYPE=image/jpeg:https://www.qxmagazine.com/wp-content/uploads/2025/11/imageedit_60_4164420217-2.jpg
END:VEVENT
BEGIN:VEVENT
DTSTART;TZID=UTC:20270721T220000
DTEND;TZID=UTC:20270721T233000
DTSTAMP:20260422T144158
CREATED:20251128T114655Z
LAST-MODIFIED:20251128T132431Z
UID:10108627-1816207200-1816212600@www.qxmagazine.com
SUMMARY:The Show After The Show
DESCRIPTION:The Players Bar’s resident pianist Lee Ormsby and a host of other talent playing the biggest and best-loved hits from West End shows past and present\, leading a singalong around the grand piano every Wednesday. Everybody is welcome. \n  \nImage: Lee at The Players Bar
URL:https://www.qxmagazine.com/event/the-show-after-the-show/2027-07-21/
LOCATION:Players Bar\, Charring Cross Theatre\, The Arches\, Villiers St\,\, London\, WC2N 6NL
CATEGORIES:Bars,Discount or Free Entry,LGBTQ+ Live Music
ATTACH;FMTTYPE=image/jpeg:https://www.qxmagazine.com/wp-content/uploads/2025/11/imageedit_60_4164420217-2.jpg
END:VEVENT
BEGIN:VEVENT
DTSTART;TZID=UTC:20270728T220000
DTEND;TZID=UTC:20270728T233000
DTSTAMP:20260422T144158
CREATED:20251128T114655Z
LAST-MODIFIED:20251128T132431Z
UID:10108628-1816812000-1816817400@www.qxmagazine.com
SUMMARY:The Show After The Show
DESCRIPTION:The Players Bar’s resident pianist Lee Ormsby and a host of other talent playing the biggest and best-loved hits from West End shows past and present\, leading a singalong around the grand piano every Wednesday. Everybody is welcome. \n  \nImage: Lee at The Players Bar
URL:https://www.qxmagazine.com/event/the-show-after-the-show/2027-07-28/
LOCATION:Players Bar\, Charring Cross Theatre\, The Arches\, Villiers St\,\, London\, WC2N 6NL
CATEGORIES:Bars,Discount or Free Entry,LGBTQ+ Live Music
ATTACH;FMTTYPE=image/jpeg:https://www.qxmagazine.com/wp-content/uploads/2025/11/imageedit_60_4164420217-2.jpg
END:VEVENT
BEGIN:VEVENT
DTSTART;TZID=UTC:20270804T220000
DTEND;TZID=UTC:20270804T233000
DTSTAMP:20260422T144158
CREATED:20251128T114655Z
LAST-MODIFIED:20251128T132431Z
UID:10108629-1817416800-1817422200@www.qxmagazine.com
SUMMARY:The Show After The Show
DESCRIPTION:The Players Bar’s resident pianist Lee Ormsby and a host of other talent playing the biggest and best-loved hits from West End shows past and present\, leading a singalong around the grand piano every Wednesday. Everybody is welcome. \n  \nImage: Lee at The Players Bar
URL:https://www.qxmagazine.com/event/the-show-after-the-show/2027-08-04/
LOCATION:Players Bar\, Charring Cross Theatre\, The Arches\, Villiers St\,\, London\, WC2N 6NL
CATEGORIES:Bars,Discount or Free Entry,LGBTQ+ Live Music
ATTACH;FMTTYPE=image/jpeg:https://www.qxmagazine.com/wp-content/uploads/2025/11/imageedit_60_4164420217-2.jpg
END:VEVENT
BEGIN:VEVENT
DTSTART;TZID=UTC:20270811T220000
DTEND;TZID=UTC:20270811T233000
DTSTAMP:20260422T144158
CREATED:20251128T114655Z
LAST-MODIFIED:20251128T132431Z
UID:10108630-1818021600-1818027000@www.qxmagazine.com
SUMMARY:The Show After The Show
DESCRIPTION:The Players Bar’s resident pianist Lee Ormsby and a host of other talent playing the biggest and best-loved hits from West End shows past and present\, leading a singalong around the grand piano every Wednesday. Everybody is welcome. \n  \nImage: Lee at The Players Bar
URL:https://www.qxmagazine.com/event/the-show-after-the-show/2027-08-11/
LOCATION:Players Bar\, Charring Cross Theatre\, The Arches\, Villiers St\,\, London\, WC2N 6NL
CATEGORIES:Bars,Discount or Free Entry,LGBTQ+ Live Music
ATTACH;FMTTYPE=image/jpeg:https://www.qxmagazine.com/wp-content/uploads/2025/11/imageedit_60_4164420217-2.jpg
END:VEVENT
BEGIN:VEVENT
DTSTART;TZID=UTC:20270818T220000
DTEND;TZID=UTC:20270818T233000
DTSTAMP:20260422T144159
CREATED:20251128T114655Z
LAST-MODIFIED:20251128T132431Z
UID:10108631-1818626400-1818631800@www.qxmagazine.com
SUMMARY:The Show After The Show
DESCRIPTION:The Players Bar’s resident pianist Lee Ormsby and a host of other talent playing the biggest and best-loved hits from West End shows past and present\, leading a singalong around the grand piano every Wednesday. Everybody is welcome. \n  \nImage: Lee at The Players Bar
URL:https://www.qxmagazine.com/event/the-show-after-the-show/2027-08-18/
LOCATION:Players Bar\, Charring Cross Theatre\, The Arches\, Villiers St\,\, London\, WC2N 6NL
CATEGORIES:Bars,Discount or Free Entry,LGBTQ+ Live Music
ATTACH;FMTTYPE=image/jpeg:https://www.qxmagazine.com/wp-content/uploads/2025/11/imageedit_60_4164420217-2.jpg
END:VEVENT
BEGIN:VEVENT
DTSTART;TZID=UTC:20270825T220000
DTEND;TZID=UTC:20270825T233000
DTSTAMP:20260422T144159
CREATED:20251128T114655Z
LAST-MODIFIED:20251128T132431Z
UID:10108632-1819231200-1819236600@www.qxmagazine.com
SUMMARY:The Show After The Show
DESCRIPTION:The Players Bar’s resident pianist Lee Ormsby and a host of other talent playing the biggest and best-loved hits from West End shows past and present\, leading a singalong around the grand piano every Wednesday. Everybody is welcome. \n  \nImage: Lee at The Players Bar
URL:https://www.qxmagazine.com/event/the-show-after-the-show/2027-08-25/
LOCATION:Players Bar\, Charring Cross Theatre\, The Arches\, Villiers St\,\, London\, WC2N 6NL
CATEGORIES:Bars,Discount or Free Entry,LGBTQ+ Live Music
ATTACH;FMTTYPE=image/jpeg:https://www.qxmagazine.com/wp-content/uploads/2025/11/imageedit_60_4164420217-2.jpg
END:VEVENT
BEGIN:VEVENT
DTSTART;TZID=UTC:20270901T220000
DTEND;TZID=UTC:20270901T233000
DTSTAMP:20260422T144159
CREATED:20251128T114655Z
LAST-MODIFIED:20251128T132431Z
UID:10108633-1819836000-1819841400@www.qxmagazine.com
SUMMARY:The Show After The Show
DESCRIPTION:The Players Bar’s resident pianist Lee Ormsby and a host of other talent playing the biggest and best-loved hits from West End shows past and present\, leading a singalong around the grand piano every Wednesday. Everybody is welcome. \n  \nImage: Lee at The Players Bar
URL:https://www.qxmagazine.com/event/the-show-after-the-show/2027-09-01/
LOCATION:Players Bar\, Charring Cross Theatre\, The Arches\, Villiers St\,\, London\, WC2N 6NL
CATEGORIES:Bars,Discount or Free Entry,LGBTQ+ Live Music
ATTACH;FMTTYPE=image/jpeg:https://www.qxmagazine.com/wp-content/uploads/2025/11/imageedit_60_4164420217-2.jpg
END:VEVENT
BEGIN:VEVENT
DTSTART;TZID=UTC:20270908T220000
DTEND;TZID=UTC:20270908T233000
DTSTAMP:20260422T144159
CREATED:20251128T114655Z
LAST-MODIFIED:20251128T132431Z
UID:10108634-1820440800-1820446200@www.qxmagazine.com
SUMMARY:The Show After The Show
DESCRIPTION:The Players Bar’s resident pianist Lee Ormsby and a host of other talent playing the biggest and best-loved hits from West End shows past and present\, leading a singalong around the grand piano every Wednesday. Everybody is welcome. \n  \nImage: Lee at The Players Bar
URL:https://www.qxmagazine.com/event/the-show-after-the-show/2027-09-08/
LOCATION:Players Bar\, Charring Cross Theatre\, The Arches\, Villiers St\,\, London\, WC2N 6NL
CATEGORIES:Bars,Discount or Free Entry,LGBTQ+ Live Music
ATTACH;FMTTYPE=image/jpeg:https://www.qxmagazine.com/wp-content/uploads/2025/11/imageedit_60_4164420217-2.jpg
END:VEVENT
BEGIN:VEVENT
DTSTART;TZID=UTC:20270915T220000
DTEND;TZID=UTC:20270915T233000
DTSTAMP:20260422T144159
CREATED:20251128T114655Z
LAST-MODIFIED:20251128T132431Z
UID:10108635-1821045600-1821051000@www.qxmagazine.com
SUMMARY:The Show After The Show
DESCRIPTION:The Players Bar’s resident pianist Lee Ormsby and a host of other talent playing the biggest and best-loved hits from West End shows past and present\, leading a singalong around the grand piano every Wednesday. Everybody is welcome. \n  \nImage: Lee at The Players Bar
URL:https://www.qxmagazine.com/event/the-show-after-the-show/2027-09-15/
LOCATION:Players Bar\, Charring Cross Theatre\, The Arches\, Villiers St\,\, London\, WC2N 6NL
CATEGORIES:Bars,Discount or Free Entry,LGBTQ+ Live Music
ATTACH;FMTTYPE=image/jpeg:https://www.qxmagazine.com/wp-content/uploads/2025/11/imageedit_60_4164420217-2.jpg
END:VEVENT
BEGIN:VEVENT
DTSTART;TZID=UTC:20270922T220000
DTEND;TZID=UTC:20270922T233000
DTSTAMP:20260422T144159
CREATED:20251128T114655Z
LAST-MODIFIED:20251128T132431Z
UID:10108636-1821650400-1821655800@www.qxmagazine.com
SUMMARY:The Show After The Show
DESCRIPTION:The Players Bar’s resident pianist Lee Ormsby and a host of other talent playing the biggest and best-loved hits from West End shows past and present\, leading a singalong around the grand piano every Wednesday. Everybody is welcome. \n  \nImage: Lee at The Players Bar
URL:https://www.qxmagazine.com/event/the-show-after-the-show/2027-09-22/
LOCATION:Players Bar\, Charring Cross Theatre\, The Arches\, Villiers St\,\, London\, WC2N 6NL
CATEGORIES:Bars,Discount or Free Entry,LGBTQ+ Live Music
ATTACH;FMTTYPE=image/jpeg:https://www.qxmagazine.com/wp-content/uploads/2025/11/imageedit_60_4164420217-2.jpg
END:VEVENT
BEGIN:VEVENT
DTSTART;TZID=UTC:20270929T220000
DTEND;TZID=UTC:20270929T233000
DTSTAMP:20260422T144159
CREATED:20251128T114655Z
LAST-MODIFIED:20251128T132431Z
UID:10108637-1822255200-1822260600@www.qxmagazine.com
SUMMARY:The Show After The Show
DESCRIPTION:The Players Bar’s resident pianist Lee Ormsby and a host of other talent playing the biggest and best-loved hits from West End shows past and present\, leading a singalong around the grand piano every Wednesday. Everybody is welcome. \n  \nImage: Lee at The Players Bar
URL:https://www.qxmagazine.com/event/the-show-after-the-show/2027-09-29/
LOCATION:Players Bar\, Charring Cross Theatre\, The Arches\, Villiers St\,\, London\, WC2N 6NL
CATEGORIES:Bars,Discount or Free Entry,LGBTQ+ Live Music
ATTACH;FMTTYPE=image/jpeg:https://www.qxmagazine.com/wp-content/uploads/2025/11/imageedit_60_4164420217-2.jpg
END:VEVENT
BEGIN:VEVENT
DTSTART;TZID=UTC:20271006T220000
DTEND;TZID=UTC:20271006T233000
DTSTAMP:20260422T144159
CREATED:20251128T114655Z
LAST-MODIFIED:20251128T132431Z
UID:10108638-1822860000-1822865400@www.qxmagazine.com
SUMMARY:The Show After The Show
DESCRIPTION:The Players Bar’s resident pianist Lee Ormsby and a host of other talent playing the biggest and best-loved hits from West End shows past and present\, leading a singalong around the grand piano every Wednesday. Everybody is welcome. \n  \nImage: Lee at The Players Bar
URL:https://www.qxmagazine.com/event/the-show-after-the-show/2027-10-06/
LOCATION:Players Bar\, Charring Cross Theatre\, The Arches\, Villiers St\,\, London\, WC2N 6NL
CATEGORIES:Bars,Discount or Free Entry,LGBTQ+ Live Music
ATTACH;FMTTYPE=image/jpeg:https://www.qxmagazine.com/wp-content/uploads/2025/11/imageedit_60_4164420217-2.jpg
END:VEVENT
BEGIN:VEVENT
DTSTART;TZID=UTC:20271013T220000
DTEND;TZID=UTC:20271013T233000
DTSTAMP:20260422T144159
CREATED:20251128T114655Z
LAST-MODIFIED:20251128T132431Z
UID:10108639-1823464800-1823470200@www.qxmagazine.com
SUMMARY:The Show After The Show
DESCRIPTION:The Players Bar’s resident pianist Lee Ormsby and a host of other talent playing the biggest and best-loved hits from West End shows past and present\, leading a singalong around the grand piano every Wednesday. Everybody is welcome. \n  \nImage: Lee at The Players Bar
URL:https://www.qxmagazine.com/event/the-show-after-the-show/2027-10-13/
LOCATION:Players Bar\, Charring Cross Theatre\, The Arches\, Villiers St\,\, London\, WC2N 6NL
CATEGORIES:Bars,Discount or Free Entry,LGBTQ+ Live Music
ATTACH;FMTTYPE=image/jpeg:https://www.qxmagazine.com/wp-content/uploads/2025/11/imageedit_60_4164420217-2.jpg
END:VEVENT
BEGIN:VEVENT
DTSTART;TZID=UTC:20271020T220000
DTEND;TZID=UTC:20271020T233000
DTSTAMP:20260422T144159
CREATED:20251128T114655Z
LAST-MODIFIED:20251128T132431Z
UID:10108640-1824069600-1824075000@www.qxmagazine.com
SUMMARY:The Show After The Show
DESCRIPTION:The Players Bar’s resident pianist Lee Ormsby and a host of other talent playing the biggest and best-loved hits from West End shows past and present\, leading a singalong around the grand piano every Wednesday. Everybody is welcome. \n  \nImage: Lee at The Players Bar
URL:https://www.qxmagazine.com/event/the-show-after-the-show/2027-10-20/
LOCATION:Players Bar\, Charring Cross Theatre\, The Arches\, Villiers St\,\, London\, WC2N 6NL
CATEGORIES:Bars,Discount or Free Entry,LGBTQ+ Live Music
ATTACH;FMTTYPE=image/jpeg:https://www.qxmagazine.com/wp-content/uploads/2025/11/imageedit_60_4164420217-2.jpg
END:VEVENT
BEGIN:VEVENT
DTSTART;TZID=UTC:20271027T220000
DTEND;TZID=UTC:20271027T233000
DTSTAMP:20260422T144159
CREATED:20251128T114655Z
LAST-MODIFIED:20251128T132431Z
UID:10108641-1824674400-1824679800@www.qxmagazine.com
SUMMARY:The Show After The Show
DESCRIPTION:The Players Bar’s resident pianist Lee Ormsby and a host of other talent playing the biggest and best-loved hits from West End shows past and present\, leading a singalong around the grand piano every Wednesday. Everybody is welcome. \n  \nImage: Lee at The Players Bar
URL:https://www.qxmagazine.com/event/the-show-after-the-show/2027-10-27/
LOCATION:Players Bar\, Charring Cross Theatre\, The Arches\, Villiers St\,\, London\, WC2N 6NL
CATEGORIES:Bars,Discount or Free Entry,LGBTQ+ Live Music
ATTACH;FMTTYPE=image/jpeg:https://www.qxmagazine.com/wp-content/uploads/2025/11/imageedit_60_4164420217-2.jpg
END:VEVENT
BEGIN:VEVENT
DTSTART;TZID=UTC:20271103T220000
DTEND;TZID=UTC:20271103T233000
DTSTAMP:20260422T144159
CREATED:20251128T114655Z
LAST-MODIFIED:20251128T132431Z
UID:10108642-1825279200-1825284600@www.qxmagazine.com
SUMMARY:The Show After The Show
DESCRIPTION:The Players Bar’s resident pianist Lee Ormsby and a host of other talent playing the biggest and best-loved hits from West End shows past and present\, leading a singalong around the grand piano every Wednesday. Everybody is welcome. \n  \nImage: Lee at The Players Bar
URL:https://www.qxmagazine.com/event/the-show-after-the-show/2027-11-03/
LOCATION:Players Bar\, Charring Cross Theatre\, The Arches\, Villiers St\,\, London\, WC2N 6NL
CATEGORIES:Bars,Discount or Free Entry,LGBTQ+ Live Music
ATTACH;FMTTYPE=image/jpeg:https://www.qxmagazine.com/wp-content/uploads/2025/11/imageedit_60_4164420217-2.jpg
END:VEVENT
BEGIN:VEVENT
DTSTART;TZID=UTC:20271110T220000
DTEND;TZID=UTC:20271110T233000
DTSTAMP:20260422T144159
CREATED:20251128T114655Z
LAST-MODIFIED:20251128T132431Z
UID:10108643-1825884000-1825889400@www.qxmagazine.com
SUMMARY:The Show After The Show
DESCRIPTION:The Players Bar’s resident pianist Lee Ormsby and a host of other talent playing the biggest and best-loved hits from West End shows past and present\, leading a singalong around the grand piano every Wednesday. Everybody is welcome. \n  \nImage: Lee at The Players Bar
URL:https://www.qxmagazine.com/event/the-show-after-the-show/2027-11-10/
LOCATION:Players Bar\, Charring Cross Theatre\, The Arches\, Villiers St\,\, London\, WC2N 6NL
CATEGORIES:Bars,Discount or Free Entry,LGBTQ+ Live Music
ATTACH;FMTTYPE=image/jpeg:https://www.qxmagazine.com/wp-content/uploads/2025/11/imageedit_60_4164420217-2.jpg
END:VEVENT
BEGIN:VEVENT
DTSTART;TZID=UTC:20271117T220000
DTEND;TZID=UTC:20271117T233000
DTSTAMP:20260422T144159
CREATED:20251128T114655Z
LAST-MODIFIED:20251128T132431Z
UID:10108644-1826488800-1826494200@www.qxmagazine.com
SUMMARY:The Show After The Show
DESCRIPTION:The Players Bar’s resident pianist Lee Ormsby and a host of other talent playing the biggest and best-loved hits from West End shows past and present\, leading a singalong around the grand piano every Wednesday. Everybody is welcome. \n  \nImage: Lee at The Players Bar
URL:https://www.qxmagazine.com/event/the-show-after-the-show/2027-11-17/
LOCATION:Players Bar\, Charring Cross Theatre\, The Arches\, Villiers St\,\, London\, WC2N 6NL
CATEGORIES:Bars,Discount or Free Entry,LGBTQ+ Live Music
ATTACH;FMTTYPE=image/jpeg:https://www.qxmagazine.com/wp-content/uploads/2025/11/imageedit_60_4164420217-2.jpg
END:VEVENT
BEGIN:VEVENT
DTSTART;TZID=UTC:20271124T220000
DTEND;TZID=UTC:20271124T233000
DTSTAMP:20260422T144159
CREATED:20251128T114655Z
LAST-MODIFIED:20251128T132431Z
UID:10108645-1827093600-1827099000@www.qxmagazine.com
SUMMARY:The Show After The Show
DESCRIPTION:The Players Bar’s resident pianist Lee Ormsby and a host of other talent playing the biggest and best-loved hits from West End shows past and present\, leading a singalong around the grand piano every Wednesday. Everybody is welcome. \n  \nImage: Lee at The Players Bar
URL:https://www.qxmagazine.com/event/the-show-after-the-show/2027-11-24/
LOCATION:Players Bar\, Charring Cross Theatre\, The Arches\, Villiers St\,\, London\, WC2N 6NL
CATEGORIES:Bars,Discount or Free Entry,LGBTQ+ Live Music
ATTACH;FMTTYPE=image/jpeg:https://www.qxmagazine.com/wp-content/uploads/2025/11/imageedit_60_4164420217-2.jpg
END:VEVENT
BEGIN:VEVENT
DTSTART;TZID=UTC:20271201T220000
DTEND;TZID=UTC:20271201T233000
DTSTAMP:20260422T144159
CREATED:20251128T114655Z
LAST-MODIFIED:20251128T132431Z
UID:10108646-1827698400-1827703800@www.qxmagazine.com
SUMMARY:The Show After The Show
DESCRIPTION:The Players Bar’s resident pianist Lee Ormsby and a host of other talent playing the biggest and best-loved hits from West End shows past and present\, leading a singalong around the grand piano every Wednesday. Everybody is welcome. \n  \nImage: Lee at The Players Bar
URL:https://www.qxmagazine.com/event/the-show-after-the-show/2027-12-01/
LOCATION:Players Bar\, Charring Cross Theatre\, The Arches\, Villiers St\,\, London\, WC2N 6NL
CATEGORIES:Bars,Discount or Free Entry,LGBTQ+ Live Music
ATTACH;FMTTYPE=image/jpeg:https://www.qxmagazine.com/wp-content/uploads/2025/11/imageedit_60_4164420217-2.jpg
END:VEVENT
BEGIN:VEVENT
DTSTART;TZID=UTC:20271208T220000
DTEND;TZID=UTC:20271208T233000
DTSTAMP:20260422T144159
CREATED:20251128T114655Z
LAST-MODIFIED:20251128T132431Z
UID:10108647-1828303200-1828308600@www.qxmagazine.com
SUMMARY:The Show After The Show
DESCRIPTION:The Players Bar’s resident pianist Lee Ormsby and a host of other talent playing the biggest and best-loved hits from West End shows past and present\, leading a singalong around the grand piano every Wednesday. Everybody is welcome. \n  \nImage: Lee at The Players Bar
URL:https://www.qxmagazine.com/event/the-show-after-the-show/2027-12-08/
LOCATION:Players Bar\, Charring Cross Theatre\, The Arches\, Villiers St\,\, London\, WC2N 6NL
CATEGORIES:Bars,Discount or Free Entry,LGBTQ+ Live Music
ATTACH;FMTTYPE=image/jpeg:https://www.qxmagazine.com/wp-content/uploads/2025/11/imageedit_60_4164420217-2.jpg
END:VEVENT
BEGIN:VEVENT
DTSTART;TZID=UTC:20271215T220000
DTEND;TZID=UTC:20271215T233000
DTSTAMP:20260422T144159
CREATED:20251128T114655Z
LAST-MODIFIED:20251128T132431Z
UID:10108648-1828908000-1828913400@www.qxmagazine.com
SUMMARY:The Show After The Show
DESCRIPTION:The Players Bar’s resident pianist Lee Ormsby and a host of other talent playing the biggest and best-loved hits from West End shows past and present\, leading a singalong around the grand piano every Wednesday. Everybody is welcome. \n  \nImage: Lee at The Players Bar
URL:https://www.qxmagazine.com/event/the-show-after-the-show/2027-12-15/
LOCATION:Players Bar\, Charring Cross Theatre\, The Arches\, Villiers St\,\, London\, WC2N 6NL
CATEGORIES:Bars,Discount or Free Entry,LGBTQ+ Live Music
ATTACH;FMTTYPE=image/jpeg:https://www.qxmagazine.com/wp-content/uploads/2025/11/imageedit_60_4164420217-2.jpg
END:VEVENT
BEGIN:VEVENT
DTSTART;TZID=UTC:20271222T220000
DTEND;TZID=UTC:20271222T233000
DTSTAMP:20260422T144159
CREATED:20251128T114655Z
LAST-MODIFIED:20251128T132431Z
UID:10108649-1829512800-1829518200@www.qxmagazine.com
SUMMARY:The Show After The Show
DESCRIPTION:The Players Bar’s resident pianist Lee Ormsby and a host of other talent playing the biggest and best-loved hits from West End shows past and present\, leading a singalong around the grand piano every Wednesday. Everybody is welcome. \n  \nImage: Lee at The Players Bar
URL:https://www.qxmagazine.com/event/the-show-after-the-show/2027-12-22/
LOCATION:Players Bar\, Charring Cross Theatre\, The Arches\, Villiers St\,\, London\, WC2N 6NL
CATEGORIES:Bars,Discount or Free Entry,LGBTQ+ Live Music
ATTACH;FMTTYPE=image/jpeg:https://www.qxmagazine.com/wp-content/uploads/2025/11/imageedit_60_4164420217-2.jpg
END:VEVENT
BEGIN:VEVENT
DTSTART;TZID=UTC:20271229T220000
DTEND;TZID=UTC:20271229T233000
DTSTAMP:20260422T144159
CREATED:20251128T114655Z
LAST-MODIFIED:20251128T132431Z
UID:10108650-1830117600-1830123000@www.qxmagazine.com
SUMMARY:The Show After The Show
DESCRIPTION:The Players Bar’s resident pianist Lee Ormsby and a host of other talent playing the biggest and best-loved hits from West End shows past and present\, leading a singalong around the grand piano every Wednesday. Everybody is welcome. \n  \nImage: Lee at The Players Bar
URL:https://www.qxmagazine.com/event/the-show-after-the-show/2027-12-29/
LOCATION:Players Bar\, Charring Cross Theatre\, The Arches\, Villiers St\,\, London\, WC2N 6NL
CATEGORIES:Bars,Discount or Free Entry,LGBTQ+ Live Music
ATTACH;FMTTYPE=image/jpeg:https://www.qxmagazine.com/wp-content/uploads/2025/11/imageedit_60_4164420217-2.jpg
END:VEVENT
BEGIN:VEVENT
DTSTART;TZID=UTC:20280105T220000
DTEND;TZID=UTC:20280105T233000
DTSTAMP:20260422T144159
CREATED:20251128T114655Z
LAST-MODIFIED:20251128T132431Z
UID:10108651-1830722400-1830727800@www.qxmagazine.com
SUMMARY:The Show After The Show
DESCRIPTION:The Players Bar’s resident pianist Lee Ormsby and a host of other talent playing the biggest and best-loved hits from West End shows past and present\, leading a singalong around the grand piano every Wednesday. Everybody is welcome. \n  \nImage: Lee at The Players Bar
URL:https://www.qxmagazine.com/event/the-show-after-the-show/2028-01-05/
LOCATION:Players Bar\, Charring Cross Theatre\, The Arches\, Villiers St\,\, London\, WC2N 6NL
CATEGORIES:Bars,Discount or Free Entry,LGBTQ+ Live Music
ATTACH;FMTTYPE=image/jpeg:https://www.qxmagazine.com/wp-content/uploads/2025/11/imageedit_60_4164420217-2.jpg
END:VEVENT
END:VCALENDAR