BEGIN:VCALENDAR
VERSION:2.0
PRODID:-//QX Magazine - ECPv6.15.20//NONSGML v1.0//EN
CALSCALE:GREGORIAN
METHOD:PUBLISH
X-WR-CALNAME:QX Magazine
X-ORIGINAL-URL:https://www.qxmagazine.com
X-WR-CALDESC:Events for QX Magazine
REFRESH-INTERVAL;VALUE=DURATION:PT1H
X-Robots-Tag:noindex
X-PUBLISHED-TTL:PT1H
BEGIN:VTIMEZONE
TZID:UTC
BEGIN:STANDARD
TZOFFSETFROM:+0000
TZOFFSETTO:+0000
TZNAME:UTC
DTSTART:20270101T000000
END:STANDARD
END:VTIMEZONE
BEGIN:VEVENT
DTSTART;TZID=UTC:20280112T220000
DTEND;TZID=UTC:20280112T233000
DTSTAMP:20260422T161053
CREATED:20251128T114655Z
LAST-MODIFIED:20251128T132431Z
UID:10108652-1831327200-1831332600@www.qxmagazine.com
SUMMARY:The Show After The Show
DESCRIPTION:The Players Bar’s resident pianist Lee Ormsby and a host of other talent playing the biggest and best-loved hits from West End shows past and present\, leading a singalong around the grand piano every Wednesday. Everybody is welcome. \n  \nImage: Lee at The Players Bar
URL:https://www.qxmagazine.com/event/the-show-after-the-show/2028-01-12/
LOCATION:Players Bar\, Charring Cross Theatre\, The Arches\, Villiers St\,\, London\, WC2N 6NL
CATEGORIES:Bars,Discount or Free Entry,LGBTQ+ Live Music
ATTACH;FMTTYPE=image/jpeg:https://www.qxmagazine.com/wp-content/uploads/2025/11/imageedit_60_4164420217-2.jpg
END:VEVENT
BEGIN:VEVENT
DTSTART;TZID=UTC:20280119T220000
DTEND;TZID=UTC:20280119T233000
DTSTAMP:20260422T161053
CREATED:20251128T114655Z
LAST-MODIFIED:20251128T132431Z
UID:10108653-1831932000-1831937400@www.qxmagazine.com
SUMMARY:The Show After The Show
DESCRIPTION:The Players Bar’s resident pianist Lee Ormsby and a host of other talent playing the biggest and best-loved hits from West End shows past and present\, leading a singalong around the grand piano every Wednesday. Everybody is welcome. \n  \nImage: Lee at The Players Bar
URL:https://www.qxmagazine.com/event/the-show-after-the-show/2028-01-19/
LOCATION:Players Bar\, Charring Cross Theatre\, The Arches\, Villiers St\,\, London\, WC2N 6NL
CATEGORIES:Bars,Discount or Free Entry,LGBTQ+ Live Music
ATTACH;FMTTYPE=image/jpeg:https://www.qxmagazine.com/wp-content/uploads/2025/11/imageedit_60_4164420217-2.jpg
END:VEVENT
BEGIN:VEVENT
DTSTART;TZID=UTC:20280126T220000
DTEND;TZID=UTC:20280126T233000
DTSTAMP:20260422T161053
CREATED:20251128T114655Z
LAST-MODIFIED:20251128T132431Z
UID:10108654-1832536800-1832542200@www.qxmagazine.com
SUMMARY:The Show After The Show
DESCRIPTION:The Players Bar’s resident pianist Lee Ormsby and a host of other talent playing the biggest and best-loved hits from West End shows past and present\, leading a singalong around the grand piano every Wednesday. Everybody is welcome. \n  \nImage: Lee at The Players Bar
URL:https://www.qxmagazine.com/event/the-show-after-the-show/2028-01-26/
LOCATION:Players Bar\, Charring Cross Theatre\, The Arches\, Villiers St\,\, London\, WC2N 6NL
CATEGORIES:Bars,Discount or Free Entry,LGBTQ+ Live Music
ATTACH;FMTTYPE=image/jpeg:https://www.qxmagazine.com/wp-content/uploads/2025/11/imageedit_60_4164420217-2.jpg
END:VEVENT
BEGIN:VEVENT
DTSTART;TZID=UTC:20280202T220000
DTEND;TZID=UTC:20280202T233000
DTSTAMP:20260422T161053
CREATED:20251128T114655Z
LAST-MODIFIED:20251128T132431Z
UID:10108655-1833141600-1833147000@www.qxmagazine.com
SUMMARY:The Show After The Show
DESCRIPTION:The Players Bar’s resident pianist Lee Ormsby and a host of other talent playing the biggest and best-loved hits from West End shows past and present\, leading a singalong around the grand piano every Wednesday. Everybody is welcome. \n  \nImage: Lee at The Players Bar
URL:https://www.qxmagazine.com/event/the-show-after-the-show/2028-02-02/
LOCATION:Players Bar\, Charring Cross Theatre\, The Arches\, Villiers St\,\, London\, WC2N 6NL
CATEGORIES:Bars,Discount or Free Entry,LGBTQ+ Live Music
ATTACH;FMTTYPE=image/jpeg:https://www.qxmagazine.com/wp-content/uploads/2025/11/imageedit_60_4164420217-2.jpg
END:VEVENT
BEGIN:VEVENT
DTSTART;TZID=UTC:20280209T220000
DTEND;TZID=UTC:20280209T233000
DTSTAMP:20260422T161053
CREATED:20251128T114655Z
LAST-MODIFIED:20251128T132431Z
UID:10108656-1833746400-1833751800@www.qxmagazine.com
SUMMARY:The Show After The Show
DESCRIPTION:The Players Bar’s resident pianist Lee Ormsby and a host of other talent playing the biggest and best-loved hits from West End shows past and present\, leading a singalong around the grand piano every Wednesday. Everybody is welcome. \n  \nImage: Lee at The Players Bar
URL:https://www.qxmagazine.com/event/the-show-after-the-show/2028-02-09/
LOCATION:Players Bar\, Charring Cross Theatre\, The Arches\, Villiers St\,\, London\, WC2N 6NL
CATEGORIES:Bars,Discount or Free Entry,LGBTQ+ Live Music
ATTACH;FMTTYPE=image/jpeg:https://www.qxmagazine.com/wp-content/uploads/2025/11/imageedit_60_4164420217-2.jpg
END:VEVENT
BEGIN:VEVENT
DTSTART;TZID=UTC:20280216T220000
DTEND;TZID=UTC:20280216T233000
DTSTAMP:20260422T161053
CREATED:20251128T114655Z
LAST-MODIFIED:20251128T132431Z
UID:10108657-1834351200-1834356600@www.qxmagazine.com
SUMMARY:The Show After The Show
DESCRIPTION:The Players Bar’s resident pianist Lee Ormsby and a host of other talent playing the biggest and best-loved hits from West End shows past and present\, leading a singalong around the grand piano every Wednesday. Everybody is welcome. \n  \nImage: Lee at The Players Bar
URL:https://www.qxmagazine.com/event/the-show-after-the-show/2028-02-16/
LOCATION:Players Bar\, Charring Cross Theatre\, The Arches\, Villiers St\,\, London\, WC2N 6NL
CATEGORIES:Bars,Discount or Free Entry,LGBTQ+ Live Music
ATTACH;FMTTYPE=image/jpeg:https://www.qxmagazine.com/wp-content/uploads/2025/11/imageedit_60_4164420217-2.jpg
END:VEVENT
BEGIN:VEVENT
DTSTART;TZID=UTC:20280223T220000
DTEND;TZID=UTC:20280223T233000
DTSTAMP:20260422T161053
CREATED:20251128T114655Z
LAST-MODIFIED:20251128T132431Z
UID:10108658-1834956000-1834961400@www.qxmagazine.com
SUMMARY:The Show After The Show
DESCRIPTION:The Players Bar’s resident pianist Lee Ormsby and a host of other talent playing the biggest and best-loved hits from West End shows past and present\, leading a singalong around the grand piano every Wednesday. Everybody is welcome. \n  \nImage: Lee at The Players Bar
URL:https://www.qxmagazine.com/event/the-show-after-the-show/2028-02-23/
LOCATION:Players Bar\, Charring Cross Theatre\, The Arches\, Villiers St\,\, London\, WC2N 6NL
CATEGORIES:Bars,Discount or Free Entry,LGBTQ+ Live Music
ATTACH;FMTTYPE=image/jpeg:https://www.qxmagazine.com/wp-content/uploads/2025/11/imageedit_60_4164420217-2.jpg
END:VEVENT
BEGIN:VEVENT
DTSTART;TZID=UTC:20280301T220000
DTEND;TZID=UTC:20280301T233000
DTSTAMP:20260422T161053
CREATED:20251128T114655Z
LAST-MODIFIED:20251128T132431Z
UID:10108659-1835560800-1835566200@www.qxmagazine.com
SUMMARY:The Show After The Show
DESCRIPTION:The Players Bar’s resident pianist Lee Ormsby and a host of other talent playing the biggest and best-loved hits from West End shows past and present\, leading a singalong around the grand piano every Wednesday. Everybody is welcome. \n  \nImage: Lee at The Players Bar
URL:https://www.qxmagazine.com/event/the-show-after-the-show/2028-03-01/
LOCATION:Players Bar\, Charring Cross Theatre\, The Arches\, Villiers St\,\, London\, WC2N 6NL
CATEGORIES:Bars,Discount or Free Entry,LGBTQ+ Live Music
ATTACH;FMTTYPE=image/jpeg:https://www.qxmagazine.com/wp-content/uploads/2025/11/imageedit_60_4164420217-2.jpg
END:VEVENT
BEGIN:VEVENT
DTSTART;TZID=UTC:20280308T220000
DTEND;TZID=UTC:20280308T233000
DTSTAMP:20260422T161053
CREATED:20251128T114655Z
LAST-MODIFIED:20251128T132431Z
UID:10108660-1836165600-1836171000@www.qxmagazine.com
SUMMARY:The Show After The Show
DESCRIPTION:The Players Bar’s resident pianist Lee Ormsby and a host of other talent playing the biggest and best-loved hits from West End shows past and present\, leading a singalong around the grand piano every Wednesday. Everybody is welcome. \n  \nImage: Lee at The Players Bar
URL:https://www.qxmagazine.com/event/the-show-after-the-show/2028-03-08/
LOCATION:Players Bar\, Charring Cross Theatre\, The Arches\, Villiers St\,\, London\, WC2N 6NL
CATEGORIES:Bars,Discount or Free Entry,LGBTQ+ Live Music
ATTACH;FMTTYPE=image/jpeg:https://www.qxmagazine.com/wp-content/uploads/2025/11/imageedit_60_4164420217-2.jpg
END:VEVENT
BEGIN:VEVENT
DTSTART;TZID=UTC:20280315T220000
DTEND;TZID=UTC:20280315T233000
DTSTAMP:20260422T161053
CREATED:20251128T114655Z
LAST-MODIFIED:20251128T132431Z
UID:10108661-1836770400-1836775800@www.qxmagazine.com
SUMMARY:The Show After The Show
DESCRIPTION:The Players Bar’s resident pianist Lee Ormsby and a host of other talent playing the biggest and best-loved hits from West End shows past and present\, leading a singalong around the grand piano every Wednesday. Everybody is welcome. \n  \nImage: Lee at The Players Bar
URL:https://www.qxmagazine.com/event/the-show-after-the-show/2028-03-15/
LOCATION:Players Bar\, Charring Cross Theatre\, The Arches\, Villiers St\,\, London\, WC2N 6NL
CATEGORIES:Bars,Discount or Free Entry,LGBTQ+ Live Music
ATTACH;FMTTYPE=image/jpeg:https://www.qxmagazine.com/wp-content/uploads/2025/11/imageedit_60_4164420217-2.jpg
END:VEVENT
BEGIN:VEVENT
DTSTART;TZID=UTC:20280322T220000
DTEND;TZID=UTC:20280322T233000
DTSTAMP:20260422T161053
CREATED:20251128T114655Z
LAST-MODIFIED:20251128T132431Z
UID:10108662-1837375200-1837380600@www.qxmagazine.com
SUMMARY:The Show After The Show
DESCRIPTION:The Players Bar’s resident pianist Lee Ormsby and a host of other talent playing the biggest and best-loved hits from West End shows past and present\, leading a singalong around the grand piano every Wednesday. Everybody is welcome. \n  \nImage: Lee at The Players Bar
URL:https://www.qxmagazine.com/event/the-show-after-the-show/2028-03-22/
LOCATION:Players Bar\, Charring Cross Theatre\, The Arches\, Villiers St\,\, London\, WC2N 6NL
CATEGORIES:Bars,Discount or Free Entry,LGBTQ+ Live Music
ATTACH;FMTTYPE=image/jpeg:https://www.qxmagazine.com/wp-content/uploads/2025/11/imageedit_60_4164420217-2.jpg
END:VEVENT
BEGIN:VEVENT
DTSTART;TZID=UTC:20280329T220000
DTEND;TZID=UTC:20280329T233000
DTSTAMP:20260422T161053
CREATED:20251128T114655Z
LAST-MODIFIED:20251128T132431Z
UID:10108663-1837980000-1837985400@www.qxmagazine.com
SUMMARY:The Show After The Show
DESCRIPTION:The Players Bar’s resident pianist Lee Ormsby and a host of other talent playing the biggest and best-loved hits from West End shows past and present\, leading a singalong around the grand piano every Wednesday. Everybody is welcome. \n  \nImage: Lee at The Players Bar
URL:https://www.qxmagazine.com/event/the-show-after-the-show/2028-03-29/
LOCATION:Players Bar\, Charring Cross Theatre\, The Arches\, Villiers St\,\, London\, WC2N 6NL
CATEGORIES:Bars,Discount or Free Entry,LGBTQ+ Live Music
ATTACH;FMTTYPE=image/jpeg:https://www.qxmagazine.com/wp-content/uploads/2025/11/imageedit_60_4164420217-2.jpg
END:VEVENT
BEGIN:VEVENT
DTSTART;TZID=UTC:20280405T220000
DTEND;TZID=UTC:20280405T233000
DTSTAMP:20260422T161053
CREATED:20251128T114655Z
LAST-MODIFIED:20251128T132431Z
UID:10108664-1838584800-1838590200@www.qxmagazine.com
SUMMARY:The Show After The Show
DESCRIPTION:The Players Bar’s resident pianist Lee Ormsby and a host of other talent playing the biggest and best-loved hits from West End shows past and present\, leading a singalong around the grand piano every Wednesday. Everybody is welcome. \n  \nImage: Lee at The Players Bar
URL:https://www.qxmagazine.com/event/the-show-after-the-show/2028-04-05/
LOCATION:Players Bar\, Charring Cross Theatre\, The Arches\, Villiers St\,\, London\, WC2N 6NL
CATEGORIES:Bars,Discount or Free Entry,LGBTQ+ Live Music
ATTACH;FMTTYPE=image/jpeg:https://www.qxmagazine.com/wp-content/uploads/2025/11/imageedit_60_4164420217-2.jpg
END:VEVENT
BEGIN:VEVENT
DTSTART;TZID=UTC:20280412T220000
DTEND;TZID=UTC:20280412T233000
DTSTAMP:20260422T161053
CREATED:20251128T114655Z
LAST-MODIFIED:20251128T132431Z
UID:10108665-1839189600-1839195000@www.qxmagazine.com
SUMMARY:The Show After The Show
DESCRIPTION:The Players Bar’s resident pianist Lee Ormsby and a host of other talent playing the biggest and best-loved hits from West End shows past and present\, leading a singalong around the grand piano every Wednesday. Everybody is welcome. \n  \nImage: Lee at The Players Bar
URL:https://www.qxmagazine.com/event/the-show-after-the-show/2028-04-12/
LOCATION:Players Bar\, Charring Cross Theatre\, The Arches\, Villiers St\,\, London\, WC2N 6NL
CATEGORIES:Bars,Discount or Free Entry,LGBTQ+ Live Music
ATTACH;FMTTYPE=image/jpeg:https://www.qxmagazine.com/wp-content/uploads/2025/11/imageedit_60_4164420217-2.jpg
END:VEVENT
BEGIN:VEVENT
DTSTART;TZID=UTC:20280419T220000
DTEND;TZID=UTC:20280419T233000
DTSTAMP:20260422T161053
CREATED:20251128T114655Z
LAST-MODIFIED:20251128T132431Z
UID:10108666-1839794400-1839799800@www.qxmagazine.com
SUMMARY:The Show After The Show
DESCRIPTION:The Players Bar’s resident pianist Lee Ormsby and a host of other talent playing the biggest and best-loved hits from West End shows past and present\, leading a singalong around the grand piano every Wednesday. Everybody is welcome. \n  \nImage: Lee at The Players Bar
URL:https://www.qxmagazine.com/event/the-show-after-the-show/2028-04-19/
LOCATION:Players Bar\, Charring Cross Theatre\, The Arches\, Villiers St\,\, London\, WC2N 6NL
CATEGORIES:Bars,Discount or Free Entry,LGBTQ+ Live Music
ATTACH;FMTTYPE=image/jpeg:https://www.qxmagazine.com/wp-content/uploads/2025/11/imageedit_60_4164420217-2.jpg
END:VEVENT
BEGIN:VEVENT
DTSTART;TZID=UTC:20280426T220000
DTEND;TZID=UTC:20280426T233000
DTSTAMP:20260422T161053
CREATED:20251128T114655Z
LAST-MODIFIED:20251128T132431Z
UID:10108667-1840399200-1840404600@www.qxmagazine.com
SUMMARY:The Show After The Show
DESCRIPTION:The Players Bar’s resident pianist Lee Ormsby and a host of other talent playing the biggest and best-loved hits from West End shows past and present\, leading a singalong around the grand piano every Wednesday. Everybody is welcome. \n  \nImage: Lee at The Players Bar
URL:https://www.qxmagazine.com/event/the-show-after-the-show/2028-04-26/
LOCATION:Players Bar\, Charring Cross Theatre\, The Arches\, Villiers St\,\, London\, WC2N 6NL
CATEGORIES:Bars,Discount or Free Entry,LGBTQ+ Live Music
ATTACH;FMTTYPE=image/jpeg:https://www.qxmagazine.com/wp-content/uploads/2025/11/imageedit_60_4164420217-2.jpg
END:VEVENT
BEGIN:VEVENT
DTSTART;TZID=UTC:20280503T220000
DTEND;TZID=UTC:20280503T233000
DTSTAMP:20260422T161053
CREATED:20251128T114655Z
LAST-MODIFIED:20251128T132431Z
UID:10108668-1841004000-1841009400@www.qxmagazine.com
SUMMARY:The Show After The Show
DESCRIPTION:The Players Bar’s resident pianist Lee Ormsby and a host of other talent playing the biggest and best-loved hits from West End shows past and present\, leading a singalong around the grand piano every Wednesday. Everybody is welcome. \n  \nImage: Lee at The Players Bar
URL:https://www.qxmagazine.com/event/the-show-after-the-show/2028-05-03/
LOCATION:Players Bar\, Charring Cross Theatre\, The Arches\, Villiers St\,\, London\, WC2N 6NL
CATEGORIES:Bars,Discount or Free Entry,LGBTQ+ Live Music
ATTACH;FMTTYPE=image/jpeg:https://www.qxmagazine.com/wp-content/uploads/2025/11/imageedit_60_4164420217-2.jpg
END:VEVENT
BEGIN:VEVENT
DTSTART;TZID=UTC:20280510T220000
DTEND;TZID=UTC:20280510T233000
DTSTAMP:20260422T161053
CREATED:20251128T114655Z
LAST-MODIFIED:20251128T132431Z
UID:10108669-1841608800-1841614200@www.qxmagazine.com
SUMMARY:The Show After The Show
DESCRIPTION:The Players Bar’s resident pianist Lee Ormsby and a host of other talent playing the biggest and best-loved hits from West End shows past and present\, leading a singalong around the grand piano every Wednesday. Everybody is welcome. \n  \nImage: Lee at The Players Bar
URL:https://www.qxmagazine.com/event/the-show-after-the-show/2028-05-10/
LOCATION:Players Bar\, Charring Cross Theatre\, The Arches\, Villiers St\,\, London\, WC2N 6NL
CATEGORIES:Bars,Discount or Free Entry,LGBTQ+ Live Music
ATTACH;FMTTYPE=image/jpeg:https://www.qxmagazine.com/wp-content/uploads/2025/11/imageedit_60_4164420217-2.jpg
END:VEVENT
BEGIN:VEVENT
DTSTART;TZID=UTC:20280517T220000
DTEND;TZID=UTC:20280517T233000
DTSTAMP:20260422T161053
CREATED:20251128T114655Z
LAST-MODIFIED:20251128T132431Z
UID:10108670-1842213600-1842219000@www.qxmagazine.com
SUMMARY:The Show After The Show
DESCRIPTION:The Players Bar’s resident pianist Lee Ormsby and a host of other talent playing the biggest and best-loved hits from West End shows past and present\, leading a singalong around the grand piano every Wednesday. Everybody is welcome. \n  \nImage: Lee at The Players Bar
URL:https://www.qxmagazine.com/event/the-show-after-the-show/2028-05-17/
LOCATION:Players Bar\, Charring Cross Theatre\, The Arches\, Villiers St\,\, London\, WC2N 6NL
CATEGORIES:Bars,Discount or Free Entry,LGBTQ+ Live Music
ATTACH;FMTTYPE=image/jpeg:https://www.qxmagazine.com/wp-content/uploads/2025/11/imageedit_60_4164420217-2.jpg
END:VEVENT
BEGIN:VEVENT
DTSTART;TZID=UTC:20280524T220000
DTEND;TZID=UTC:20280524T233000
DTSTAMP:20260422T161053
CREATED:20251128T114655Z
LAST-MODIFIED:20251128T132431Z
UID:10108671-1842818400-1842823800@www.qxmagazine.com
SUMMARY:The Show After The Show
DESCRIPTION:The Players Bar’s resident pianist Lee Ormsby and a host of other talent playing the biggest and best-loved hits from West End shows past and present\, leading a singalong around the grand piano every Wednesday. Everybody is welcome. \n  \nImage: Lee at The Players Bar
URL:https://www.qxmagazine.com/event/the-show-after-the-show/2028-05-24/
LOCATION:Players Bar\, Charring Cross Theatre\, The Arches\, Villiers St\,\, London\, WC2N 6NL
CATEGORIES:Bars,Discount or Free Entry,LGBTQ+ Live Music
ATTACH;FMTTYPE=image/jpeg:https://www.qxmagazine.com/wp-content/uploads/2025/11/imageedit_60_4164420217-2.jpg
END:VEVENT
BEGIN:VEVENT
DTSTART;TZID=UTC:20280531T220000
DTEND;TZID=UTC:20280531T233000
DTSTAMP:20260422T161053
CREATED:20251128T114655Z
LAST-MODIFIED:20251128T132431Z
UID:10108672-1843423200-1843428600@www.qxmagazine.com
SUMMARY:The Show After The Show
DESCRIPTION:The Players Bar’s resident pianist Lee Ormsby and a host of other talent playing the biggest and best-loved hits from West End shows past and present\, leading a singalong around the grand piano every Wednesday. Everybody is welcome. \n  \nImage: Lee at The Players Bar
URL:https://www.qxmagazine.com/event/the-show-after-the-show/2028-05-31/
LOCATION:Players Bar\, Charring Cross Theatre\, The Arches\, Villiers St\,\, London\, WC2N 6NL
CATEGORIES:Bars,Discount or Free Entry,LGBTQ+ Live Music
ATTACH;FMTTYPE=image/jpeg:https://www.qxmagazine.com/wp-content/uploads/2025/11/imageedit_60_4164420217-2.jpg
END:VEVENT
BEGIN:VEVENT
DTSTART;TZID=UTC:20280607T220000
DTEND;TZID=UTC:20280607T233000
DTSTAMP:20260422T161053
CREATED:20251128T114655Z
LAST-MODIFIED:20251128T132431Z
UID:10108673-1844028000-1844033400@www.qxmagazine.com
SUMMARY:The Show After The Show
DESCRIPTION:The Players Bar’s resident pianist Lee Ormsby and a host of other talent playing the biggest and best-loved hits from West End shows past and present\, leading a singalong around the grand piano every Wednesday. Everybody is welcome. \n  \nImage: Lee at The Players Bar
URL:https://www.qxmagazine.com/event/the-show-after-the-show/2028-06-07/
LOCATION:Players Bar\, Charring Cross Theatre\, The Arches\, Villiers St\,\, London\, WC2N 6NL
CATEGORIES:Bars,Discount or Free Entry,LGBTQ+ Live Music
ATTACH;FMTTYPE=image/jpeg:https://www.qxmagazine.com/wp-content/uploads/2025/11/imageedit_60_4164420217-2.jpg
END:VEVENT
BEGIN:VEVENT
DTSTART;TZID=UTC:20280614T220000
DTEND;TZID=UTC:20280614T233000
DTSTAMP:20260422T161053
CREATED:20251128T114655Z
LAST-MODIFIED:20251128T132431Z
UID:10108674-1844632800-1844638200@www.qxmagazine.com
SUMMARY:The Show After The Show
DESCRIPTION:The Players Bar’s resident pianist Lee Ormsby and a host of other talent playing the biggest and best-loved hits from West End shows past and present\, leading a singalong around the grand piano every Wednesday. Everybody is welcome. \n  \nImage: Lee at The Players Bar
URL:https://www.qxmagazine.com/event/the-show-after-the-show/2028-06-14/
LOCATION:Players Bar\, Charring Cross Theatre\, The Arches\, Villiers St\,\, London\, WC2N 6NL
CATEGORIES:Bars,Discount or Free Entry,LGBTQ+ Live Music
ATTACH;FMTTYPE=image/jpeg:https://www.qxmagazine.com/wp-content/uploads/2025/11/imageedit_60_4164420217-2.jpg
END:VEVENT
BEGIN:VEVENT
DTSTART;TZID=UTC:20280621T220000
DTEND;TZID=UTC:20280621T233000
DTSTAMP:20260422T161053
CREATED:20251128T114655Z
LAST-MODIFIED:20251128T132431Z
UID:10108675-1845237600-1845243000@www.qxmagazine.com
SUMMARY:The Show After The Show
DESCRIPTION:The Players Bar’s resident pianist Lee Ormsby and a host of other talent playing the biggest and best-loved hits from West End shows past and present\, leading a singalong around the grand piano every Wednesday. Everybody is welcome. \n  \nImage: Lee at The Players Bar
URL:https://www.qxmagazine.com/event/the-show-after-the-show/2028-06-21/
LOCATION:Players Bar\, Charring Cross Theatre\, The Arches\, Villiers St\,\, London\, WC2N 6NL
CATEGORIES:Bars,Discount or Free Entry,LGBTQ+ Live Music
ATTACH;FMTTYPE=image/jpeg:https://www.qxmagazine.com/wp-content/uploads/2025/11/imageedit_60_4164420217-2.jpg
END:VEVENT
BEGIN:VEVENT
DTSTART;TZID=UTC:20280628T220000
DTEND;TZID=UTC:20280628T233000
DTSTAMP:20260422T161053
CREATED:20251128T114655Z
LAST-MODIFIED:20251128T132431Z
UID:10108676-1845842400-1845847800@www.qxmagazine.com
SUMMARY:The Show After The Show
DESCRIPTION:The Players Bar’s resident pianist Lee Ormsby and a host of other talent playing the biggest and best-loved hits from West End shows past and present\, leading a singalong around the grand piano every Wednesday. Everybody is welcome. \n  \nImage: Lee at The Players Bar
URL:https://www.qxmagazine.com/event/the-show-after-the-show/2028-06-28/
LOCATION:Players Bar\, Charring Cross Theatre\, The Arches\, Villiers St\,\, London\, WC2N 6NL
CATEGORIES:Bars,Discount or Free Entry,LGBTQ+ Live Music
ATTACH;FMTTYPE=image/jpeg:https://www.qxmagazine.com/wp-content/uploads/2025/11/imageedit_60_4164420217-2.jpg
END:VEVENT
BEGIN:VEVENT
DTSTART;TZID=UTC:20280705T220000
DTEND;TZID=UTC:20280705T233000
DTSTAMP:20260422T161053
CREATED:20251128T114655Z
LAST-MODIFIED:20251128T132431Z
UID:10108677-1846447200-1846452600@www.qxmagazine.com
SUMMARY:The Show After The Show
DESCRIPTION:The Players Bar’s resident pianist Lee Ormsby and a host of other talent playing the biggest and best-loved hits from West End shows past and present\, leading a singalong around the grand piano every Wednesday. Everybody is welcome. \n  \nImage: Lee at The Players Bar
URL:https://www.qxmagazine.com/event/the-show-after-the-show/2028-07-05/
LOCATION:Players Bar\, Charring Cross Theatre\, The Arches\, Villiers St\,\, London\, WC2N 6NL
CATEGORIES:Bars,Discount or Free Entry,LGBTQ+ Live Music
ATTACH;FMTTYPE=image/jpeg:https://www.qxmagazine.com/wp-content/uploads/2025/11/imageedit_60_4164420217-2.jpg
END:VEVENT
BEGIN:VEVENT
DTSTART;TZID=UTC:20280712T220000
DTEND;TZID=UTC:20280712T233000
DTSTAMP:20260422T161053
CREATED:20251128T114655Z
LAST-MODIFIED:20251128T132431Z
UID:10108678-1847052000-1847057400@www.qxmagazine.com
SUMMARY:The Show After The Show
DESCRIPTION:The Players Bar’s resident pianist Lee Ormsby and a host of other talent playing the biggest and best-loved hits from West End shows past and present\, leading a singalong around the grand piano every Wednesday. Everybody is welcome. \n  \nImage: Lee at The Players Bar
URL:https://www.qxmagazine.com/event/the-show-after-the-show/2028-07-12/
LOCATION:Players Bar\, Charring Cross Theatre\, The Arches\, Villiers St\,\, London\, WC2N 6NL
CATEGORIES:Bars,Discount or Free Entry,LGBTQ+ Live Music
ATTACH;FMTTYPE=image/jpeg:https://www.qxmagazine.com/wp-content/uploads/2025/11/imageedit_60_4164420217-2.jpg
END:VEVENT
BEGIN:VEVENT
DTSTART;TZID=UTC:20280719T220000
DTEND;TZID=UTC:20280719T233000
DTSTAMP:20260422T161053
CREATED:20251128T114655Z
LAST-MODIFIED:20251128T132431Z
UID:10108679-1847656800-1847662200@www.qxmagazine.com
SUMMARY:The Show After The Show
DESCRIPTION:The Players Bar’s resident pianist Lee Ormsby and a host of other talent playing the biggest and best-loved hits from West End shows past and present\, leading a singalong around the grand piano every Wednesday. Everybody is welcome. \n  \nImage: Lee at The Players Bar
URL:https://www.qxmagazine.com/event/the-show-after-the-show/2028-07-19/
LOCATION:Players Bar\, Charring Cross Theatre\, The Arches\, Villiers St\,\, London\, WC2N 6NL
CATEGORIES:Bars,Discount or Free Entry,LGBTQ+ Live Music
ATTACH;FMTTYPE=image/jpeg:https://www.qxmagazine.com/wp-content/uploads/2025/11/imageedit_60_4164420217-2.jpg
END:VEVENT
BEGIN:VEVENT
DTSTART;TZID=UTC:20280726T220000
DTEND;TZID=UTC:20280726T233000
DTSTAMP:20260422T161053
CREATED:20251128T114655Z
LAST-MODIFIED:20251128T132431Z
UID:10108680-1848261600-1848267000@www.qxmagazine.com
SUMMARY:The Show After The Show
DESCRIPTION:The Players Bar’s resident pianist Lee Ormsby and a host of other talent playing the biggest and best-loved hits from West End shows past and present\, leading a singalong around the grand piano every Wednesday. Everybody is welcome. \n  \nImage: Lee at The Players Bar
URL:https://www.qxmagazine.com/event/the-show-after-the-show/2028-07-26/
LOCATION:Players Bar\, Charring Cross Theatre\, The Arches\, Villiers St\,\, London\, WC2N 6NL
CATEGORIES:Bars,Discount or Free Entry,LGBTQ+ Live Music
ATTACH;FMTTYPE=image/jpeg:https://www.qxmagazine.com/wp-content/uploads/2025/11/imageedit_60_4164420217-2.jpg
END:VEVENT
BEGIN:VEVENT
DTSTART;TZID=UTC:20280802T220000
DTEND;TZID=UTC:20280802T233000
DTSTAMP:20260422T161053
CREATED:20251128T114655Z
LAST-MODIFIED:20251128T132431Z
UID:10108681-1848866400-1848871800@www.qxmagazine.com
SUMMARY:The Show After The Show
DESCRIPTION:The Players Bar’s resident pianist Lee Ormsby and a host of other talent playing the biggest and best-loved hits from West End shows past and present\, leading a singalong around the grand piano every Wednesday. Everybody is welcome. \n  \nImage: Lee at The Players Bar
URL:https://www.qxmagazine.com/event/the-show-after-the-show/2028-08-02/
LOCATION:Players Bar\, Charring Cross Theatre\, The Arches\, Villiers St\,\, London\, WC2N 6NL
CATEGORIES:Bars,Discount or Free Entry,LGBTQ+ Live Music
ATTACH;FMTTYPE=image/jpeg:https://www.qxmagazine.com/wp-content/uploads/2025/11/imageedit_60_4164420217-2.jpg
END:VEVENT
END:VCALENDAR