BEGIN:VCALENDAR
VERSION:2.0
PRODID:-//QX Magazine - ECPv6.15.20//NONSGML v1.0//EN
CALSCALE:GREGORIAN
METHOD:PUBLISH
X-WR-CALNAME:QX Magazine
X-ORIGINAL-URL:https://www.qxmagazine.com
X-WR-CALDESC:Events for QX Magazine
REFRESH-INTERVAL;VALUE=DURATION:PT1H
X-Robots-Tag:noindex
X-PUBLISHED-TTL:PT1H
BEGIN:VTIMEZONE
TZID:UTC
BEGIN:STANDARD
TZOFFSETFROM:+0000
TZOFFSETTO:+0000
TZNAME:UTC
DTSTART:20280101T000000
END:STANDARD
END:VTIMEZONE
BEGIN:VEVENT
DTSTART;TZID=UTC:20290307T220000
DTEND;TZID=UTC:20290307T233000
DTSTAMP:20260422T191316
CREATED:20251128T114655Z
LAST-MODIFIED:20251128T132431Z
UID:10108712-1867615200-1867620600@www.qxmagazine.com
SUMMARY:The Show After The Show
DESCRIPTION:The Players Bar’s resident pianist Lee Ormsby and a host of other talent playing the biggest and best-loved hits from West End shows past and present\, leading a singalong around the grand piano every Wednesday. Everybody is welcome. \n  \nImage: Lee at The Players Bar
URL:https://www.qxmagazine.com/event/the-show-after-the-show/2029-03-07/
LOCATION:Players Bar\, Charring Cross Theatre\, The Arches\, Villiers St\,\, London\, WC2N 6NL
CATEGORIES:Bars,Discount or Free Entry,LGBTQ+ Live Music
ATTACH;FMTTYPE=image/jpeg:https://www.qxmagazine.com/wp-content/uploads/2025/11/imageedit_60_4164420217-2.jpg
END:VEVENT
BEGIN:VEVENT
DTSTART;TZID=UTC:20290314T220000
DTEND;TZID=UTC:20290314T233000
DTSTAMP:20260422T191316
CREATED:20251128T114655Z
LAST-MODIFIED:20251128T132431Z
UID:10108713-1868220000-1868225400@www.qxmagazine.com
SUMMARY:The Show After The Show
DESCRIPTION:The Players Bar’s resident pianist Lee Ormsby and a host of other talent playing the biggest and best-loved hits from West End shows past and present\, leading a singalong around the grand piano every Wednesday. Everybody is welcome. \n  \nImage: Lee at The Players Bar
URL:https://www.qxmagazine.com/event/the-show-after-the-show/2029-03-14/
LOCATION:Players Bar\, Charring Cross Theatre\, The Arches\, Villiers St\,\, London\, WC2N 6NL
CATEGORIES:Bars,Discount or Free Entry,LGBTQ+ Live Music
ATTACH;FMTTYPE=image/jpeg:https://www.qxmagazine.com/wp-content/uploads/2025/11/imageedit_60_4164420217-2.jpg
END:VEVENT
BEGIN:VEVENT
DTSTART;TZID=UTC:20290321T220000
DTEND;TZID=UTC:20290321T233000
DTSTAMP:20260422T191316
CREATED:20251128T114655Z
LAST-MODIFIED:20251128T132431Z
UID:10108714-1868824800-1868830200@www.qxmagazine.com
SUMMARY:The Show After The Show
DESCRIPTION:The Players Bar’s resident pianist Lee Ormsby and a host of other talent playing the biggest and best-loved hits from West End shows past and present\, leading a singalong around the grand piano every Wednesday. Everybody is welcome. \n  \nImage: Lee at The Players Bar
URL:https://www.qxmagazine.com/event/the-show-after-the-show/2029-03-21/
LOCATION:Players Bar\, Charring Cross Theatre\, The Arches\, Villiers St\,\, London\, WC2N 6NL
CATEGORIES:Bars,Discount or Free Entry,LGBTQ+ Live Music
ATTACH;FMTTYPE=image/jpeg:https://www.qxmagazine.com/wp-content/uploads/2025/11/imageedit_60_4164420217-2.jpg
END:VEVENT
BEGIN:VEVENT
DTSTART;TZID=UTC:20290328T220000
DTEND;TZID=UTC:20290328T233000
DTSTAMP:20260422T191316
CREATED:20251128T114655Z
LAST-MODIFIED:20251128T132431Z
UID:10108715-1869429600-1869435000@www.qxmagazine.com
SUMMARY:The Show After The Show
DESCRIPTION:The Players Bar’s resident pianist Lee Ormsby and a host of other talent playing the biggest and best-loved hits from West End shows past and present\, leading a singalong around the grand piano every Wednesday. Everybody is welcome. \n  \nImage: Lee at The Players Bar
URL:https://www.qxmagazine.com/event/the-show-after-the-show/2029-03-28/
LOCATION:Players Bar\, Charring Cross Theatre\, The Arches\, Villiers St\,\, London\, WC2N 6NL
CATEGORIES:Bars,Discount or Free Entry,LGBTQ+ Live Music
ATTACH;FMTTYPE=image/jpeg:https://www.qxmagazine.com/wp-content/uploads/2025/11/imageedit_60_4164420217-2.jpg
END:VEVENT
BEGIN:VEVENT
DTSTART;TZID=UTC:20290404T220000
DTEND;TZID=UTC:20290404T233000
DTSTAMP:20260422T191316
CREATED:20251128T114655Z
LAST-MODIFIED:20251128T132431Z
UID:10108716-1870034400-1870039800@www.qxmagazine.com
SUMMARY:The Show After The Show
DESCRIPTION:The Players Bar’s resident pianist Lee Ormsby and a host of other talent playing the biggest and best-loved hits from West End shows past and present\, leading a singalong around the grand piano every Wednesday. Everybody is welcome. \n  \nImage: Lee at The Players Bar
URL:https://www.qxmagazine.com/event/the-show-after-the-show/2029-04-04/
LOCATION:Players Bar\, Charring Cross Theatre\, The Arches\, Villiers St\,\, London\, WC2N 6NL
CATEGORIES:Bars,Discount or Free Entry,LGBTQ+ Live Music
ATTACH;FMTTYPE=image/jpeg:https://www.qxmagazine.com/wp-content/uploads/2025/11/imageedit_60_4164420217-2.jpg
END:VEVENT
BEGIN:VEVENT
DTSTART;TZID=UTC:20290411T220000
DTEND;TZID=UTC:20290411T233000
DTSTAMP:20260422T191316
CREATED:20251128T114655Z
LAST-MODIFIED:20251128T132431Z
UID:10108717-1870639200-1870644600@www.qxmagazine.com
SUMMARY:The Show After The Show
DESCRIPTION:The Players Bar’s resident pianist Lee Ormsby and a host of other talent playing the biggest and best-loved hits from West End shows past and present\, leading a singalong around the grand piano every Wednesday. Everybody is welcome. \n  \nImage: Lee at The Players Bar
URL:https://www.qxmagazine.com/event/the-show-after-the-show/2029-04-11/
LOCATION:Players Bar\, Charring Cross Theatre\, The Arches\, Villiers St\,\, London\, WC2N 6NL
CATEGORIES:Bars,Discount or Free Entry,LGBTQ+ Live Music
ATTACH;FMTTYPE=image/jpeg:https://www.qxmagazine.com/wp-content/uploads/2025/11/imageedit_60_4164420217-2.jpg
END:VEVENT
BEGIN:VEVENT
DTSTART;TZID=UTC:20290418T220000
DTEND;TZID=UTC:20290418T233000
DTSTAMP:20260422T191316
CREATED:20251128T114655Z
LAST-MODIFIED:20251128T132431Z
UID:10108718-1871244000-1871249400@www.qxmagazine.com
SUMMARY:The Show After The Show
DESCRIPTION:The Players Bar’s resident pianist Lee Ormsby and a host of other talent playing the biggest and best-loved hits from West End shows past and present\, leading a singalong around the grand piano every Wednesday. Everybody is welcome. \n  \nImage: Lee at The Players Bar
URL:https://www.qxmagazine.com/event/the-show-after-the-show/2029-04-18/
LOCATION:Players Bar\, Charring Cross Theatre\, The Arches\, Villiers St\,\, London\, WC2N 6NL
CATEGORIES:Bars,Discount or Free Entry,LGBTQ+ Live Music
ATTACH;FMTTYPE=image/jpeg:https://www.qxmagazine.com/wp-content/uploads/2025/11/imageedit_60_4164420217-2.jpg
END:VEVENT
BEGIN:VEVENT
DTSTART;TZID=UTC:20290425T220000
DTEND;TZID=UTC:20290425T233000
DTSTAMP:20260422T191316
CREATED:20251128T114655Z
LAST-MODIFIED:20251128T132431Z
UID:10108719-1871848800-1871854200@www.qxmagazine.com
SUMMARY:The Show After The Show
DESCRIPTION:The Players Bar’s resident pianist Lee Ormsby and a host of other talent playing the biggest and best-loved hits from West End shows past and present\, leading a singalong around the grand piano every Wednesday. Everybody is welcome. \n  \nImage: Lee at The Players Bar
URL:https://www.qxmagazine.com/event/the-show-after-the-show/2029-04-25/
LOCATION:Players Bar\, Charring Cross Theatre\, The Arches\, Villiers St\,\, London\, WC2N 6NL
CATEGORIES:Bars,Discount or Free Entry,LGBTQ+ Live Music
ATTACH;FMTTYPE=image/jpeg:https://www.qxmagazine.com/wp-content/uploads/2025/11/imageedit_60_4164420217-2.jpg
END:VEVENT
BEGIN:VEVENT
DTSTART;TZID=UTC:20290502T220000
DTEND;TZID=UTC:20290502T233000
DTSTAMP:20260422T191316
CREATED:20251128T114655Z
LAST-MODIFIED:20251128T132431Z
UID:10108720-1872453600-1872459000@www.qxmagazine.com
SUMMARY:The Show After The Show
DESCRIPTION:The Players Bar’s resident pianist Lee Ormsby and a host of other talent playing the biggest and best-loved hits from West End shows past and present\, leading a singalong around the grand piano every Wednesday. Everybody is welcome. \n  \nImage: Lee at The Players Bar
URL:https://www.qxmagazine.com/event/the-show-after-the-show/2029-05-02/
LOCATION:Players Bar\, Charring Cross Theatre\, The Arches\, Villiers St\,\, London\, WC2N 6NL
CATEGORIES:Bars,Discount or Free Entry,LGBTQ+ Live Music
ATTACH;FMTTYPE=image/jpeg:https://www.qxmagazine.com/wp-content/uploads/2025/11/imageedit_60_4164420217-2.jpg
END:VEVENT
BEGIN:VEVENT
DTSTART;TZID=UTC:20290509T220000
DTEND;TZID=UTC:20290509T233000
DTSTAMP:20260422T191316
CREATED:20251128T114655Z
LAST-MODIFIED:20251128T132431Z
UID:10108721-1873058400-1873063800@www.qxmagazine.com
SUMMARY:The Show After The Show
DESCRIPTION:The Players Bar’s resident pianist Lee Ormsby and a host of other talent playing the biggest and best-loved hits from West End shows past and present\, leading a singalong around the grand piano every Wednesday. Everybody is welcome. \n  \nImage: Lee at The Players Bar
URL:https://www.qxmagazine.com/event/the-show-after-the-show/2029-05-09/
LOCATION:Players Bar\, Charring Cross Theatre\, The Arches\, Villiers St\,\, London\, WC2N 6NL
CATEGORIES:Bars,Discount or Free Entry,LGBTQ+ Live Music
ATTACH;FMTTYPE=image/jpeg:https://www.qxmagazine.com/wp-content/uploads/2025/11/imageedit_60_4164420217-2.jpg
END:VEVENT
BEGIN:VEVENT
DTSTART;TZID=UTC:20290516T220000
DTEND;TZID=UTC:20290516T233000
DTSTAMP:20260422T191316
CREATED:20251128T114655Z
LAST-MODIFIED:20251128T132431Z
UID:10108722-1873663200-1873668600@www.qxmagazine.com
SUMMARY:The Show After The Show
DESCRIPTION:The Players Bar’s resident pianist Lee Ormsby and a host of other talent playing the biggest and best-loved hits from West End shows past and present\, leading a singalong around the grand piano every Wednesday. Everybody is welcome. \n  \nImage: Lee at The Players Bar
URL:https://www.qxmagazine.com/event/the-show-after-the-show/2029-05-16/
LOCATION:Players Bar\, Charring Cross Theatre\, The Arches\, Villiers St\,\, London\, WC2N 6NL
CATEGORIES:Bars,Discount or Free Entry,LGBTQ+ Live Music
ATTACH;FMTTYPE=image/jpeg:https://www.qxmagazine.com/wp-content/uploads/2025/11/imageedit_60_4164420217-2.jpg
END:VEVENT
BEGIN:VEVENT
DTSTART;TZID=UTC:20290523T220000
DTEND;TZID=UTC:20290523T233000
DTSTAMP:20260422T191316
CREATED:20251128T114655Z
LAST-MODIFIED:20251128T132431Z
UID:10108723-1874268000-1874273400@www.qxmagazine.com
SUMMARY:The Show After The Show
DESCRIPTION:The Players Bar’s resident pianist Lee Ormsby and a host of other talent playing the biggest and best-loved hits from West End shows past and present\, leading a singalong around the grand piano every Wednesday. Everybody is welcome. \n  \nImage: Lee at The Players Bar
URL:https://www.qxmagazine.com/event/the-show-after-the-show/2029-05-23/
LOCATION:Players Bar\, Charring Cross Theatre\, The Arches\, Villiers St\,\, London\, WC2N 6NL
CATEGORIES:Bars,Discount or Free Entry,LGBTQ+ Live Music
ATTACH;FMTTYPE=image/jpeg:https://www.qxmagazine.com/wp-content/uploads/2025/11/imageedit_60_4164420217-2.jpg
END:VEVENT
BEGIN:VEVENT
DTSTART;TZID=UTC:20290530T220000
DTEND;TZID=UTC:20290530T233000
DTSTAMP:20260422T191316
CREATED:20251128T114655Z
LAST-MODIFIED:20251128T132431Z
UID:10108724-1874872800-1874878200@www.qxmagazine.com
SUMMARY:The Show After The Show
DESCRIPTION:The Players Bar’s resident pianist Lee Ormsby and a host of other talent playing the biggest and best-loved hits from West End shows past and present\, leading a singalong around the grand piano every Wednesday. Everybody is welcome. \n  \nImage: Lee at The Players Bar
URL:https://www.qxmagazine.com/event/the-show-after-the-show/2029-05-30/
LOCATION:Players Bar\, Charring Cross Theatre\, The Arches\, Villiers St\,\, London\, WC2N 6NL
CATEGORIES:Bars,Discount or Free Entry,LGBTQ+ Live Music
ATTACH;FMTTYPE=image/jpeg:https://www.qxmagazine.com/wp-content/uploads/2025/11/imageedit_60_4164420217-2.jpg
END:VEVENT
BEGIN:VEVENT
DTSTART;TZID=UTC:20290606T220000
DTEND;TZID=UTC:20290606T233000
DTSTAMP:20260422T191316
CREATED:20251128T114655Z
LAST-MODIFIED:20251128T132431Z
UID:10108725-1875477600-1875483000@www.qxmagazine.com
SUMMARY:The Show After The Show
DESCRIPTION:The Players Bar’s resident pianist Lee Ormsby and a host of other talent playing the biggest and best-loved hits from West End shows past and present\, leading a singalong around the grand piano every Wednesday. Everybody is welcome. \n  \nImage: Lee at The Players Bar
URL:https://www.qxmagazine.com/event/the-show-after-the-show/2029-06-06/
LOCATION:Players Bar\, Charring Cross Theatre\, The Arches\, Villiers St\,\, London\, WC2N 6NL
CATEGORIES:Bars,Discount or Free Entry,LGBTQ+ Live Music
ATTACH;FMTTYPE=image/jpeg:https://www.qxmagazine.com/wp-content/uploads/2025/11/imageedit_60_4164420217-2.jpg
END:VEVENT
BEGIN:VEVENT
DTSTART;TZID=UTC:20290613T220000
DTEND;TZID=UTC:20290613T233000
DTSTAMP:20260422T191316
CREATED:20251128T114655Z
LAST-MODIFIED:20251128T132431Z
UID:10108726-1876082400-1876087800@www.qxmagazine.com
SUMMARY:The Show After The Show
DESCRIPTION:The Players Bar’s resident pianist Lee Ormsby and a host of other talent playing the biggest and best-loved hits from West End shows past and present\, leading a singalong around the grand piano every Wednesday. Everybody is welcome. \n  \nImage: Lee at The Players Bar
URL:https://www.qxmagazine.com/event/the-show-after-the-show/2029-06-13/
LOCATION:Players Bar\, Charring Cross Theatre\, The Arches\, Villiers St\,\, London\, WC2N 6NL
CATEGORIES:Bars,Discount or Free Entry,LGBTQ+ Live Music
ATTACH;FMTTYPE=image/jpeg:https://www.qxmagazine.com/wp-content/uploads/2025/11/imageedit_60_4164420217-2.jpg
END:VEVENT
BEGIN:VEVENT
DTSTART;TZID=UTC:20290620T220000
DTEND;TZID=UTC:20290620T233000
DTSTAMP:20260422T191316
CREATED:20251128T114655Z
LAST-MODIFIED:20251128T132431Z
UID:10108727-1876687200-1876692600@www.qxmagazine.com
SUMMARY:The Show After The Show
DESCRIPTION:The Players Bar’s resident pianist Lee Ormsby and a host of other talent playing the biggest and best-loved hits from West End shows past and present\, leading a singalong around the grand piano every Wednesday. Everybody is welcome. \n  \nImage: Lee at The Players Bar
URL:https://www.qxmagazine.com/event/the-show-after-the-show/2029-06-20/
LOCATION:Players Bar\, Charring Cross Theatre\, The Arches\, Villiers St\,\, London\, WC2N 6NL
CATEGORIES:Bars,Discount or Free Entry,LGBTQ+ Live Music
ATTACH;FMTTYPE=image/jpeg:https://www.qxmagazine.com/wp-content/uploads/2025/11/imageedit_60_4164420217-2.jpg
END:VEVENT
BEGIN:VEVENT
DTSTART;TZID=UTC:20290627T220000
DTEND;TZID=UTC:20290627T233000
DTSTAMP:20260422T191316
CREATED:20251128T114655Z
LAST-MODIFIED:20251128T132431Z
UID:10108728-1877292000-1877297400@www.qxmagazine.com
SUMMARY:The Show After The Show
DESCRIPTION:The Players Bar’s resident pianist Lee Ormsby and a host of other talent playing the biggest and best-loved hits from West End shows past and present\, leading a singalong around the grand piano every Wednesday. Everybody is welcome. \n  \nImage: Lee at The Players Bar
URL:https://www.qxmagazine.com/event/the-show-after-the-show/2029-06-27/
LOCATION:Players Bar\, Charring Cross Theatre\, The Arches\, Villiers St\,\, London\, WC2N 6NL
CATEGORIES:Bars,Discount or Free Entry,LGBTQ+ Live Music
ATTACH;FMTTYPE=image/jpeg:https://www.qxmagazine.com/wp-content/uploads/2025/11/imageedit_60_4164420217-2.jpg
END:VEVENT
BEGIN:VEVENT
DTSTART;TZID=UTC:20290704T220000
DTEND;TZID=UTC:20290704T233000
DTSTAMP:20260422T191316
CREATED:20251128T114655Z
LAST-MODIFIED:20251128T132431Z
UID:10108729-1877896800-1877902200@www.qxmagazine.com
SUMMARY:The Show After The Show
DESCRIPTION:The Players Bar’s resident pianist Lee Ormsby and a host of other talent playing the biggest and best-loved hits from West End shows past and present\, leading a singalong around the grand piano every Wednesday. Everybody is welcome. \n  \nImage: Lee at The Players Bar
URL:https://www.qxmagazine.com/event/the-show-after-the-show/2029-07-04/
LOCATION:Players Bar\, Charring Cross Theatre\, The Arches\, Villiers St\,\, London\, WC2N 6NL
CATEGORIES:Bars,Discount or Free Entry,LGBTQ+ Live Music
ATTACH;FMTTYPE=image/jpeg:https://www.qxmagazine.com/wp-content/uploads/2025/11/imageedit_60_4164420217-2.jpg
END:VEVENT
BEGIN:VEVENT
DTSTART;TZID=UTC:20290711T220000
DTEND;TZID=UTC:20290711T233000
DTSTAMP:20260422T191316
CREATED:20251128T114655Z
LAST-MODIFIED:20251128T132431Z
UID:10108730-1878501600-1878507000@www.qxmagazine.com
SUMMARY:The Show After The Show
DESCRIPTION:The Players Bar’s resident pianist Lee Ormsby and a host of other talent playing the biggest and best-loved hits from West End shows past and present\, leading a singalong around the grand piano every Wednesday. Everybody is welcome. \n  \nImage: Lee at The Players Bar
URL:https://www.qxmagazine.com/event/the-show-after-the-show/2029-07-11/
LOCATION:Players Bar\, Charring Cross Theatre\, The Arches\, Villiers St\,\, London\, WC2N 6NL
CATEGORIES:Bars,Discount or Free Entry,LGBTQ+ Live Music
ATTACH;FMTTYPE=image/jpeg:https://www.qxmagazine.com/wp-content/uploads/2025/11/imageedit_60_4164420217-2.jpg
END:VEVENT
BEGIN:VEVENT
DTSTART;TZID=UTC:20290718T220000
DTEND;TZID=UTC:20290718T233000
DTSTAMP:20260422T191316
CREATED:20251128T114655Z
LAST-MODIFIED:20251128T132431Z
UID:10108731-1879106400-1879111800@www.qxmagazine.com
SUMMARY:The Show After The Show
DESCRIPTION:The Players Bar’s resident pianist Lee Ormsby and a host of other talent playing the biggest and best-loved hits from West End shows past and present\, leading a singalong around the grand piano every Wednesday. Everybody is welcome. \n  \nImage: Lee at The Players Bar
URL:https://www.qxmagazine.com/event/the-show-after-the-show/2029-07-18/
LOCATION:Players Bar\, Charring Cross Theatre\, The Arches\, Villiers St\,\, London\, WC2N 6NL
CATEGORIES:Bars,Discount or Free Entry,LGBTQ+ Live Music
ATTACH;FMTTYPE=image/jpeg:https://www.qxmagazine.com/wp-content/uploads/2025/11/imageedit_60_4164420217-2.jpg
END:VEVENT
BEGIN:VEVENT
DTSTART;TZID=UTC:20290725T220000
DTEND;TZID=UTC:20290725T233000
DTSTAMP:20260422T191316
CREATED:20251128T114655Z
LAST-MODIFIED:20251128T132431Z
UID:10108732-1879711200-1879716600@www.qxmagazine.com
SUMMARY:The Show After The Show
DESCRIPTION:The Players Bar’s resident pianist Lee Ormsby and a host of other talent playing the biggest and best-loved hits from West End shows past and present\, leading a singalong around the grand piano every Wednesday. Everybody is welcome. \n  \nImage: Lee at The Players Bar
URL:https://www.qxmagazine.com/event/the-show-after-the-show/2029-07-25/
LOCATION:Players Bar\, Charring Cross Theatre\, The Arches\, Villiers St\,\, London\, WC2N 6NL
CATEGORIES:Bars,Discount or Free Entry,LGBTQ+ Live Music
ATTACH;FMTTYPE=image/jpeg:https://www.qxmagazine.com/wp-content/uploads/2025/11/imageedit_60_4164420217-2.jpg
END:VEVENT
BEGIN:VEVENT
DTSTART;TZID=UTC:20290801T220000
DTEND;TZID=UTC:20290801T233000
DTSTAMP:20260422T191316
CREATED:20251128T114655Z
LAST-MODIFIED:20251128T132431Z
UID:10108733-1880316000-1880321400@www.qxmagazine.com
SUMMARY:The Show After The Show
DESCRIPTION:The Players Bar’s resident pianist Lee Ormsby and a host of other talent playing the biggest and best-loved hits from West End shows past and present\, leading a singalong around the grand piano every Wednesday. Everybody is welcome. \n  \nImage: Lee at The Players Bar
URL:https://www.qxmagazine.com/event/the-show-after-the-show/2029-08-01/
LOCATION:Players Bar\, Charring Cross Theatre\, The Arches\, Villiers St\,\, London\, WC2N 6NL
CATEGORIES:Bars,Discount or Free Entry,LGBTQ+ Live Music
ATTACH;FMTTYPE=image/jpeg:https://www.qxmagazine.com/wp-content/uploads/2025/11/imageedit_60_4164420217-2.jpg
END:VEVENT
BEGIN:VEVENT
DTSTART;TZID=UTC:20290808T220000
DTEND;TZID=UTC:20290808T233000
DTSTAMP:20260422T191316
CREATED:20251128T114655Z
LAST-MODIFIED:20251128T132431Z
UID:10108734-1880920800-1880926200@www.qxmagazine.com
SUMMARY:The Show After The Show
DESCRIPTION:The Players Bar’s resident pianist Lee Ormsby and a host of other talent playing the biggest and best-loved hits from West End shows past and present\, leading a singalong around the grand piano every Wednesday. Everybody is welcome. \n  \nImage: Lee at The Players Bar
URL:https://www.qxmagazine.com/event/the-show-after-the-show/2029-08-08/
LOCATION:Players Bar\, Charring Cross Theatre\, The Arches\, Villiers St\,\, London\, WC2N 6NL
CATEGORIES:Bars,Discount or Free Entry,LGBTQ+ Live Music
ATTACH;FMTTYPE=image/jpeg:https://www.qxmagazine.com/wp-content/uploads/2025/11/imageedit_60_4164420217-2.jpg
END:VEVENT
BEGIN:VEVENT
DTSTART;TZID=UTC:20290815T220000
DTEND;TZID=UTC:20290815T233000
DTSTAMP:20260422T191316
CREATED:20251128T114655Z
LAST-MODIFIED:20251128T132431Z
UID:10108735-1881525600-1881531000@www.qxmagazine.com
SUMMARY:The Show After The Show
DESCRIPTION:The Players Bar’s resident pianist Lee Ormsby and a host of other talent playing the biggest and best-loved hits from West End shows past and present\, leading a singalong around the grand piano every Wednesday. Everybody is welcome. \n  \nImage: Lee at The Players Bar
URL:https://www.qxmagazine.com/event/the-show-after-the-show/2029-08-15/
LOCATION:Players Bar\, Charring Cross Theatre\, The Arches\, Villiers St\,\, London\, WC2N 6NL
CATEGORIES:Bars,Discount or Free Entry,LGBTQ+ Live Music
ATTACH;FMTTYPE=image/jpeg:https://www.qxmagazine.com/wp-content/uploads/2025/11/imageedit_60_4164420217-2.jpg
END:VEVENT
BEGIN:VEVENT
DTSTART;TZID=UTC:20290822T220000
DTEND;TZID=UTC:20290822T233000
DTSTAMP:20260422T191316
CREATED:20251128T114655Z
LAST-MODIFIED:20251128T132431Z
UID:10108736-1882130400-1882135800@www.qxmagazine.com
SUMMARY:The Show After The Show
DESCRIPTION:The Players Bar’s resident pianist Lee Ormsby and a host of other talent playing the biggest and best-loved hits from West End shows past and present\, leading a singalong around the grand piano every Wednesday. Everybody is welcome. \n  \nImage: Lee at The Players Bar
URL:https://www.qxmagazine.com/event/the-show-after-the-show/2029-08-22/
LOCATION:Players Bar\, Charring Cross Theatre\, The Arches\, Villiers St\,\, London\, WC2N 6NL
CATEGORIES:Bars,Discount or Free Entry,LGBTQ+ Live Music
ATTACH;FMTTYPE=image/jpeg:https://www.qxmagazine.com/wp-content/uploads/2025/11/imageedit_60_4164420217-2.jpg
END:VEVENT
BEGIN:VEVENT
DTSTART;TZID=UTC:20290829T220000
DTEND;TZID=UTC:20290829T233000
DTSTAMP:20260422T191316
CREATED:20251128T114655Z
LAST-MODIFIED:20251128T132431Z
UID:10108737-1882735200-1882740600@www.qxmagazine.com
SUMMARY:The Show After The Show
DESCRIPTION:The Players Bar’s resident pianist Lee Ormsby and a host of other talent playing the biggest and best-loved hits from West End shows past and present\, leading a singalong around the grand piano every Wednesday. Everybody is welcome. \n  \nImage: Lee at The Players Bar
URL:https://www.qxmagazine.com/event/the-show-after-the-show/2029-08-29/
LOCATION:Players Bar\, Charring Cross Theatre\, The Arches\, Villiers St\,\, London\, WC2N 6NL
CATEGORIES:Bars,Discount or Free Entry,LGBTQ+ Live Music
ATTACH;FMTTYPE=image/jpeg:https://www.qxmagazine.com/wp-content/uploads/2025/11/imageedit_60_4164420217-2.jpg
END:VEVENT
BEGIN:VEVENT
DTSTART;TZID=UTC:20290905T220000
DTEND;TZID=UTC:20290905T233000
DTSTAMP:20260422T191316
CREATED:20251128T114655Z
LAST-MODIFIED:20251128T132431Z
UID:10108738-1883340000-1883345400@www.qxmagazine.com
SUMMARY:The Show After The Show
DESCRIPTION:The Players Bar’s resident pianist Lee Ormsby and a host of other talent playing the biggest and best-loved hits from West End shows past and present\, leading a singalong around the grand piano every Wednesday. Everybody is welcome. \n  \nImage: Lee at The Players Bar
URL:https://www.qxmagazine.com/event/the-show-after-the-show/2029-09-05/
LOCATION:Players Bar\, Charring Cross Theatre\, The Arches\, Villiers St\,\, London\, WC2N 6NL
CATEGORIES:Bars,Discount or Free Entry,LGBTQ+ Live Music
ATTACH;FMTTYPE=image/jpeg:https://www.qxmagazine.com/wp-content/uploads/2025/11/imageedit_60_4164420217-2.jpg
END:VEVENT
BEGIN:VEVENT
DTSTART;TZID=UTC:20290912T220000
DTEND;TZID=UTC:20290912T233000
DTSTAMP:20260422T191316
CREATED:20251128T114655Z
LAST-MODIFIED:20251128T132431Z
UID:10108739-1883944800-1883950200@www.qxmagazine.com
SUMMARY:The Show After The Show
DESCRIPTION:The Players Bar’s resident pianist Lee Ormsby and a host of other talent playing the biggest and best-loved hits from West End shows past and present\, leading a singalong around the grand piano every Wednesday. Everybody is welcome. \n  \nImage: Lee at The Players Bar
URL:https://www.qxmagazine.com/event/the-show-after-the-show/2029-09-12/
LOCATION:Players Bar\, Charring Cross Theatre\, The Arches\, Villiers St\,\, London\, WC2N 6NL
CATEGORIES:Bars,Discount or Free Entry,LGBTQ+ Live Music
ATTACH;FMTTYPE=image/jpeg:https://www.qxmagazine.com/wp-content/uploads/2025/11/imageedit_60_4164420217-2.jpg
END:VEVENT
BEGIN:VEVENT
DTSTART;TZID=UTC:20290919T220000
DTEND;TZID=UTC:20290919T233000
DTSTAMP:20260422T191316
CREATED:20251128T114655Z
LAST-MODIFIED:20251128T132431Z
UID:10108740-1884549600-1884555000@www.qxmagazine.com
SUMMARY:The Show After The Show
DESCRIPTION:The Players Bar’s resident pianist Lee Ormsby and a host of other talent playing the biggest and best-loved hits from West End shows past and present\, leading a singalong around the grand piano every Wednesday. Everybody is welcome. \n  \nImage: Lee at The Players Bar
URL:https://www.qxmagazine.com/event/the-show-after-the-show/2029-09-19/
LOCATION:Players Bar\, Charring Cross Theatre\, The Arches\, Villiers St\,\, London\, WC2N 6NL
CATEGORIES:Bars,Discount or Free Entry,LGBTQ+ Live Music
ATTACH;FMTTYPE=image/jpeg:https://www.qxmagazine.com/wp-content/uploads/2025/11/imageedit_60_4164420217-2.jpg
END:VEVENT
BEGIN:VEVENT
DTSTART;TZID=UTC:20290926T220000
DTEND;TZID=UTC:20290926T233000
DTSTAMP:20260422T191316
CREATED:20251128T114655Z
LAST-MODIFIED:20251128T132431Z
UID:10108741-1885154400-1885159800@www.qxmagazine.com
SUMMARY:The Show After The Show
DESCRIPTION:The Players Bar’s resident pianist Lee Ormsby and a host of other talent playing the biggest and best-loved hits from West End shows past and present\, leading a singalong around the grand piano every Wednesday. Everybody is welcome. \n  \nImage: Lee at The Players Bar
URL:https://www.qxmagazine.com/event/the-show-after-the-show/2029-09-26/
LOCATION:Players Bar\, Charring Cross Theatre\, The Arches\, Villiers St\,\, London\, WC2N 6NL
CATEGORIES:Bars,Discount or Free Entry,LGBTQ+ Live Music
ATTACH;FMTTYPE=image/jpeg:https://www.qxmagazine.com/wp-content/uploads/2025/11/imageedit_60_4164420217-2.jpg
END:VEVENT
END:VCALENDAR