BEGIN:VCALENDAR
VERSION:2.0
PRODID:-//QX Magazine - ECPv6.15.20//NONSGML v1.0//EN
CALSCALE:GREGORIAN
METHOD:PUBLISH
X-ORIGINAL-URL:https://www.qxmagazine.com
X-WR-CALDESC:Events for QX Magazine
REFRESH-INTERVAL;VALUE=DURATION:PT1H
X-Robots-Tag:noindex
X-PUBLISHED-TTL:PT1H
BEGIN:VTIMEZONE
TZID:UTC
BEGIN:STANDARD
TZOFFSETFROM:+0000
TZOFFSETTO:+0000
TZNAME:UTC
DTSTART:20240101T000000
END:STANDARD
END:VTIMEZONE
BEGIN:VEVENT
DTSTART;TZID=UTC:20260224T193000
DTEND;TZID=UTC:20260224T193000
DTSTAMP:20260419T121447
CREATED:20260130T103630Z
LAST-MODIFIED:20260130T104050Z
UID:10112662-1771961400-1771961400@www.qxmagazine.com
SUMMARY:LGBTQ+ History Month Quiz
DESCRIPTION:Join your host Steven\, every Tuesday this Feb at 7.30\, to get quizzing and win some prizes! £4pp to play and £1 from each entry will go in the charity pot\, to be donated to a chosen LGBTQ+ charity at the end of the month. \nBook at retrobar.london@stonegategroup.co.uk
URL:https://www.qxmagazine.com/event/lgbtq-history-month-quiz/2026-02-24/
LOCATION:Retro Bar\, 2 George Court\, London\, WC2N 6HH\, United Kingdom
CATEGORIES:Bars,Featured Event,LGBTQ+ Bingo & Quiz,LGBTQ+ History Month
ATTACH;FMTTYPE=image/jpeg:https://www.qxmagazine.com/wp-content/uploads/2026/01/imageedit_33_8966597088.jpg
GEO:51.5089422;-0.1235578
X-APPLE-STRUCTURED-LOCATION;VALUE=URI;X-ADDRESS=Retro Bar 2 George Court London WC2N 6HH United Kingdom;X-APPLE-RADIUS=500;X-TITLE=2 George Court:geo:-0.1235578,51.5089422
END:VEVENT
BEGIN:VEVENT
DTSTART;TZID=UTC:20260217T193000
DTEND;TZID=UTC:20260217T193000
DTSTAMP:20260419T121447
CREATED:20260130T103630Z
LAST-MODIFIED:20260130T104050Z
UID:10112661-1771356600-1771356600@www.qxmagazine.com
SUMMARY:LGBTQ+ History Month Quiz
DESCRIPTION:Join your host Steven\, every Tuesday this Feb at 7.30\, to get quizzing and win some prizes! £4pp to play and £1 from each entry will go in the charity pot\, to be donated to a chosen LGBTQ+ charity at the end of the month. \nBook at retrobar.london@stonegategroup.co.uk
URL:https://www.qxmagazine.com/event/lgbtq-history-month-quiz/2026-02-17/
LOCATION:Retro Bar\, 2 George Court\, London\, WC2N 6HH\, United Kingdom
CATEGORIES:Bars,Featured Event,LGBTQ+ Bingo & Quiz,LGBTQ+ History Month
ATTACH;FMTTYPE=image/jpeg:https://www.qxmagazine.com/wp-content/uploads/2026/01/imageedit_33_8966597088.jpg
GEO:51.5089422;-0.1235578
X-APPLE-STRUCTURED-LOCATION;VALUE=URI;X-ADDRESS=Retro Bar 2 George Court London WC2N 6HH United Kingdom;X-APPLE-RADIUS=500;X-TITLE=2 George Court:geo:-0.1235578,51.5089422
END:VEVENT
BEGIN:VEVENT
DTSTART;TZID=UTC:20260210T193000
DTEND;TZID=UTC:20260210T193000
DTSTAMP:20260419T121447
CREATED:20260130T103630Z
LAST-MODIFIED:20260130T104050Z
UID:10112660-1770751800-1770751800@www.qxmagazine.com
SUMMARY:LGBTQ+ History Month Quiz
DESCRIPTION:Join your host Steven\, every Tuesday this Feb at 7.30\, to get quizzing and win some prizes! £4pp to play and £1 from each entry will go in the charity pot\, to be donated to a chosen LGBTQ+ charity at the end of the month. \nBook at retrobar.london@stonegategroup.co.uk
URL:https://www.qxmagazine.com/event/lgbtq-history-month-quiz/2026-02-10/
LOCATION:Retro Bar\, 2 George Court\, London\, WC2N 6HH\, United Kingdom
CATEGORIES:Bars,Featured Event,LGBTQ+ Bingo & Quiz,LGBTQ+ History Month
ATTACH;FMTTYPE=image/jpeg:https://www.qxmagazine.com/wp-content/uploads/2026/01/imageedit_33_8966597088.jpg
GEO:51.5089422;-0.1235578
X-APPLE-STRUCTURED-LOCATION;VALUE=URI;X-ADDRESS=Retro Bar 2 George Court London WC2N 6HH United Kingdom;X-APPLE-RADIUS=500;X-TITLE=2 George Court:geo:-0.1235578,51.5089422
END:VEVENT
BEGIN:VEVENT
DTSTART;TZID=UTC:20260203T193000
DTEND;TZID=UTC:20260203T193000
DTSTAMP:20260419T121447
CREATED:20260130T103630Z
LAST-MODIFIED:20260130T104050Z
UID:10112659-1770147000-1770147000@www.qxmagazine.com
SUMMARY:LGBTQ+ History Month Quiz
DESCRIPTION:Join your host Steven\, every Tuesday this Feb at 7.30\, to get quizzing and win some prizes! £4pp to play and £1 from each entry will go in the charity pot\, to be donated to a chosen LGBTQ+ charity at the end of the month. \nBook at retrobar.london@stonegategroup.co.uk
URL:https://www.qxmagazine.com/event/lgbtq-history-month-quiz/2026-02-03/
LOCATION:Retro Bar\, 2 George Court\, London\, WC2N 6HH\, United Kingdom
CATEGORIES:Bars,Featured Event,LGBTQ+ Bingo & Quiz,LGBTQ+ History Month
ATTACH;FMTTYPE=image/jpeg:https://www.qxmagazine.com/wp-content/uploads/2026/01/imageedit_33_8966597088.jpg
GEO:51.5089422;-0.1235578
X-APPLE-STRUCTURED-LOCATION;VALUE=URI;X-ADDRESS=Retro Bar 2 George Court London WC2N 6HH United Kingdom;X-APPLE-RADIUS=500;X-TITLE=2 George Court:geo:-0.1235578,51.5089422
END:VEVENT
BEGIN:VEVENT
DTSTART;TZID=UTC:20251221T190000
DTEND;TZID=UTC:20251221T210000
DTSTAMP:20260419T121447
CREATED:20240326T224051Z
LAST-MODIFIED:20250216T144216Z
UID:10094574-1766343600-1766350800@www.qxmagazine.com
SUMMARY:Busy Lady Bingo
DESCRIPTION:Busy Lady Bingo with Sheila Simmonds. You can win weird and wonderful prizes plus a cash jackpot. Book your table at the event’s website listed below.
URL:https://www.qxmagazine.com/event/busy-lady-bingo-4-1/2025-12-21/
LOCATION:Retro Bar\, 2 George Court\, London\, WC2N 6HH\, United Kingdom
CATEGORIES:Bars,LGBTQ+ Bingo & Quiz
ATTACH;FMTTYPE=image/jpeg:https://www.qxmagazine.com/wp-content/uploads/2022/11/imageedit_85_6257473238-2.jpg
GEO:51.5089422;-0.1235578
X-APPLE-STRUCTURED-LOCATION;VALUE=URI;X-ADDRESS=Retro Bar 2 George Court London WC2N 6HH United Kingdom;X-APPLE-RADIUS=500;X-TITLE=2 George Court:geo:-0.1235578,51.5089422
END:VEVENT
BEGIN:VEVENT
DTSTART;TZID=UTC:20251214T190000
DTEND;TZID=UTC:20251214T210000
DTSTAMP:20260419T121447
CREATED:20240326T224051Z
LAST-MODIFIED:20250216T144216Z
UID:10094573-1765738800-1765746000@www.qxmagazine.com
SUMMARY:Busy Lady Bingo
DESCRIPTION:Busy Lady Bingo with Sheila Simmonds. You can win weird and wonderful prizes plus a cash jackpot. Book your table at the event’s website listed below.
URL:https://www.qxmagazine.com/event/busy-lady-bingo-4-1/2025-12-14/
LOCATION:Retro Bar\, 2 George Court\, London\, WC2N 6HH\, United Kingdom
CATEGORIES:Bars,LGBTQ+ Bingo & Quiz
ATTACH;FMTTYPE=image/jpeg:https://www.qxmagazine.com/wp-content/uploads/2022/11/imageedit_85_6257473238-2.jpg
GEO:51.5089422;-0.1235578
X-APPLE-STRUCTURED-LOCATION;VALUE=URI;X-ADDRESS=Retro Bar 2 George Court London WC2N 6HH United Kingdom;X-APPLE-RADIUS=500;X-TITLE=2 George Court:geo:-0.1235578,51.5089422
END:VEVENT
BEGIN:VEVENT
DTSTART;TZID=UTC:20251207T190000
DTEND;TZID=UTC:20251207T210000
DTSTAMP:20260419T121447
CREATED:20240326T224051Z
LAST-MODIFIED:20250216T144216Z
UID:10094572-1765134000-1765141200@www.qxmagazine.com
SUMMARY:Busy Lady Bingo
DESCRIPTION:Busy Lady Bingo with Sheila Simmonds. You can win weird and wonderful prizes plus a cash jackpot. Book your table at the event’s website listed below.
URL:https://www.qxmagazine.com/event/busy-lady-bingo-4-1/2025-12-07/
LOCATION:Retro Bar\, 2 George Court\, London\, WC2N 6HH\, United Kingdom
CATEGORIES:Bars,LGBTQ+ Bingo & Quiz
ATTACH;FMTTYPE=image/jpeg:https://www.qxmagazine.com/wp-content/uploads/2022/11/imageedit_85_6257473238-2.jpg
GEO:51.5089422;-0.1235578
X-APPLE-STRUCTURED-LOCATION;VALUE=URI;X-ADDRESS=Retro Bar 2 George Court London WC2N 6HH United Kingdom;X-APPLE-RADIUS=500;X-TITLE=2 George Court:geo:-0.1235578,51.5089422
END:VEVENT
BEGIN:VEVENT
DTSTART;TZID=UTC:20251130T190000
DTEND;TZID=UTC:20251130T210000
DTSTAMP:20260419T121447
CREATED:20240326T224051Z
LAST-MODIFIED:20250216T144216Z
UID:10094571-1764529200-1764536400@www.qxmagazine.com
SUMMARY:Busy Lady Bingo
DESCRIPTION:Busy Lady Bingo with Sheila Simmonds. You can win weird and wonderful prizes plus a cash jackpot. Book your table at the event’s website listed below.
URL:https://www.qxmagazine.com/event/busy-lady-bingo-4-1/2025-11-30/
LOCATION:Retro Bar\, 2 George Court\, London\, WC2N 6HH\, United Kingdom
CATEGORIES:Bars,LGBTQ+ Bingo & Quiz
ATTACH;FMTTYPE=image/jpeg:https://www.qxmagazine.com/wp-content/uploads/2022/11/imageedit_85_6257473238-2.jpg
GEO:51.5089422;-0.1235578
X-APPLE-STRUCTURED-LOCATION;VALUE=URI;X-ADDRESS=Retro Bar 2 George Court London WC2N 6HH United Kingdom;X-APPLE-RADIUS=500;X-TITLE=2 George Court:geo:-0.1235578,51.5089422
END:VEVENT
BEGIN:VEVENT
DTSTART;TZID=UTC:20251123T190000
DTEND;TZID=UTC:20251123T210000
DTSTAMP:20260419T121447
CREATED:20240326T224051Z
LAST-MODIFIED:20250216T144216Z
UID:10094570-1763924400-1763931600@www.qxmagazine.com
SUMMARY:Busy Lady Bingo
DESCRIPTION:Busy Lady Bingo with Sheila Simmonds. You can win weird and wonderful prizes plus a cash jackpot. Book your table at the event’s website listed below.
URL:https://www.qxmagazine.com/event/busy-lady-bingo-4-1/2025-11-23/
LOCATION:Retro Bar\, 2 George Court\, London\, WC2N 6HH\, United Kingdom
CATEGORIES:Bars,LGBTQ+ Bingo & Quiz
ATTACH;FMTTYPE=image/jpeg:https://www.qxmagazine.com/wp-content/uploads/2022/11/imageedit_85_6257473238-2.jpg
GEO:51.5089422;-0.1235578
X-APPLE-STRUCTURED-LOCATION;VALUE=URI;X-ADDRESS=Retro Bar 2 George Court London WC2N 6HH United Kingdom;X-APPLE-RADIUS=500;X-TITLE=2 George Court:geo:-0.1235578,51.5089422
END:VEVENT
BEGIN:VEVENT
DTSTART;TZID=UTC:20251116T190000
DTEND;TZID=UTC:20251116T210000
DTSTAMP:20260419T121447
CREATED:20240326T224051Z
LAST-MODIFIED:20250216T144216Z
UID:10094569-1763319600-1763326800@www.qxmagazine.com
SUMMARY:Busy Lady Bingo
DESCRIPTION:Busy Lady Bingo with Sheila Simmonds. You can win weird and wonderful prizes plus a cash jackpot. Book your table at the event’s website listed below.
URL:https://www.qxmagazine.com/event/busy-lady-bingo-4-1/2025-11-16/
LOCATION:Retro Bar\, 2 George Court\, London\, WC2N 6HH\, United Kingdom
CATEGORIES:Bars,LGBTQ+ Bingo & Quiz
ATTACH;FMTTYPE=image/jpeg:https://www.qxmagazine.com/wp-content/uploads/2022/11/imageedit_85_6257473238-2.jpg
GEO:51.5089422;-0.1235578
X-APPLE-STRUCTURED-LOCATION;VALUE=URI;X-ADDRESS=Retro Bar 2 George Court London WC2N 6HH United Kingdom;X-APPLE-RADIUS=500;X-TITLE=2 George Court:geo:-0.1235578,51.5089422
END:VEVENT
BEGIN:VEVENT
DTSTART;TZID=UTC:20251109T190000
DTEND;TZID=UTC:20251109T210000
DTSTAMP:20260419T121447
CREATED:20240326T224051Z
LAST-MODIFIED:20250216T144216Z
UID:10094568-1762714800-1762722000@www.qxmagazine.com
SUMMARY:Busy Lady Bingo
DESCRIPTION:Busy Lady Bingo with Sheila Simmonds. You can win weird and wonderful prizes plus a cash jackpot. Book your table at the event’s website listed below.
URL:https://www.qxmagazine.com/event/busy-lady-bingo-4-1/2025-11-09/
LOCATION:Retro Bar\, 2 George Court\, London\, WC2N 6HH\, United Kingdom
CATEGORIES:Bars,LGBTQ+ Bingo & Quiz
ATTACH;FMTTYPE=image/jpeg:https://www.qxmagazine.com/wp-content/uploads/2022/11/imageedit_85_6257473238-2.jpg
GEO:51.5089422;-0.1235578
X-APPLE-STRUCTURED-LOCATION;VALUE=URI;X-ADDRESS=Retro Bar 2 George Court London WC2N 6HH United Kingdom;X-APPLE-RADIUS=500;X-TITLE=2 George Court:geo:-0.1235578,51.5089422
END:VEVENT
BEGIN:VEVENT
DTSTART;TZID=UTC:20251102T190000
DTEND;TZID=UTC:20251102T210000
DTSTAMP:20260419T121447
CREATED:20240326T224051Z
LAST-MODIFIED:20250216T144216Z
UID:10094567-1762110000-1762117200@www.qxmagazine.com
SUMMARY:Busy Lady Bingo
DESCRIPTION:Busy Lady Bingo with Sheila Simmonds. You can win weird and wonderful prizes plus a cash jackpot. Book your table at the event’s website listed below.
URL:https://www.qxmagazine.com/event/busy-lady-bingo-4-1/2025-11-02/
LOCATION:Retro Bar\, 2 George Court\, London\, WC2N 6HH\, United Kingdom
CATEGORIES:Bars,LGBTQ+ Bingo & Quiz
ATTACH;FMTTYPE=image/jpeg:https://www.qxmagazine.com/wp-content/uploads/2022/11/imageedit_85_6257473238-2.jpg
GEO:51.5089422;-0.1235578
X-APPLE-STRUCTURED-LOCATION;VALUE=URI;X-ADDRESS=Retro Bar 2 George Court London WC2N 6HH United Kingdom;X-APPLE-RADIUS=500;X-TITLE=2 George Court:geo:-0.1235578,51.5089422
END:VEVENT
BEGIN:VEVENT
DTSTART;TZID=UTC:20251026T190000
DTEND;TZID=UTC:20251026T210000
DTSTAMP:20260419T121447
CREATED:20240326T224051Z
LAST-MODIFIED:20250216T144216Z
UID:10094566-1761505200-1761512400@www.qxmagazine.com
SUMMARY:Busy Lady Bingo
DESCRIPTION:Busy Lady Bingo with Sheila Simmonds. You can win weird and wonderful prizes plus a cash jackpot. Book your table at the event’s website listed below.
URL:https://www.qxmagazine.com/event/busy-lady-bingo-4-1/2025-10-26/
LOCATION:Retro Bar\, 2 George Court\, London\, WC2N 6HH\, United Kingdom
CATEGORIES:Bars,LGBTQ+ Bingo & Quiz
ATTACH;FMTTYPE=image/jpeg:https://www.qxmagazine.com/wp-content/uploads/2022/11/imageedit_85_6257473238-2.jpg
GEO:51.5089422;-0.1235578
X-APPLE-STRUCTURED-LOCATION;VALUE=URI;X-ADDRESS=Retro Bar 2 George Court London WC2N 6HH United Kingdom;X-APPLE-RADIUS=500;X-TITLE=2 George Court:geo:-0.1235578,51.5089422
END:VEVENT
BEGIN:VEVENT
DTSTART;TZID=UTC:20251019T190000
DTEND;TZID=UTC:20251019T210000
DTSTAMP:20260419T121447
CREATED:20240326T224051Z
LAST-MODIFIED:20250216T144216Z
UID:10094565-1760900400-1760907600@www.qxmagazine.com
SUMMARY:Busy Lady Bingo
DESCRIPTION:Busy Lady Bingo with Sheila Simmonds. You can win weird and wonderful prizes plus a cash jackpot. Book your table at the event’s website listed below.
URL:https://www.qxmagazine.com/event/busy-lady-bingo-4-1/2025-10-19/
LOCATION:Retro Bar\, 2 George Court\, London\, WC2N 6HH\, United Kingdom
CATEGORIES:Bars,LGBTQ+ Bingo & Quiz
ATTACH;FMTTYPE=image/jpeg:https://www.qxmagazine.com/wp-content/uploads/2022/11/imageedit_85_6257473238-2.jpg
GEO:51.5089422;-0.1235578
X-APPLE-STRUCTURED-LOCATION;VALUE=URI;X-ADDRESS=Retro Bar 2 George Court London WC2N 6HH United Kingdom;X-APPLE-RADIUS=500;X-TITLE=2 George Court:geo:-0.1235578,51.5089422
END:VEVENT
BEGIN:VEVENT
DTSTART;TZID=UTC:20251012T190000
DTEND;TZID=UTC:20251012T210000
DTSTAMP:20260419T121447
CREATED:20240326T224051Z
LAST-MODIFIED:20250216T144216Z
UID:10094564-1760295600-1760302800@www.qxmagazine.com
SUMMARY:Busy Lady Bingo
DESCRIPTION:Busy Lady Bingo with Sheila Simmonds. You can win weird and wonderful prizes plus a cash jackpot. Book your table at the event’s website listed below.
URL:https://www.qxmagazine.com/event/busy-lady-bingo-4-1/2025-10-12/
LOCATION:Retro Bar\, 2 George Court\, London\, WC2N 6HH\, United Kingdom
CATEGORIES:Bars,LGBTQ+ Bingo & Quiz
ATTACH;FMTTYPE=image/jpeg:https://www.qxmagazine.com/wp-content/uploads/2022/11/imageedit_85_6257473238-2.jpg
GEO:51.5089422;-0.1235578
X-APPLE-STRUCTURED-LOCATION;VALUE=URI;X-ADDRESS=Retro Bar 2 George Court London WC2N 6HH United Kingdom;X-APPLE-RADIUS=500;X-TITLE=2 George Court:geo:-0.1235578,51.5089422
END:VEVENT
BEGIN:VEVENT
DTSTART;TZID=UTC:20251005T190000
DTEND;TZID=UTC:20251005T210000
DTSTAMP:20260419T121447
CREATED:20240326T224051Z
LAST-MODIFIED:20250216T144216Z
UID:10094563-1759690800-1759698000@www.qxmagazine.com
SUMMARY:Busy Lady Bingo
DESCRIPTION:Busy Lady Bingo with Sheila Simmonds. You can win weird and wonderful prizes plus a cash jackpot. Book your table at the event’s website listed below.
URL:https://www.qxmagazine.com/event/busy-lady-bingo-4-1/2025-10-05/
LOCATION:Retro Bar\, 2 George Court\, London\, WC2N 6HH\, United Kingdom
CATEGORIES:Bars,LGBTQ+ Bingo & Quiz
ATTACH;FMTTYPE=image/jpeg:https://www.qxmagazine.com/wp-content/uploads/2022/11/imageedit_85_6257473238-2.jpg
GEO:51.5089422;-0.1235578
X-APPLE-STRUCTURED-LOCATION;VALUE=URI;X-ADDRESS=Retro Bar 2 George Court London WC2N 6HH United Kingdom;X-APPLE-RADIUS=500;X-TITLE=2 George Court:geo:-0.1235578,51.5089422
END:VEVENT
BEGIN:VEVENT
DTSTART;TZID=UTC:20250928T190000
DTEND;TZID=UTC:20250928T210000
DTSTAMP:20260419T121447
CREATED:20240326T224051Z
LAST-MODIFIED:20250216T144216Z
UID:10094562-1759086000-1759093200@www.qxmagazine.com
SUMMARY:Busy Lady Bingo
DESCRIPTION:Busy Lady Bingo with Sheila Simmonds. You can win weird and wonderful prizes plus a cash jackpot. Book your table at the event’s website listed below.
URL:https://www.qxmagazine.com/event/busy-lady-bingo-4-1/2025-09-28/
LOCATION:Retro Bar\, 2 George Court\, London\, WC2N 6HH\, United Kingdom
CATEGORIES:Bars,LGBTQ+ Bingo & Quiz
ATTACH;FMTTYPE=image/jpeg:https://www.qxmagazine.com/wp-content/uploads/2022/11/imageedit_85_6257473238-2.jpg
GEO:51.5089422;-0.1235578
X-APPLE-STRUCTURED-LOCATION;VALUE=URI;X-ADDRESS=Retro Bar 2 George Court London WC2N 6HH United Kingdom;X-APPLE-RADIUS=500;X-TITLE=2 George Court:geo:-0.1235578,51.5089422
END:VEVENT
BEGIN:VEVENT
DTSTART;TZID=UTC:20250921T190000
DTEND;TZID=UTC:20250921T210000
DTSTAMP:20260419T121447
CREATED:20240326T224051Z
LAST-MODIFIED:20250216T144216Z
UID:10094561-1758481200-1758488400@www.qxmagazine.com
SUMMARY:Busy Lady Bingo
DESCRIPTION:Busy Lady Bingo with Sheila Simmonds. You can win weird and wonderful prizes plus a cash jackpot. Book your table at the event’s website listed below.
URL:https://www.qxmagazine.com/event/busy-lady-bingo-4-1/2025-09-21/
LOCATION:Retro Bar\, 2 George Court\, London\, WC2N 6HH\, United Kingdom
CATEGORIES:Bars,LGBTQ+ Bingo & Quiz
ATTACH;FMTTYPE=image/jpeg:https://www.qxmagazine.com/wp-content/uploads/2022/11/imageedit_85_6257473238-2.jpg
GEO:51.5089422;-0.1235578
X-APPLE-STRUCTURED-LOCATION;VALUE=URI;X-ADDRESS=Retro Bar 2 George Court London WC2N 6HH United Kingdom;X-APPLE-RADIUS=500;X-TITLE=2 George Court:geo:-0.1235578,51.5089422
END:VEVENT
BEGIN:VEVENT
DTSTART;TZID=UTC:20250914T190000
DTEND;TZID=UTC:20250914T210000
DTSTAMP:20260419T121447
CREATED:20240326T224051Z
LAST-MODIFIED:20250216T144216Z
UID:10094560-1757876400-1757883600@www.qxmagazine.com
SUMMARY:Busy Lady Bingo
DESCRIPTION:Busy Lady Bingo with Sheila Simmonds. You can win weird and wonderful prizes plus a cash jackpot. Book your table at the event’s website listed below.
URL:https://www.qxmagazine.com/event/busy-lady-bingo-4-1/2025-09-14/
LOCATION:Retro Bar\, 2 George Court\, London\, WC2N 6HH\, United Kingdom
CATEGORIES:Bars,LGBTQ+ Bingo & Quiz
ATTACH;FMTTYPE=image/jpeg:https://www.qxmagazine.com/wp-content/uploads/2022/11/imageedit_85_6257473238-2.jpg
GEO:51.5089422;-0.1235578
X-APPLE-STRUCTURED-LOCATION;VALUE=URI;X-ADDRESS=Retro Bar 2 George Court London WC2N 6HH United Kingdom;X-APPLE-RADIUS=500;X-TITLE=2 George Court:geo:-0.1235578,51.5089422
END:VEVENT
BEGIN:VEVENT
DTSTART;TZID=UTC:20250907T190000
DTEND;TZID=UTC:20250907T210000
DTSTAMP:20260419T121447
CREATED:20240326T224051Z
LAST-MODIFIED:20250216T144216Z
UID:10094559-1757271600-1757278800@www.qxmagazine.com
SUMMARY:Busy Lady Bingo
DESCRIPTION:Busy Lady Bingo with Sheila Simmonds. You can win weird and wonderful prizes plus a cash jackpot. Book your table at the event’s website listed below.
URL:https://www.qxmagazine.com/event/busy-lady-bingo-4-1/2025-09-07/
LOCATION:Retro Bar\, 2 George Court\, London\, WC2N 6HH\, United Kingdom
CATEGORIES:Bars,LGBTQ+ Bingo & Quiz
ATTACH;FMTTYPE=image/jpeg:https://www.qxmagazine.com/wp-content/uploads/2022/11/imageedit_85_6257473238-2.jpg
GEO:51.5089422;-0.1235578
X-APPLE-STRUCTURED-LOCATION;VALUE=URI;X-ADDRESS=Retro Bar 2 George Court London WC2N 6HH United Kingdom;X-APPLE-RADIUS=500;X-TITLE=2 George Court:geo:-0.1235578,51.5089422
END:VEVENT
BEGIN:VEVENT
DTSTART;TZID=UTC:20250831T190000
DTEND;TZID=UTC:20250831T210000
DTSTAMP:20260419T121447
CREATED:20240326T224051Z
LAST-MODIFIED:20250216T144216Z
UID:10094558-1756666800-1756674000@www.qxmagazine.com
SUMMARY:Busy Lady Bingo
DESCRIPTION:Busy Lady Bingo with Sheila Simmonds. You can win weird and wonderful prizes plus a cash jackpot. Book your table at the event’s website listed below.
URL:https://www.qxmagazine.com/event/busy-lady-bingo-4-1/2025-08-31/
LOCATION:Retro Bar\, 2 George Court\, London\, WC2N 6HH\, United Kingdom
CATEGORIES:Bars,LGBTQ+ Bingo & Quiz
ATTACH;FMTTYPE=image/jpeg:https://www.qxmagazine.com/wp-content/uploads/2022/11/imageedit_85_6257473238-2.jpg
GEO:51.5089422;-0.1235578
X-APPLE-STRUCTURED-LOCATION;VALUE=URI;X-ADDRESS=Retro Bar 2 George Court London WC2N 6HH United Kingdom;X-APPLE-RADIUS=500;X-TITLE=2 George Court:geo:-0.1235578,51.5089422
END:VEVENT
BEGIN:VEVENT
DTSTART;TZID=UTC:20250824T190000
DTEND;TZID=UTC:20250824T210000
DTSTAMP:20260419T121447
CREATED:20240326T224051Z
LAST-MODIFIED:20250216T144216Z
UID:10094557-1756062000-1756069200@www.qxmagazine.com
SUMMARY:Busy Lady Bingo
DESCRIPTION:Busy Lady Bingo with Sheila Simmonds. You can win weird and wonderful prizes plus a cash jackpot. Book your table at the event’s website listed below.
URL:https://www.qxmagazine.com/event/busy-lady-bingo-4-1/2025-08-24/
LOCATION:Retro Bar\, 2 George Court\, London\, WC2N 6HH\, United Kingdom
CATEGORIES:Bars,LGBTQ+ Bingo & Quiz
ATTACH;FMTTYPE=image/jpeg:https://www.qxmagazine.com/wp-content/uploads/2022/11/imageedit_85_6257473238-2.jpg
GEO:51.5089422;-0.1235578
X-APPLE-STRUCTURED-LOCATION;VALUE=URI;X-ADDRESS=Retro Bar 2 George Court London WC2N 6HH United Kingdom;X-APPLE-RADIUS=500;X-TITLE=2 George Court:geo:-0.1235578,51.5089422
END:VEVENT
BEGIN:VEVENT
DTSTART;TZID=UTC:20250817T190000
DTEND;TZID=UTC:20250817T210000
DTSTAMP:20260419T121447
CREATED:20240326T224051Z
LAST-MODIFIED:20250216T144216Z
UID:10094556-1755457200-1755464400@www.qxmagazine.com
SUMMARY:Busy Lady Bingo
DESCRIPTION:Busy Lady Bingo with Sheila Simmonds. You can win weird and wonderful prizes plus a cash jackpot. Book your table at the event’s website listed below.
URL:https://www.qxmagazine.com/event/busy-lady-bingo-4-1/2025-08-17/
LOCATION:Retro Bar\, 2 George Court\, London\, WC2N 6HH\, United Kingdom
CATEGORIES:Bars,LGBTQ+ Bingo & Quiz
ATTACH;FMTTYPE=image/jpeg:https://www.qxmagazine.com/wp-content/uploads/2022/11/imageedit_85_6257473238-2.jpg
GEO:51.5089422;-0.1235578
X-APPLE-STRUCTURED-LOCATION;VALUE=URI;X-ADDRESS=Retro Bar 2 George Court London WC2N 6HH United Kingdom;X-APPLE-RADIUS=500;X-TITLE=2 George Court:geo:-0.1235578,51.5089422
END:VEVENT
BEGIN:VEVENT
DTSTART;TZID=UTC:20250810T190000
DTEND;TZID=UTC:20250810T210000
DTSTAMP:20260419T121447
CREATED:20240326T224051Z
LAST-MODIFIED:20250216T144216Z
UID:10094555-1754852400-1754859600@www.qxmagazine.com
SUMMARY:Busy Lady Bingo
DESCRIPTION:Busy Lady Bingo with Sheila Simmonds. You can win weird and wonderful prizes plus a cash jackpot. Book your table at the event’s website listed below.
URL:https://www.qxmagazine.com/event/busy-lady-bingo-4-1/2025-08-10/
LOCATION:Retro Bar\, 2 George Court\, London\, WC2N 6HH\, United Kingdom
CATEGORIES:Bars,LGBTQ+ Bingo & Quiz
ATTACH;FMTTYPE=image/jpeg:https://www.qxmagazine.com/wp-content/uploads/2022/11/imageedit_85_6257473238-2.jpg
GEO:51.5089422;-0.1235578
X-APPLE-STRUCTURED-LOCATION;VALUE=URI;X-ADDRESS=Retro Bar 2 George Court London WC2N 6HH United Kingdom;X-APPLE-RADIUS=500;X-TITLE=2 George Court:geo:-0.1235578,51.5089422
END:VEVENT
BEGIN:VEVENT
DTSTART;TZID=UTC:20250803T190000
DTEND;TZID=UTC:20250803T210000
DTSTAMP:20260419T121447
CREATED:20240326T224051Z
LAST-MODIFIED:20250216T144216Z
UID:10094554-1754247600-1754254800@www.qxmagazine.com
SUMMARY:Busy Lady Bingo
DESCRIPTION:Busy Lady Bingo with Sheila Simmonds. You can win weird and wonderful prizes plus a cash jackpot. Book your table at the event’s website listed below.
URL:https://www.qxmagazine.com/event/busy-lady-bingo-4-1/2025-08-03/
LOCATION:Retro Bar\, 2 George Court\, London\, WC2N 6HH\, United Kingdom
CATEGORIES:Bars,LGBTQ+ Bingo & Quiz
ATTACH;FMTTYPE=image/jpeg:https://www.qxmagazine.com/wp-content/uploads/2022/11/imageedit_85_6257473238-2.jpg
GEO:51.5089422;-0.1235578
X-APPLE-STRUCTURED-LOCATION;VALUE=URI;X-ADDRESS=Retro Bar 2 George Court London WC2N 6HH United Kingdom;X-APPLE-RADIUS=500;X-TITLE=2 George Court:geo:-0.1235578,51.5089422
END:VEVENT
BEGIN:VEVENT
DTSTART;TZID=UTC:20250727T190000
DTEND;TZID=UTC:20250727T210000
DTSTAMP:20260419T121447
CREATED:20240326T224051Z
LAST-MODIFIED:20250216T144216Z
UID:10094553-1753642800-1753650000@www.qxmagazine.com
SUMMARY:Busy Lady Bingo
DESCRIPTION:Busy Lady Bingo with Sheila Simmonds. You can win weird and wonderful prizes plus a cash jackpot. Book your table at the event’s website listed below.
URL:https://www.qxmagazine.com/event/busy-lady-bingo-4-1/2025-07-27/
LOCATION:Retro Bar\, 2 George Court\, London\, WC2N 6HH\, United Kingdom
CATEGORIES:Bars,LGBTQ+ Bingo & Quiz
ATTACH;FMTTYPE=image/jpeg:https://www.qxmagazine.com/wp-content/uploads/2022/11/imageedit_85_6257473238-2.jpg
GEO:51.5089422;-0.1235578
X-APPLE-STRUCTURED-LOCATION;VALUE=URI;X-ADDRESS=Retro Bar 2 George Court London WC2N 6HH United Kingdom;X-APPLE-RADIUS=500;X-TITLE=2 George Court:geo:-0.1235578,51.5089422
END:VEVENT
BEGIN:VEVENT
DTSTART;TZID=UTC:20250720T190000
DTEND;TZID=UTC:20250720T210000
DTSTAMP:20260419T121447
CREATED:20240326T224051Z
LAST-MODIFIED:20250216T144216Z
UID:10094552-1753038000-1753045200@www.qxmagazine.com
SUMMARY:Busy Lady Bingo
DESCRIPTION:Busy Lady Bingo with Sheila Simmonds. You can win weird and wonderful prizes plus a cash jackpot. Book your table at the event’s website listed below.
URL:https://www.qxmagazine.com/event/busy-lady-bingo-4-1/2025-07-20/
LOCATION:Retro Bar\, 2 George Court\, London\, WC2N 6HH\, United Kingdom
CATEGORIES:Bars,LGBTQ+ Bingo & Quiz
ATTACH;FMTTYPE=image/jpeg:https://www.qxmagazine.com/wp-content/uploads/2022/11/imageedit_85_6257473238-2.jpg
GEO:51.5089422;-0.1235578
X-APPLE-STRUCTURED-LOCATION;VALUE=URI;X-ADDRESS=Retro Bar 2 George Court London WC2N 6HH United Kingdom;X-APPLE-RADIUS=500;X-TITLE=2 George Court:geo:-0.1235578,51.5089422
END:VEVENT
BEGIN:VEVENT
DTSTART;TZID=UTC:20250715T200000
DTEND;TZID=UTC:20250715T220000
DTSTAMP:20260419T121447
CREATED:20250608T084335Z
LAST-MODIFIED:20250608T084335Z
UID:10100583-1752609600-1752616800@www.qxmagazine.com
SUMMARY:This Is Quizland by Mr Teds
DESCRIPTION:£3 per person with a maximum six per team.
URL:https://www.qxmagazine.com/event/this-is-quizland-by-mr-teds/2025-07-15/
LOCATION:Retro Bar\, 2 George Court\, London\, WC2N 6HH\, United Kingdom
CATEGORIES:Bars,LGBTQ+ Bingo & Quiz
ATTACH;FMTTYPE=image/jpeg:https://www.qxmagazine.com/wp-content/uploads/2025/06/imageedit_11_5431156613.jpg
GEO:51.5089422;-0.1235578
X-APPLE-STRUCTURED-LOCATION;VALUE=URI;X-ADDRESS=Retro Bar 2 George Court London WC2N 6HH United Kingdom;X-APPLE-RADIUS=500;X-TITLE=2 George Court:geo:-0.1235578,51.5089422
END:VEVENT
BEGIN:VEVENT
DTSTART;TZID=UTC:20250713T190000
DTEND;TZID=UTC:20250713T210000
DTSTAMP:20260419T121447
CREATED:20240326T224051Z
LAST-MODIFIED:20250216T144216Z
UID:10094551-1752433200-1752440400@www.qxmagazine.com
SUMMARY:Busy Lady Bingo
DESCRIPTION:Busy Lady Bingo with Sheila Simmonds. You can win weird and wonderful prizes plus a cash jackpot. Book your table at the event’s website listed below.
URL:https://www.qxmagazine.com/event/busy-lady-bingo-4-1/2025-07-13/
LOCATION:Retro Bar\, 2 George Court\, London\, WC2N 6HH\, United Kingdom
CATEGORIES:Bars,LGBTQ+ Bingo & Quiz
ATTACH;FMTTYPE=image/jpeg:https://www.qxmagazine.com/wp-content/uploads/2022/11/imageedit_85_6257473238-2.jpg
GEO:51.5089422;-0.1235578
X-APPLE-STRUCTURED-LOCATION;VALUE=URI;X-ADDRESS=Retro Bar 2 George Court London WC2N 6HH United Kingdom;X-APPLE-RADIUS=500;X-TITLE=2 George Court:geo:-0.1235578,51.5089422
END:VEVENT
BEGIN:VEVENT
DTSTART;TZID=UTC:20250706T190000
DTEND;TZID=UTC:20250706T210000
DTSTAMP:20260419T121447
CREATED:20240326T224051Z
LAST-MODIFIED:20250216T144216Z
UID:10094550-1751828400-1751835600@www.qxmagazine.com
SUMMARY:Busy Lady Bingo
DESCRIPTION:Busy Lady Bingo with Sheila Simmonds. You can win weird and wonderful prizes plus a cash jackpot. Book your table at the event’s website listed below.
URL:https://www.qxmagazine.com/event/busy-lady-bingo-4-1/2025-07-06/
LOCATION:Retro Bar\, 2 George Court\, London\, WC2N 6HH\, United Kingdom
CATEGORIES:Bars,LGBTQ+ Bingo & Quiz
ATTACH;FMTTYPE=image/jpeg:https://www.qxmagazine.com/wp-content/uploads/2022/11/imageedit_85_6257473238-2.jpg
GEO:51.5089422;-0.1235578
X-APPLE-STRUCTURED-LOCATION;VALUE=URI;X-ADDRESS=Retro Bar 2 George Court London WC2N 6HH United Kingdom;X-APPLE-RADIUS=500;X-TITLE=2 George Court:geo:-0.1235578,51.5089422
END:VEVENT
END:VCALENDAR