BEGIN:VCALENDAR
VERSION:2.0
PRODID:-//QX Magazine - ECPv6.15.20//NONSGML v1.0//EN
CALSCALE:GREGORIAN
METHOD:PUBLISH
X-WR-CALNAME:QX Magazine
X-ORIGINAL-URL:https://www.qxmagazine.com
X-WR-CALDESC:Events for QX Magazine
REFRESH-INTERVAL;VALUE=DURATION:PT1H
X-Robots-Tag:noindex
X-PUBLISHED-TTL:PT1H
BEGIN:VTIMEZONE
TZID:UTC
BEGIN:STANDARD
TZOFFSETFROM:+0000
TZOFFSETTO:+0000
TZNAME:UTC
DTSTART:20230101T000000
END:STANDARD
END:VTIMEZONE
BEGIN:VEVENT
DTSTART;TZID=UTC:20250629T190000
DTEND;TZID=UTC:20250629T210000
DTSTAMP:20260419T133947
CREATED:20240326T224051Z
LAST-MODIFIED:20250216T144216Z
UID:10094549-1751223600-1751230800@www.qxmagazine.com
SUMMARY:Busy Lady Bingo
DESCRIPTION:Busy Lady Bingo with Sheila Simmonds. You can win weird and wonderful prizes plus a cash jackpot. Book your table at the event’s website listed below.
URL:https://www.qxmagazine.com/event/busy-lady-bingo-4-1/2025-06-29/
LOCATION:Retro Bar\, 2 George Court\, London\, WC2N 6HH\, United Kingdom
CATEGORIES:Bars,LGBTQ+ Bingo & Quiz
ATTACH;FMTTYPE=image/jpeg:https://www.qxmagazine.com/wp-content/uploads/2022/11/imageedit_85_6257473238-2.jpg
GEO:51.5089422;-0.1235578
X-APPLE-STRUCTURED-LOCATION;VALUE=URI;X-ADDRESS=Retro Bar 2 George Court London WC2N 6HH United Kingdom;X-APPLE-RADIUS=500;X-TITLE=2 George Court:geo:-0.1235578,51.5089422
END:VEVENT
BEGIN:VEVENT
DTSTART;TZID=UTC:20250622T190000
DTEND;TZID=UTC:20250622T210000
DTSTAMP:20260419T133947
CREATED:20240326T224051Z
LAST-MODIFIED:20250216T144216Z
UID:10094548-1750618800-1750626000@www.qxmagazine.com
SUMMARY:Busy Lady Bingo
DESCRIPTION:Busy Lady Bingo with Sheila Simmonds. You can win weird and wonderful prizes plus a cash jackpot. Book your table at the event’s website listed below.
URL:https://www.qxmagazine.com/event/busy-lady-bingo-4-1/2025-06-22/
LOCATION:Retro Bar\, 2 George Court\, London\, WC2N 6HH\, United Kingdom
CATEGORIES:Bars,LGBTQ+ Bingo & Quiz
ATTACH;FMTTYPE=image/jpeg:https://www.qxmagazine.com/wp-content/uploads/2022/11/imageedit_85_6257473238-2.jpg
GEO:51.5089422;-0.1235578
X-APPLE-STRUCTURED-LOCATION;VALUE=URI;X-ADDRESS=Retro Bar 2 George Court London WC2N 6HH United Kingdom;X-APPLE-RADIUS=500;X-TITLE=2 George Court:geo:-0.1235578,51.5089422
END:VEVENT
BEGIN:VEVENT
DTSTART;TZID=UTC:20250617T200000
DTEND;TZID=UTC:20250617T220000
DTSTAMP:20260419T133947
CREATED:20250608T084335Z
LAST-MODIFIED:20250608T084335Z
UID:10100582-1750190400-1750197600@www.qxmagazine.com
SUMMARY:This Is Quizland by Mr Teds
DESCRIPTION:£3 per person with a maximum six per team.
URL:https://www.qxmagazine.com/event/this-is-quizland-by-mr-teds/2025-06-17/
LOCATION:Retro Bar\, 2 George Court\, London\, WC2N 6HH\, United Kingdom
CATEGORIES:Bars,LGBTQ+ Bingo & Quiz
ATTACH;FMTTYPE=image/jpeg:https://www.qxmagazine.com/wp-content/uploads/2025/06/imageedit_11_5431156613.jpg
GEO:51.5089422;-0.1235578
X-APPLE-STRUCTURED-LOCATION;VALUE=URI;X-ADDRESS=Retro Bar 2 George Court London WC2N 6HH United Kingdom;X-APPLE-RADIUS=500;X-TITLE=2 George Court:geo:-0.1235578,51.5089422
END:VEVENT
BEGIN:VEVENT
DTSTART;TZID=UTC:20250615T190000
DTEND;TZID=UTC:20250615T210000
DTSTAMP:20260419T133947
CREATED:20240326T224051Z
LAST-MODIFIED:20250216T144216Z
UID:10094547-1750014000-1750021200@www.qxmagazine.com
SUMMARY:Busy Lady Bingo
DESCRIPTION:Busy Lady Bingo with Sheila Simmonds. You can win weird and wonderful prizes plus a cash jackpot. Book your table at the event’s website listed below.
URL:https://www.qxmagazine.com/event/busy-lady-bingo-4-1/2025-06-15/
LOCATION:Retro Bar\, 2 George Court\, London\, WC2N 6HH\, United Kingdom
CATEGORIES:Bars,LGBTQ+ Bingo & Quiz
ATTACH;FMTTYPE=image/jpeg:https://www.qxmagazine.com/wp-content/uploads/2022/11/imageedit_85_6257473238-2.jpg
GEO:51.5089422;-0.1235578
X-APPLE-STRUCTURED-LOCATION;VALUE=URI;X-ADDRESS=Retro Bar 2 George Court London WC2N 6HH United Kingdom;X-APPLE-RADIUS=500;X-TITLE=2 George Court:geo:-0.1235578,51.5089422
END:VEVENT
BEGIN:VEVENT
DTSTART;TZID=UTC:20250608T190000
DTEND;TZID=UTC:20250608T210000
DTSTAMP:20260419T133947
CREATED:20240326T224051Z
LAST-MODIFIED:20250216T144216Z
UID:10094546-1749409200-1749416400@www.qxmagazine.com
SUMMARY:Busy Lady Bingo
DESCRIPTION:Busy Lady Bingo with Sheila Simmonds. You can win weird and wonderful prizes plus a cash jackpot. Book your table at the event’s website listed below.
URL:https://www.qxmagazine.com/event/busy-lady-bingo-4-1/2025-06-08/
LOCATION:Retro Bar\, 2 George Court\, London\, WC2N 6HH\, United Kingdom
CATEGORIES:Bars,LGBTQ+ Bingo & Quiz
ATTACH;FMTTYPE=image/jpeg:https://www.qxmagazine.com/wp-content/uploads/2022/11/imageedit_85_6257473238-2.jpg
GEO:51.5089422;-0.1235578
X-APPLE-STRUCTURED-LOCATION;VALUE=URI;X-ADDRESS=Retro Bar 2 George Court London WC2N 6HH United Kingdom;X-APPLE-RADIUS=500;X-TITLE=2 George Court:geo:-0.1235578,51.5089422
END:VEVENT
BEGIN:VEVENT
DTSTART;TZID=UTC:20250601T190000
DTEND;TZID=UTC:20250601T210000
DTSTAMP:20260419T133947
CREATED:20240326T224051Z
LAST-MODIFIED:20250216T144216Z
UID:10094545-1748804400-1748811600@www.qxmagazine.com
SUMMARY:Busy Lady Bingo
DESCRIPTION:Busy Lady Bingo with Sheila Simmonds. You can win weird and wonderful prizes plus a cash jackpot. Book your table at the event’s website listed below.
URL:https://www.qxmagazine.com/event/busy-lady-bingo-4-1/2025-06-01/
LOCATION:Retro Bar\, 2 George Court\, London\, WC2N 6HH\, United Kingdom
CATEGORIES:Bars,LGBTQ+ Bingo & Quiz
ATTACH;FMTTYPE=image/jpeg:https://www.qxmagazine.com/wp-content/uploads/2022/11/imageedit_85_6257473238-2.jpg
GEO:51.5089422;-0.1235578
X-APPLE-STRUCTURED-LOCATION;VALUE=URI;X-ADDRESS=Retro Bar 2 George Court London WC2N 6HH United Kingdom;X-APPLE-RADIUS=500;X-TITLE=2 George Court:geo:-0.1235578,51.5089422
END:VEVENT
BEGIN:VEVENT
DTSTART;TZID=UTC:20250525T190000
DTEND;TZID=UTC:20250525T210000
DTSTAMP:20260419T133947
CREATED:20240326T224051Z
LAST-MODIFIED:20250216T144216Z
UID:10094544-1748199600-1748206800@www.qxmagazine.com
SUMMARY:Busy Lady Bingo
DESCRIPTION:Busy Lady Bingo with Sheila Simmonds. You can win weird and wonderful prizes plus a cash jackpot. Book your table at the event’s website listed below.
URL:https://www.qxmagazine.com/event/busy-lady-bingo-4-1/2025-05-25/
LOCATION:Retro Bar\, 2 George Court\, London\, WC2N 6HH\, United Kingdom
CATEGORIES:Bars,LGBTQ+ Bingo & Quiz
ATTACH;FMTTYPE=image/jpeg:https://www.qxmagazine.com/wp-content/uploads/2022/11/imageedit_85_6257473238-2.jpg
GEO:51.5089422;-0.1235578
X-APPLE-STRUCTURED-LOCATION;VALUE=URI;X-ADDRESS=Retro Bar 2 George Court London WC2N 6HH United Kingdom;X-APPLE-RADIUS=500;X-TITLE=2 George Court:geo:-0.1235578,51.5089422
END:VEVENT
BEGIN:VEVENT
DTSTART;TZID=UTC:20250518T190000
DTEND;TZID=UTC:20250518T210000
DTSTAMP:20260419T133947
CREATED:20240326T224051Z
LAST-MODIFIED:20250216T144216Z
UID:10094543-1747594800-1747602000@www.qxmagazine.com
SUMMARY:Busy Lady Bingo
DESCRIPTION:Busy Lady Bingo with Sheila Simmonds. You can win weird and wonderful prizes plus a cash jackpot. Book your table at the event’s website listed below.
URL:https://www.qxmagazine.com/event/busy-lady-bingo-4-1/2025-05-18/
LOCATION:Retro Bar\, 2 George Court\, London\, WC2N 6HH\, United Kingdom
CATEGORIES:Bars,LGBTQ+ Bingo & Quiz
ATTACH;FMTTYPE=image/jpeg:https://www.qxmagazine.com/wp-content/uploads/2022/11/imageedit_85_6257473238-2.jpg
GEO:51.5089422;-0.1235578
X-APPLE-STRUCTURED-LOCATION;VALUE=URI;X-ADDRESS=Retro Bar 2 George Court London WC2N 6HH United Kingdom;X-APPLE-RADIUS=500;X-TITLE=2 George Court:geo:-0.1235578,51.5089422
END:VEVENT
BEGIN:VEVENT
DTSTART;TZID=UTC:20250511T190000
DTEND;TZID=UTC:20250511T210000
DTSTAMP:20260419T133947
CREATED:20240326T224051Z
LAST-MODIFIED:20250216T144216Z
UID:10094542-1746990000-1746997200@www.qxmagazine.com
SUMMARY:Busy Lady Bingo
DESCRIPTION:Busy Lady Bingo with Sheila Simmonds. You can win weird and wonderful prizes plus a cash jackpot. Book your table at the event’s website listed below.
URL:https://www.qxmagazine.com/event/busy-lady-bingo-4-1/2025-05-11/
LOCATION:Retro Bar\, 2 George Court\, London\, WC2N 6HH\, United Kingdom
CATEGORIES:Bars,LGBTQ+ Bingo & Quiz
ATTACH;FMTTYPE=image/jpeg:https://www.qxmagazine.com/wp-content/uploads/2022/11/imageedit_85_6257473238-2.jpg
GEO:51.5089422;-0.1235578
X-APPLE-STRUCTURED-LOCATION;VALUE=URI;X-ADDRESS=Retro Bar 2 George Court London WC2N 6HH United Kingdom;X-APPLE-RADIUS=500;X-TITLE=2 George Court:geo:-0.1235578,51.5089422
END:VEVENT
BEGIN:VEVENT
DTSTART;TZID=UTC:20250504T190000
DTEND;TZID=UTC:20250504T210000
DTSTAMP:20260419T133947
CREATED:20240326T224051Z
LAST-MODIFIED:20250216T144216Z
UID:10094541-1746385200-1746392400@www.qxmagazine.com
SUMMARY:Busy Lady Bingo
DESCRIPTION:Busy Lady Bingo with Sheila Simmonds. You can win weird and wonderful prizes plus a cash jackpot. Book your table at the event’s website listed below.
URL:https://www.qxmagazine.com/event/busy-lady-bingo-4-1/2025-05-04/
LOCATION:Retro Bar\, 2 George Court\, London\, WC2N 6HH\, United Kingdom
CATEGORIES:Bars,LGBTQ+ Bingo & Quiz
ATTACH;FMTTYPE=image/jpeg:https://www.qxmagazine.com/wp-content/uploads/2022/11/imageedit_85_6257473238-2.jpg
GEO:51.5089422;-0.1235578
X-APPLE-STRUCTURED-LOCATION;VALUE=URI;X-ADDRESS=Retro Bar 2 George Court London WC2N 6HH United Kingdom;X-APPLE-RADIUS=500;X-TITLE=2 George Court:geo:-0.1235578,51.5089422
END:VEVENT
BEGIN:VEVENT
DTSTART;TZID=UTC:20250427T190000
DTEND;TZID=UTC:20250427T210000
DTSTAMP:20260419T133947
CREATED:20240326T224051Z
LAST-MODIFIED:20250216T144216Z
UID:10094540-1745780400-1745787600@www.qxmagazine.com
SUMMARY:Busy Lady Bingo
DESCRIPTION:Busy Lady Bingo with Sheila Simmonds. You can win weird and wonderful prizes plus a cash jackpot. Book your table at the event’s website listed below.
URL:https://www.qxmagazine.com/event/busy-lady-bingo-4-1/2025-04-27/
LOCATION:Retro Bar\, 2 George Court\, London\, WC2N 6HH\, United Kingdom
CATEGORIES:Bars,LGBTQ+ Bingo & Quiz
ATTACH;FMTTYPE=image/jpeg:https://www.qxmagazine.com/wp-content/uploads/2022/11/imageedit_85_6257473238-2.jpg
GEO:51.5089422;-0.1235578
X-APPLE-STRUCTURED-LOCATION;VALUE=URI;X-ADDRESS=Retro Bar 2 George Court London WC2N 6HH United Kingdom;X-APPLE-RADIUS=500;X-TITLE=2 George Court:geo:-0.1235578,51.5089422
END:VEVENT
BEGIN:VEVENT
DTSTART;TZID=UTC:20250420T190000
DTEND;TZID=UTC:20250420T210000
DTSTAMP:20260419T133947
CREATED:20240326T224051Z
LAST-MODIFIED:20250216T144216Z
UID:10094539-1745175600-1745182800@www.qxmagazine.com
SUMMARY:Busy Lady Bingo
DESCRIPTION:Busy Lady Bingo with Sheila Simmonds. You can win weird and wonderful prizes plus a cash jackpot. Book your table at the event’s website listed below.
URL:https://www.qxmagazine.com/event/busy-lady-bingo-4-1/2025-04-20/
LOCATION:Retro Bar\, 2 George Court\, London\, WC2N 6HH\, United Kingdom
CATEGORIES:Bars,LGBTQ+ Bingo & Quiz
ATTACH;FMTTYPE=image/jpeg:https://www.qxmagazine.com/wp-content/uploads/2022/11/imageedit_85_6257473238-2.jpg
GEO:51.5089422;-0.1235578
X-APPLE-STRUCTURED-LOCATION;VALUE=URI;X-ADDRESS=Retro Bar 2 George Court London WC2N 6HH United Kingdom;X-APPLE-RADIUS=500;X-TITLE=2 George Court:geo:-0.1235578,51.5089422
END:VEVENT
BEGIN:VEVENT
DTSTART;TZID=UTC:20250413T190000
DTEND;TZID=UTC:20250413T210000
DTSTAMP:20260419T133947
CREATED:20240326T224051Z
LAST-MODIFIED:20250216T144216Z
UID:10094538-1744570800-1744578000@www.qxmagazine.com
SUMMARY:Busy Lady Bingo
DESCRIPTION:Busy Lady Bingo with Sheila Simmonds. You can win weird and wonderful prizes plus a cash jackpot. Book your table at the event’s website listed below.
URL:https://www.qxmagazine.com/event/busy-lady-bingo-4-1/2025-04-13/
LOCATION:Retro Bar\, 2 George Court\, London\, WC2N 6HH\, United Kingdom
CATEGORIES:Bars,LGBTQ+ Bingo & Quiz
ATTACH;FMTTYPE=image/jpeg:https://www.qxmagazine.com/wp-content/uploads/2022/11/imageedit_85_6257473238-2.jpg
GEO:51.5089422;-0.1235578
X-APPLE-STRUCTURED-LOCATION;VALUE=URI;X-ADDRESS=Retro Bar 2 George Court London WC2N 6HH United Kingdom;X-APPLE-RADIUS=500;X-TITLE=2 George Court:geo:-0.1235578,51.5089422
END:VEVENT
BEGIN:VEVENT
DTSTART;TZID=UTC:20250406T190000
DTEND;TZID=UTC:20250406T210000
DTSTAMP:20260419T133947
CREATED:20240326T224051Z
LAST-MODIFIED:20250216T144216Z
UID:10094537-1743966000-1743973200@www.qxmagazine.com
SUMMARY:Busy Lady Bingo
DESCRIPTION:Busy Lady Bingo with Sheila Simmonds. You can win weird and wonderful prizes plus a cash jackpot. Book your table at the event’s website listed below.
URL:https://www.qxmagazine.com/event/busy-lady-bingo-4-1/2025-04-06/
LOCATION:Retro Bar\, 2 George Court\, London\, WC2N 6HH\, United Kingdom
CATEGORIES:Bars,LGBTQ+ Bingo & Quiz
ATTACH;FMTTYPE=image/jpeg:https://www.qxmagazine.com/wp-content/uploads/2022/11/imageedit_85_6257473238-2.jpg
GEO:51.5089422;-0.1235578
X-APPLE-STRUCTURED-LOCATION;VALUE=URI;X-ADDRESS=Retro Bar 2 George Court London WC2N 6HH United Kingdom;X-APPLE-RADIUS=500;X-TITLE=2 George Court:geo:-0.1235578,51.5089422
END:VEVENT
BEGIN:VEVENT
DTSTART;TZID=UTC:20250330T190000
DTEND;TZID=UTC:20250330T210000
DTSTAMP:20260419T133947
CREATED:20240326T224051Z
LAST-MODIFIED:20250216T144216Z
UID:10094536-1743361200-1743368400@www.qxmagazine.com
SUMMARY:Busy Lady Bingo
DESCRIPTION:Busy Lady Bingo with Sheila Simmonds. You can win weird and wonderful prizes plus a cash jackpot. Book your table at the event’s website listed below.
URL:https://www.qxmagazine.com/event/busy-lady-bingo-4-1/2025-03-30/
LOCATION:Retro Bar\, 2 George Court\, London\, WC2N 6HH\, United Kingdom
CATEGORIES:Bars,LGBTQ+ Bingo & Quiz
ATTACH;FMTTYPE=image/jpeg:https://www.qxmagazine.com/wp-content/uploads/2022/11/imageedit_85_6257473238-2.jpg
GEO:51.5089422;-0.1235578
X-APPLE-STRUCTURED-LOCATION;VALUE=URI;X-ADDRESS=Retro Bar 2 George Court London WC2N 6HH United Kingdom;X-APPLE-RADIUS=500;X-TITLE=2 George Court:geo:-0.1235578,51.5089422
END:VEVENT
BEGIN:VEVENT
DTSTART;TZID=UTC:20250323T190000
DTEND;TZID=UTC:20250323T210000
DTSTAMP:20260419T133947
CREATED:20240326T224051Z
LAST-MODIFIED:20250216T144216Z
UID:10094535-1742756400-1742763600@www.qxmagazine.com
SUMMARY:Busy Lady Bingo
DESCRIPTION:Busy Lady Bingo with Sheila Simmonds. You can win weird and wonderful prizes plus a cash jackpot. Book your table at the event’s website listed below.
URL:https://www.qxmagazine.com/event/busy-lady-bingo-4-1/2025-03-23/
LOCATION:Retro Bar\, 2 George Court\, London\, WC2N 6HH\, United Kingdom
CATEGORIES:Bars,LGBTQ+ Bingo & Quiz
ATTACH;FMTTYPE=image/jpeg:https://www.qxmagazine.com/wp-content/uploads/2022/11/imageedit_85_6257473238-2.jpg
GEO:51.5089422;-0.1235578
X-APPLE-STRUCTURED-LOCATION;VALUE=URI;X-ADDRESS=Retro Bar 2 George Court London WC2N 6HH United Kingdom;X-APPLE-RADIUS=500;X-TITLE=2 George Court:geo:-0.1235578,51.5089422
END:VEVENT
BEGIN:VEVENT
DTSTART;TZID=UTC:20250316T190000
DTEND;TZID=UTC:20250316T210000
DTSTAMP:20260419T133947
CREATED:20240326T224051Z
LAST-MODIFIED:20250216T144216Z
UID:10094534-1742151600-1742158800@www.qxmagazine.com
SUMMARY:Busy Lady Bingo
DESCRIPTION:Busy Lady Bingo with Sheila Simmonds. You can win weird and wonderful prizes plus a cash jackpot. Book your table at the event’s website listed below.
URL:https://www.qxmagazine.com/event/busy-lady-bingo-4-1/2025-03-16/
LOCATION:Retro Bar\, 2 George Court\, London\, WC2N 6HH\, United Kingdom
CATEGORIES:Bars,LGBTQ+ Bingo & Quiz
ATTACH;FMTTYPE=image/jpeg:https://www.qxmagazine.com/wp-content/uploads/2022/11/imageedit_85_6257473238-2.jpg
GEO:51.5089422;-0.1235578
X-APPLE-STRUCTURED-LOCATION;VALUE=URI;X-ADDRESS=Retro Bar 2 George Court London WC2N 6HH United Kingdom;X-APPLE-RADIUS=500;X-TITLE=2 George Court:geo:-0.1235578,51.5089422
END:VEVENT
BEGIN:VEVENT
DTSTART;TZID=UTC:20250309T190000
DTEND;TZID=UTC:20250309T210000
DTSTAMP:20260419T133947
CREATED:20240326T224051Z
LAST-MODIFIED:20250216T144216Z
UID:10094533-1741546800-1741554000@www.qxmagazine.com
SUMMARY:Busy Lady Bingo
DESCRIPTION:Busy Lady Bingo with Sheila Simmonds. You can win weird and wonderful prizes plus a cash jackpot. Book your table at the event’s website listed below.
URL:https://www.qxmagazine.com/event/busy-lady-bingo-4-1/2025-03-09/
LOCATION:Retro Bar\, 2 George Court\, London\, WC2N 6HH\, United Kingdom
CATEGORIES:Bars,LGBTQ+ Bingo & Quiz
ATTACH;FMTTYPE=image/jpeg:https://www.qxmagazine.com/wp-content/uploads/2022/11/imageedit_85_6257473238-2.jpg
GEO:51.5089422;-0.1235578
X-APPLE-STRUCTURED-LOCATION;VALUE=URI;X-ADDRESS=Retro Bar 2 George Court London WC2N 6HH United Kingdom;X-APPLE-RADIUS=500;X-TITLE=2 George Court:geo:-0.1235578,51.5089422
END:VEVENT
BEGIN:VEVENT
DTSTART;TZID=UTC:20250302T190000
DTEND;TZID=UTC:20250302T210000
DTSTAMP:20260419T133947
CREATED:20240326T224051Z
LAST-MODIFIED:20250216T144216Z
UID:10094532-1740942000-1740949200@www.qxmagazine.com
SUMMARY:Busy Lady Bingo
DESCRIPTION:Busy Lady Bingo with Sheila Simmonds. You can win weird and wonderful prizes plus a cash jackpot. Book your table at the event’s website listed below.
URL:https://www.qxmagazine.com/event/busy-lady-bingo-4-1/2025-03-02/
LOCATION:Retro Bar\, 2 George Court\, London\, WC2N 6HH\, United Kingdom
CATEGORIES:Bars,LGBTQ+ Bingo & Quiz
ATTACH;FMTTYPE=image/jpeg:https://www.qxmagazine.com/wp-content/uploads/2022/11/imageedit_85_6257473238-2.jpg
GEO:51.5089422;-0.1235578
X-APPLE-STRUCTURED-LOCATION;VALUE=URI;X-ADDRESS=Retro Bar 2 George Court London WC2N 6HH United Kingdom;X-APPLE-RADIUS=500;X-TITLE=2 George Court:geo:-0.1235578,51.5089422
END:VEVENT
BEGIN:VEVENT
DTSTART;TZID=UTC:20250223T190000
DTEND;TZID=UTC:20250223T210000
DTSTAMP:20260419T133947
CREATED:20240326T224051Z
LAST-MODIFIED:20250216T144216Z
UID:10094531-1740337200-1740344400@www.qxmagazine.com
SUMMARY:Busy Lady Bingo
DESCRIPTION:Busy Lady Bingo with Sheila Simmonds. You can win weird and wonderful prizes plus a cash jackpot. Book your table at the event’s website listed below.
URL:https://www.qxmagazine.com/event/busy-lady-bingo-4-1/2025-02-23/
LOCATION:Retro Bar\, 2 George Court\, London\, WC2N 6HH\, United Kingdom
CATEGORIES:Bars,LGBTQ+ Bingo & Quiz
ATTACH;FMTTYPE=image/jpeg:https://www.qxmagazine.com/wp-content/uploads/2022/11/imageedit_85_6257473238-2.jpg
GEO:51.5089422;-0.1235578
X-APPLE-STRUCTURED-LOCATION;VALUE=URI;X-ADDRESS=Retro Bar 2 George Court London WC2N 6HH United Kingdom;X-APPLE-RADIUS=500;X-TITLE=2 George Court:geo:-0.1235578,51.5089422
END:VEVENT
BEGIN:VEVENT
DTSTART;TZID=UTC:20250216T190000
DTEND;TZID=UTC:20250216T210000
DTSTAMP:20260419T133947
CREATED:20240326T224051Z
LAST-MODIFIED:20250216T144216Z
UID:10062422-1739732400-1739739600@www.qxmagazine.com
SUMMARY:Busy Lady Bingo
DESCRIPTION:Busy Lady Bingo with Sheila Simmonds. You can win weird and wonderful prizes plus a cash jackpot. Book your table at the event’s website listed below.
URL:https://www.qxmagazine.com/event/busy-lady-bingo-4-1/2025-02-16/
LOCATION:Retro Bar\, 2 George Court\, London\, WC2N 6HH\, United Kingdom
CATEGORIES:Bars,LGBTQ+ Bingo & Quiz
ATTACH;FMTTYPE=image/jpeg:https://www.qxmagazine.com/wp-content/uploads/2022/11/imageedit_85_6257473238-2.jpg
GEO:51.5089422;-0.1235578
X-APPLE-STRUCTURED-LOCATION;VALUE=URI;X-ADDRESS=Retro Bar 2 George Court London WC2N 6HH United Kingdom;X-APPLE-RADIUS=500;X-TITLE=2 George Court:geo:-0.1235578,51.5089422
END:VEVENT
BEGIN:VEVENT
DTSTART;TZID=UTC:20241231T210000
DTEND;TZID=UTC:20250101T020000
DTSTAMP:20260419T133947
CREATED:20241121T182853Z
LAST-MODIFIED:20241121T182853Z
UID:10081789-1735678800-1735696800@www.qxmagazine.com
SUMMARY:New Years Eve Party at Retro Bar
DESCRIPTION:DJs and countdown.
URL:https://www.qxmagazine.com/event/new-years-eve-party-at-retro-bar/
LOCATION:Retro Bar\, 2 George Court\, London\, WC2N 6HH\, United Kingdom
CATEGORIES:After Midnight Late Opening,Bars,LGBTQ+ New Year's Eve Party
ATTACH;FMTTYPE=image/jpeg:https://www.qxmagazine.com/wp-content/uploads/2024/11/imageedit_121_6731897283-4.jpg
GEO:51.5089422;-0.1235578
X-APPLE-STRUCTURED-LOCATION;VALUE=URI;X-ADDRESS=Retro Bar 2 George Court London WC2N 6HH United Kingdom;X-APPLE-RADIUS=500;X-TITLE=2 George Court:geo:-0.1235578,51.5089422
END:VEVENT
BEGIN:VEVENT
DTSTART;TZID=UTC:20241222T190000
DTEND;TZID=UTC:20241222T210000
DTSTAMP:20260419T133947
CREATED:20221127T220935Z
LAST-MODIFIED:20240317T121508Z
UID:10062455-1734894000-1734901200@www.qxmagazine.com
SUMMARY:Busy Lady Bingo
DESCRIPTION:Busy Lady Bingo with Sheila Simmonds. You can win weird and wonderful prizes plus a cash jackpot. Book your table at the event’s website listed below.
URL:https://www.qxmagazine.com/event/busy-lady-bingo/2024-12-22/
LOCATION:Retro Bar\, 2 George Court\, London\, WC2N 6HH\, United Kingdom
CATEGORIES:Bars,LGBTQ+ Bingo & Quiz
ATTACH;FMTTYPE=image/jpeg:https://www.qxmagazine.com/wp-content/uploads/2022/11/imageedit_85_6257473238-2.jpg
GEO:51.5089422;-0.1235578
X-APPLE-STRUCTURED-LOCATION;VALUE=URI;X-ADDRESS=Retro Bar 2 George Court London WC2N 6HH United Kingdom;X-APPLE-RADIUS=500;X-TITLE=2 George Court:geo:-0.1235578,51.5089422
END:VEVENT
BEGIN:VEVENT
DTSTART;TZID=UTC:20241215T190000
DTEND;TZID=UTC:20241215T210000
DTSTAMP:20260419T133947
CREATED:20221127T220935Z
LAST-MODIFIED:20240317T121508Z
UID:10062454-1734289200-1734296400@www.qxmagazine.com
SUMMARY:Busy Lady Bingo
DESCRIPTION:Busy Lady Bingo with Sheila Simmonds. You can win weird and wonderful prizes plus a cash jackpot. Book your table at the event’s website listed below.
URL:https://www.qxmagazine.com/event/busy-lady-bingo/2024-12-15/
LOCATION:Retro Bar\, 2 George Court\, London\, WC2N 6HH\, United Kingdom
CATEGORIES:Bars,LGBTQ+ Bingo & Quiz
ATTACH;FMTTYPE=image/jpeg:https://www.qxmagazine.com/wp-content/uploads/2022/11/imageedit_85_6257473238-2.jpg
GEO:51.5089422;-0.1235578
X-APPLE-STRUCTURED-LOCATION;VALUE=URI;X-ADDRESS=Retro Bar 2 George Court London WC2N 6HH United Kingdom;X-APPLE-RADIUS=500;X-TITLE=2 George Court:geo:-0.1235578,51.5089422
END:VEVENT
BEGIN:VEVENT
DTSTART;TZID=UTC:20241211T200000
DTEND;TZID=UTC:20241211T220000
DTSTAMP:20260419T133947
CREATED:20241102T121757Z
LAST-MODIFIED:20241102T122440Z
UID:10079611-1733947200-1733954400@www.qxmagazine.com
SUMMARY:Sing with Nicky
DESCRIPTION:Sing along with Nicky on the upright piano.
URL:https://www.qxmagazine.com/event/sing-with-nicky-2-2/2024-12-11/
LOCATION:Retro Bar\, 2 George Court\, London\, WC2N 6HH\, United Kingdom
CATEGORIES:Bars,Featured Event,LGBTQ+ Live Music
ATTACH;FMTTYPE=image/jpeg:https://www.qxmagazine.com/wp-content/uploads/2024/11/imageedit_23_4283451084.jpg
GEO:51.5089422;-0.1235578
X-APPLE-STRUCTURED-LOCATION;VALUE=URI;X-ADDRESS=Retro Bar 2 George Court London WC2N 6HH United Kingdom;X-APPLE-RADIUS=500;X-TITLE=2 George Court:geo:-0.1235578,51.5089422
END:VEVENT
BEGIN:VEVENT
DTSTART;TZID=UTC:20241208T190000
DTEND;TZID=UTC:20241208T210000
DTSTAMP:20260419T133947
CREATED:20221127T220935Z
LAST-MODIFIED:20240317T121508Z
UID:10062453-1733684400-1733691600@www.qxmagazine.com
SUMMARY:Busy Lady Bingo
DESCRIPTION:Busy Lady Bingo with Sheila Simmonds. You can win weird and wonderful prizes plus a cash jackpot. Book your table at the event’s website listed below.
URL:https://www.qxmagazine.com/event/busy-lady-bingo/2024-12-08/
LOCATION:Retro Bar\, 2 George Court\, London\, WC2N 6HH\, United Kingdom
CATEGORIES:Bars,LGBTQ+ Bingo & Quiz
ATTACH;FMTTYPE=image/jpeg:https://www.qxmagazine.com/wp-content/uploads/2022/11/imageedit_85_6257473238-2.jpg
GEO:51.5089422;-0.1235578
X-APPLE-STRUCTURED-LOCATION;VALUE=URI;X-ADDRESS=Retro Bar 2 George Court London WC2N 6HH United Kingdom;X-APPLE-RADIUS=500;X-TITLE=2 George Court:geo:-0.1235578,51.5089422
END:VEVENT
BEGIN:VEVENT
DTSTART;TZID=UTC:20241204T200000
DTEND;TZID=UTC:20241204T220000
DTSTAMP:20260419T133947
CREATED:20241102T121757Z
LAST-MODIFIED:20241102T122440Z
UID:10079610-1733342400-1733349600@www.qxmagazine.com
SUMMARY:Sing with Nicky
DESCRIPTION:Sing along with Nicky on the upright piano.
URL:https://www.qxmagazine.com/event/sing-with-nicky-2-2/2024-12-04/
LOCATION:Retro Bar\, 2 George Court\, London\, WC2N 6HH\, United Kingdom
CATEGORIES:Bars,Featured Event,LGBTQ+ Live Music
ATTACH;FMTTYPE=image/jpeg:https://www.qxmagazine.com/wp-content/uploads/2024/11/imageedit_23_4283451084.jpg
GEO:51.5089422;-0.1235578
X-APPLE-STRUCTURED-LOCATION;VALUE=URI;X-ADDRESS=Retro Bar 2 George Court London WC2N 6HH United Kingdom;X-APPLE-RADIUS=500;X-TITLE=2 George Court:geo:-0.1235578,51.5089422
END:VEVENT
BEGIN:VEVENT
DTSTART;TZID=UTC:20241201T190000
DTEND;TZID=UTC:20241201T210000
DTSTAMP:20260419T133947
CREATED:20221127T220935Z
LAST-MODIFIED:20240317T121508Z
UID:10062452-1733079600-1733086800@www.qxmagazine.com
SUMMARY:Busy Lady Bingo
DESCRIPTION:Busy Lady Bingo with Sheila Simmonds. You can win weird and wonderful prizes plus a cash jackpot. Book your table at the event’s website listed below.
URL:https://www.qxmagazine.com/event/busy-lady-bingo/2024-12-01/
LOCATION:Retro Bar\, 2 George Court\, London\, WC2N 6HH\, United Kingdom
CATEGORIES:Bars,LGBTQ+ Bingo & Quiz
ATTACH;FMTTYPE=image/jpeg:https://www.qxmagazine.com/wp-content/uploads/2022/11/imageedit_85_6257473238-2.jpg
GEO:51.5089422;-0.1235578
X-APPLE-STRUCTURED-LOCATION;VALUE=URI;X-ADDRESS=Retro Bar 2 George Court London WC2N 6HH United Kingdom;X-APPLE-RADIUS=500;X-TITLE=2 George Court:geo:-0.1235578,51.5089422
END:VEVENT
BEGIN:VEVENT
DTSTART;TZID=UTC:20241127T200000
DTEND;TZID=UTC:20241127T220000
DTSTAMP:20260419T133947
CREATED:20241102T121757Z
LAST-MODIFIED:20241102T122440Z
UID:10079609-1732737600-1732744800@www.qxmagazine.com
SUMMARY:Sing with Nicky
DESCRIPTION:Sing along with Nicky on the upright piano.
URL:https://www.qxmagazine.com/event/sing-with-nicky-2-2/2024-11-27/
LOCATION:Retro Bar\, 2 George Court\, London\, WC2N 6HH\, United Kingdom
CATEGORIES:Bars,Featured Event,LGBTQ+ Live Music
ATTACH;FMTTYPE=image/jpeg:https://www.qxmagazine.com/wp-content/uploads/2024/11/imageedit_23_4283451084.jpg
GEO:51.5089422;-0.1235578
X-APPLE-STRUCTURED-LOCATION;VALUE=URI;X-ADDRESS=Retro Bar 2 George Court London WC2N 6HH United Kingdom;X-APPLE-RADIUS=500;X-TITLE=2 George Court:geo:-0.1235578,51.5089422
END:VEVENT
BEGIN:VEVENT
DTSTART;TZID=UTC:20241124T190000
DTEND;TZID=UTC:20241124T210000
DTSTAMP:20260419T133947
CREATED:20221127T220935Z
LAST-MODIFIED:20240317T121508Z
UID:10062451-1732474800-1732482000@www.qxmagazine.com
SUMMARY:Busy Lady Bingo
DESCRIPTION:Busy Lady Bingo with Sheila Simmonds. You can win weird and wonderful prizes plus a cash jackpot. Book your table at the event’s website listed below.
URL:https://www.qxmagazine.com/event/busy-lady-bingo/2024-11-24/
LOCATION:Retro Bar\, 2 George Court\, London\, WC2N 6HH\, United Kingdom
CATEGORIES:Bars,LGBTQ+ Bingo & Quiz
ATTACH;FMTTYPE=image/jpeg:https://www.qxmagazine.com/wp-content/uploads/2022/11/imageedit_85_6257473238-2.jpg
GEO:51.5089422;-0.1235578
X-APPLE-STRUCTURED-LOCATION;VALUE=URI;X-ADDRESS=Retro Bar 2 George Court London WC2N 6HH United Kingdom;X-APPLE-RADIUS=500;X-TITLE=2 George Court:geo:-0.1235578,51.5089422
END:VEVENT
END:VCALENDAR