BEGIN:VCALENDAR
VERSION:2.0
PRODID:-//QX Magazine - ECPv6.15.20//NONSGML v1.0//EN
CALSCALE:GREGORIAN
METHOD:PUBLISH
X-WR-CALNAME:QX Magazine
X-ORIGINAL-URL:https://www.qxmagazine.com
X-WR-CALDESC:Events for QX Magazine
REFRESH-INTERVAL;VALUE=DURATION:PT1H
X-Robots-Tag:noindex
X-PUBLISHED-TTL:PT1H
BEGIN:VTIMEZONE
TZID:UTC
BEGIN:STANDARD
TZOFFSETFROM:+0000
TZOFFSETTO:+0000
TZNAME:UTC
DTSTART:20230101T000000
END:STANDARD
END:VTIMEZONE
BEGIN:VEVENT
DTSTART;TZID=UTC:20241120T200000
DTEND;TZID=UTC:20241120T220000
DTSTAMP:20260419T151516
CREATED:20241102T121757Z
LAST-MODIFIED:20241102T122440Z
UID:10079608-1732132800-1732140000@www.qxmagazine.com
SUMMARY:Sing with Nicky
DESCRIPTION:Sing along with Nicky on the upright piano.
URL:https://www.qxmagazine.com/event/sing-with-nicky-2-2/2024-11-20/
LOCATION:Retro Bar\, 2 George Court\, London\, WC2N 6HH\, United Kingdom
CATEGORIES:Bars,Featured Event,LGBTQ+ Live Music
ATTACH;FMTTYPE=image/jpeg:https://www.qxmagazine.com/wp-content/uploads/2024/11/imageedit_23_4283451084.jpg
GEO:51.5089422;-0.1235578
X-APPLE-STRUCTURED-LOCATION;VALUE=URI;X-ADDRESS=Retro Bar 2 George Court London WC2N 6HH United Kingdom;X-APPLE-RADIUS=500;X-TITLE=2 George Court:geo:-0.1235578,51.5089422
END:VEVENT
BEGIN:VEVENT
DTSTART;TZID=UTC:20241117T190000
DTEND;TZID=UTC:20241117T210000
DTSTAMP:20260419T151516
CREATED:20221127T220935Z
LAST-MODIFIED:20240317T121508Z
UID:10062450-1731870000-1731877200@www.qxmagazine.com
SUMMARY:Busy Lady Bingo
DESCRIPTION:Busy Lady Bingo with Sheila Simmonds. You can win weird and wonderful prizes plus a cash jackpot. Book your table at the event’s website listed below.
URL:https://www.qxmagazine.com/event/busy-lady-bingo/2024-11-17/
LOCATION:Retro Bar\, 2 George Court\, London\, WC2N 6HH\, United Kingdom
CATEGORIES:Bars,LGBTQ+ Bingo & Quiz
ATTACH;FMTTYPE=image/jpeg:https://www.qxmagazine.com/wp-content/uploads/2022/11/imageedit_85_6257473238-2.jpg
GEO:51.5089422;-0.1235578
X-APPLE-STRUCTURED-LOCATION;VALUE=URI;X-ADDRESS=Retro Bar 2 George Court London WC2N 6HH United Kingdom;X-APPLE-RADIUS=500;X-TITLE=2 George Court:geo:-0.1235578,51.5089422
END:VEVENT
BEGIN:VEVENT
DTSTART;TZID=UTC:20241113T200000
DTEND;TZID=UTC:20241113T220000
DTSTAMP:20260419T151516
CREATED:20241102T121757Z
LAST-MODIFIED:20241102T122440Z
UID:10079607-1731528000-1731535200@www.qxmagazine.com
SUMMARY:Sing with Nicky
DESCRIPTION:Sing along with Nicky on the upright piano.
URL:https://www.qxmagazine.com/event/sing-with-nicky-2-2/2024-11-13/
LOCATION:Retro Bar\, 2 George Court\, London\, WC2N 6HH\, United Kingdom
CATEGORIES:Bars,Featured Event,LGBTQ+ Live Music
ATTACH;FMTTYPE=image/jpeg:https://www.qxmagazine.com/wp-content/uploads/2024/11/imageedit_23_4283451084.jpg
GEO:51.5089422;-0.1235578
X-APPLE-STRUCTURED-LOCATION;VALUE=URI;X-ADDRESS=Retro Bar 2 George Court London WC2N 6HH United Kingdom;X-APPLE-RADIUS=500;X-TITLE=2 George Court:geo:-0.1235578,51.5089422
END:VEVENT
BEGIN:VEVENT
DTSTART;TZID=UTC:20241110T190000
DTEND;TZID=UTC:20241110T210000
DTSTAMP:20260419T151516
CREATED:20221127T220935Z
LAST-MODIFIED:20240317T121508Z
UID:10062449-1731265200-1731272400@www.qxmagazine.com
SUMMARY:Busy Lady Bingo
DESCRIPTION:Busy Lady Bingo with Sheila Simmonds. You can win weird and wonderful prizes plus a cash jackpot. Book your table at the event’s website listed below.
URL:https://www.qxmagazine.com/event/busy-lady-bingo/2024-11-10/
LOCATION:Retro Bar\, 2 George Court\, London\, WC2N 6HH\, United Kingdom
CATEGORIES:Bars,LGBTQ+ Bingo & Quiz
ATTACH;FMTTYPE=image/jpeg:https://www.qxmagazine.com/wp-content/uploads/2022/11/imageedit_85_6257473238-2.jpg
GEO:51.5089422;-0.1235578
X-APPLE-STRUCTURED-LOCATION;VALUE=URI;X-ADDRESS=Retro Bar 2 George Court London WC2N 6HH United Kingdom;X-APPLE-RADIUS=500;X-TITLE=2 George Court:geo:-0.1235578,51.5089422
END:VEVENT
BEGIN:VEVENT
DTSTART;TZID=UTC:20241106T200000
DTEND;TZID=UTC:20241106T220000
DTSTAMP:20260419T151516
CREATED:20241102T121757Z
LAST-MODIFIED:20241102T122440Z
UID:10079606-1730923200-1730930400@www.qxmagazine.com
SUMMARY:Sing with Nicky
DESCRIPTION:Sing along with Nicky on the upright piano.
URL:https://www.qxmagazine.com/event/sing-with-nicky-2-2/2024-11-06/
LOCATION:Retro Bar\, 2 George Court\, London\, WC2N 6HH\, United Kingdom
CATEGORIES:Bars,Featured Event,LGBTQ+ Live Music
ATTACH;FMTTYPE=image/jpeg:https://www.qxmagazine.com/wp-content/uploads/2024/11/imageedit_23_4283451084.jpg
GEO:51.5089422;-0.1235578
X-APPLE-STRUCTURED-LOCATION;VALUE=URI;X-ADDRESS=Retro Bar 2 George Court London WC2N 6HH United Kingdom;X-APPLE-RADIUS=500;X-TITLE=2 George Court:geo:-0.1235578,51.5089422
END:VEVENT
BEGIN:VEVENT
DTSTART;TZID=UTC:20241103T190000
DTEND;TZID=UTC:20241103T210000
DTSTAMP:20260419T151516
CREATED:20221127T220935Z
LAST-MODIFIED:20240317T121508Z
UID:10062448-1730660400-1730667600@www.qxmagazine.com
SUMMARY:Busy Lady Bingo
DESCRIPTION:Busy Lady Bingo with Sheila Simmonds. You can win weird and wonderful prizes plus a cash jackpot. Book your table at the event’s website listed below.
URL:https://www.qxmagazine.com/event/busy-lady-bingo/2024-11-03/
LOCATION:Retro Bar\, 2 George Court\, London\, WC2N 6HH\, United Kingdom
CATEGORIES:Bars,LGBTQ+ Bingo & Quiz
ATTACH;FMTTYPE=image/jpeg:https://www.qxmagazine.com/wp-content/uploads/2022/11/imageedit_85_6257473238-2.jpg
GEO:51.5089422;-0.1235578
X-APPLE-STRUCTURED-LOCATION;VALUE=URI;X-ADDRESS=Retro Bar 2 George Court London WC2N 6HH United Kingdom;X-APPLE-RADIUS=500;X-TITLE=2 George Court:geo:-0.1235578,51.5089422
END:VEVENT
BEGIN:VEVENT
DTSTART;TZID=UTC:20241027T190000
DTEND;TZID=UTC:20241027T210000
DTSTAMP:20260419T151516
CREATED:20221127T220935Z
LAST-MODIFIED:20240317T121508Z
UID:10062447-1730055600-1730062800@www.qxmagazine.com
SUMMARY:Busy Lady Bingo
DESCRIPTION:Busy Lady Bingo with Sheila Simmonds. You can win weird and wonderful prizes plus a cash jackpot. Book your table at the event’s website listed below.
URL:https://www.qxmagazine.com/event/busy-lady-bingo/2024-10-27/
LOCATION:Retro Bar\, 2 George Court\, London\, WC2N 6HH\, United Kingdom
CATEGORIES:Bars,LGBTQ+ Bingo & Quiz
ATTACH;FMTTYPE=image/jpeg:https://www.qxmagazine.com/wp-content/uploads/2022/11/imageedit_85_6257473238-2.jpg
GEO:51.5089422;-0.1235578
X-APPLE-STRUCTURED-LOCATION;VALUE=URI;X-ADDRESS=Retro Bar 2 George Court London WC2N 6HH United Kingdom;X-APPLE-RADIUS=500;X-TITLE=2 George Court:geo:-0.1235578,51.5089422
END:VEVENT
BEGIN:VEVENT
DTSTART;TZID=UTC:20241020T190000
DTEND;TZID=UTC:20241020T210000
DTSTAMP:20260419T151516
CREATED:20221127T220935Z
LAST-MODIFIED:20240317T121508Z
UID:10062446-1729450800-1729458000@www.qxmagazine.com
SUMMARY:Busy Lady Bingo
DESCRIPTION:Busy Lady Bingo with Sheila Simmonds. You can win weird and wonderful prizes plus a cash jackpot. Book your table at the event’s website listed below.
URL:https://www.qxmagazine.com/event/busy-lady-bingo/2024-10-20/
LOCATION:Retro Bar\, 2 George Court\, London\, WC2N 6HH\, United Kingdom
CATEGORIES:Bars,LGBTQ+ Bingo & Quiz
ATTACH;FMTTYPE=image/jpeg:https://www.qxmagazine.com/wp-content/uploads/2022/11/imageedit_85_6257473238-2.jpg
GEO:51.5089422;-0.1235578
X-APPLE-STRUCTURED-LOCATION;VALUE=URI;X-ADDRESS=Retro Bar 2 George Court London WC2N 6HH United Kingdom;X-APPLE-RADIUS=500;X-TITLE=2 George Court:geo:-0.1235578,51.5089422
END:VEVENT
BEGIN:VEVENT
DTSTART;TZID=UTC:20241013T190000
DTEND;TZID=UTC:20241013T210000
DTSTAMP:20260419T151516
CREATED:20221127T220935Z
LAST-MODIFIED:20240317T121508Z
UID:10062445-1728846000-1728853200@www.qxmagazine.com
SUMMARY:Busy Lady Bingo
DESCRIPTION:Busy Lady Bingo with Sheila Simmonds. You can win weird and wonderful prizes plus a cash jackpot. Book your table at the event’s website listed below.
URL:https://www.qxmagazine.com/event/busy-lady-bingo/2024-10-13/
LOCATION:Retro Bar\, 2 George Court\, London\, WC2N 6HH\, United Kingdom
CATEGORIES:Bars,LGBTQ+ Bingo & Quiz
ATTACH;FMTTYPE=image/jpeg:https://www.qxmagazine.com/wp-content/uploads/2022/11/imageedit_85_6257473238-2.jpg
GEO:51.5089422;-0.1235578
X-APPLE-STRUCTURED-LOCATION;VALUE=URI;X-ADDRESS=Retro Bar 2 George Court London WC2N 6HH United Kingdom;X-APPLE-RADIUS=500;X-TITLE=2 George Court:geo:-0.1235578,51.5089422
END:VEVENT
BEGIN:VEVENT
DTSTART;TZID=UTC:20241006T190000
DTEND;TZID=UTC:20241006T210000
DTSTAMP:20260419T151516
CREATED:20221127T220935Z
LAST-MODIFIED:20240317T121508Z
UID:10062444-1728241200-1728248400@www.qxmagazine.com
SUMMARY:Busy Lady Bingo
DESCRIPTION:Busy Lady Bingo with Sheila Simmonds. You can win weird and wonderful prizes plus a cash jackpot. Book your table at the event’s website listed below.
URL:https://www.qxmagazine.com/event/busy-lady-bingo/2024-10-06/
LOCATION:Retro Bar\, 2 George Court\, London\, WC2N 6HH\, United Kingdom
CATEGORIES:Bars,LGBTQ+ Bingo & Quiz
ATTACH;FMTTYPE=image/jpeg:https://www.qxmagazine.com/wp-content/uploads/2022/11/imageedit_85_6257473238-2.jpg
GEO:51.5089422;-0.1235578
X-APPLE-STRUCTURED-LOCATION;VALUE=URI;X-ADDRESS=Retro Bar 2 George Court London WC2N 6HH United Kingdom;X-APPLE-RADIUS=500;X-TITLE=2 George Court:geo:-0.1235578,51.5089422
END:VEVENT
BEGIN:VEVENT
DTSTART;TZID=UTC:20240929T190000
DTEND;TZID=UTC:20240929T210000
DTSTAMP:20260419T151516
CREATED:20221127T220935Z
LAST-MODIFIED:20240317T121508Z
UID:10062443-1727636400-1727643600@www.qxmagazine.com
SUMMARY:Busy Lady Bingo
DESCRIPTION:Busy Lady Bingo with Sheila Simmonds. You can win weird and wonderful prizes plus a cash jackpot. Book your table at the event’s website listed below.
URL:https://www.qxmagazine.com/event/busy-lady-bingo/2024-09-29/
LOCATION:Retro Bar\, 2 George Court\, London\, WC2N 6HH\, United Kingdom
CATEGORIES:Bars,LGBTQ+ Bingo & Quiz
ATTACH;FMTTYPE=image/jpeg:https://www.qxmagazine.com/wp-content/uploads/2022/11/imageedit_85_6257473238-2.jpg
GEO:51.5089422;-0.1235578
X-APPLE-STRUCTURED-LOCATION;VALUE=URI;X-ADDRESS=Retro Bar 2 George Court London WC2N 6HH United Kingdom;X-APPLE-RADIUS=500;X-TITLE=2 George Court:geo:-0.1235578,51.5089422
END:VEVENT
BEGIN:VEVENT
DTSTART;TZID=UTC:20240922T190000
DTEND;TZID=UTC:20240922T210000
DTSTAMP:20260419T151516
CREATED:20221127T220935Z
LAST-MODIFIED:20240317T121508Z
UID:10062442-1727031600-1727038800@www.qxmagazine.com
SUMMARY:Busy Lady Bingo
DESCRIPTION:Busy Lady Bingo with Sheila Simmonds. You can win weird and wonderful prizes plus a cash jackpot. Book your table at the event’s website listed below.
URL:https://www.qxmagazine.com/event/busy-lady-bingo/2024-09-22/
LOCATION:Retro Bar\, 2 George Court\, London\, WC2N 6HH\, United Kingdom
CATEGORIES:Bars,LGBTQ+ Bingo & Quiz
ATTACH;FMTTYPE=image/jpeg:https://www.qxmagazine.com/wp-content/uploads/2022/11/imageedit_85_6257473238-2.jpg
GEO:51.5089422;-0.1235578
X-APPLE-STRUCTURED-LOCATION;VALUE=URI;X-ADDRESS=Retro Bar 2 George Court London WC2N 6HH United Kingdom;X-APPLE-RADIUS=500;X-TITLE=2 George Court:geo:-0.1235578,51.5089422
END:VEVENT
BEGIN:VEVENT
DTSTART;TZID=UTC:20240915T190000
DTEND;TZID=UTC:20240915T210000
DTSTAMP:20260419T151516
CREATED:20221127T220935Z
LAST-MODIFIED:20240317T121508Z
UID:10062441-1726426800-1726434000@www.qxmagazine.com
SUMMARY:Busy Lady Bingo
DESCRIPTION:Busy Lady Bingo with Sheila Simmonds. You can win weird and wonderful prizes plus a cash jackpot. Book your table at the event’s website listed below.
URL:https://www.qxmagazine.com/event/busy-lady-bingo/2024-09-15/
LOCATION:Retro Bar\, 2 George Court\, London\, WC2N 6HH\, United Kingdom
CATEGORIES:Bars,LGBTQ+ Bingo & Quiz
ATTACH;FMTTYPE=image/jpeg:https://www.qxmagazine.com/wp-content/uploads/2022/11/imageedit_85_6257473238-2.jpg
GEO:51.5089422;-0.1235578
X-APPLE-STRUCTURED-LOCATION;VALUE=URI;X-ADDRESS=Retro Bar 2 George Court London WC2N 6HH United Kingdom;X-APPLE-RADIUS=500;X-TITLE=2 George Court:geo:-0.1235578,51.5089422
END:VEVENT
BEGIN:VEVENT
DTSTART;TZID=UTC:20240908T190000
DTEND;TZID=UTC:20240908T210000
DTSTAMP:20260419T151516
CREATED:20221127T220935Z
LAST-MODIFIED:20240317T121508Z
UID:10062440-1725822000-1725829200@www.qxmagazine.com
SUMMARY:Busy Lady Bingo
DESCRIPTION:Busy Lady Bingo with Sheila Simmonds. You can win weird and wonderful prizes plus a cash jackpot. Book your table at the event’s website listed below.
URL:https://www.qxmagazine.com/event/busy-lady-bingo/2024-09-08/
LOCATION:Retro Bar\, 2 George Court\, London\, WC2N 6HH\, United Kingdom
CATEGORIES:Bars,LGBTQ+ Bingo & Quiz
ATTACH;FMTTYPE=image/jpeg:https://www.qxmagazine.com/wp-content/uploads/2022/11/imageedit_85_6257473238-2.jpg
GEO:51.5089422;-0.1235578
X-APPLE-STRUCTURED-LOCATION;VALUE=URI;X-ADDRESS=Retro Bar 2 George Court London WC2N 6HH United Kingdom;X-APPLE-RADIUS=500;X-TITLE=2 George Court:geo:-0.1235578,51.5089422
END:VEVENT
BEGIN:VEVENT
DTSTART;TZID=UTC:20240901T190000
DTEND;TZID=UTC:20240901T210000
DTSTAMP:20260419T151516
CREATED:20221127T220935Z
LAST-MODIFIED:20240317T121508Z
UID:10062439-1725217200-1725224400@www.qxmagazine.com
SUMMARY:Busy Lady Bingo
DESCRIPTION:Busy Lady Bingo with Sheila Simmonds. You can win weird and wonderful prizes plus a cash jackpot. Book your table at the event’s website listed below.
URL:https://www.qxmagazine.com/event/busy-lady-bingo/2024-09-01/
LOCATION:Retro Bar\, 2 George Court\, London\, WC2N 6HH\, United Kingdom
CATEGORIES:Bars,LGBTQ+ Bingo & Quiz
ATTACH;FMTTYPE=image/jpeg:https://www.qxmagazine.com/wp-content/uploads/2022/11/imageedit_85_6257473238-2.jpg
GEO:51.5089422;-0.1235578
X-APPLE-STRUCTURED-LOCATION;VALUE=URI;X-ADDRESS=Retro Bar 2 George Court London WC2N 6HH United Kingdom;X-APPLE-RADIUS=500;X-TITLE=2 George Court:geo:-0.1235578,51.5089422
END:VEVENT
BEGIN:VEVENT
DTSTART;TZID=UTC:20240825T190000
DTEND;TZID=UTC:20240825T210000
DTSTAMP:20260419T151516
CREATED:20221127T220935Z
LAST-MODIFIED:20240317T121508Z
UID:10062438-1724612400-1724619600@www.qxmagazine.com
SUMMARY:Busy Lady Bingo
DESCRIPTION:Busy Lady Bingo with Sheila Simmonds. You can win weird and wonderful prizes plus a cash jackpot. Book your table at the event’s website listed below.
URL:https://www.qxmagazine.com/event/busy-lady-bingo/2024-08-25/
LOCATION:Retro Bar\, 2 George Court\, London\, WC2N 6HH\, United Kingdom
CATEGORIES:Bars,LGBTQ+ Bingo & Quiz
ATTACH;FMTTYPE=image/jpeg:https://www.qxmagazine.com/wp-content/uploads/2022/11/imageedit_85_6257473238-2.jpg
GEO:51.5089422;-0.1235578
X-APPLE-STRUCTURED-LOCATION;VALUE=URI;X-ADDRESS=Retro Bar 2 George Court London WC2N 6HH United Kingdom;X-APPLE-RADIUS=500;X-TITLE=2 George Court:geo:-0.1235578,51.5089422
END:VEVENT
BEGIN:VEVENT
DTSTART;TZID=UTC:20240818T190000
DTEND;TZID=UTC:20240818T210000
DTSTAMP:20260419T151516
CREATED:20221127T220935Z
LAST-MODIFIED:20240317T121508Z
UID:10062437-1724007600-1724014800@www.qxmagazine.com
SUMMARY:Busy Lady Bingo
DESCRIPTION:Busy Lady Bingo with Sheila Simmonds. You can win weird and wonderful prizes plus a cash jackpot. Book your table at the event’s website listed below.
URL:https://www.qxmagazine.com/event/busy-lady-bingo/2024-08-18/
LOCATION:Retro Bar\, 2 George Court\, London\, WC2N 6HH\, United Kingdom
CATEGORIES:Bars,LGBTQ+ Bingo & Quiz
ATTACH;FMTTYPE=image/jpeg:https://www.qxmagazine.com/wp-content/uploads/2022/11/imageedit_85_6257473238-2.jpg
GEO:51.5089422;-0.1235578
X-APPLE-STRUCTURED-LOCATION;VALUE=URI;X-ADDRESS=Retro Bar 2 George Court London WC2N 6HH United Kingdom;X-APPLE-RADIUS=500;X-TITLE=2 George Court:geo:-0.1235578,51.5089422
END:VEVENT
BEGIN:VEVENT
DTSTART;TZID=UTC:20240811T190000
DTEND;TZID=UTC:20240811T210000
DTSTAMP:20260419T151516
CREATED:20221127T220935Z
LAST-MODIFIED:20240317T121508Z
UID:10062436-1723402800-1723410000@www.qxmagazine.com
SUMMARY:Busy Lady Bingo
DESCRIPTION:Busy Lady Bingo with Sheila Simmonds. You can win weird and wonderful prizes plus a cash jackpot. Book your table at the event’s website listed below.
URL:https://www.qxmagazine.com/event/busy-lady-bingo/2024-08-11/
LOCATION:Retro Bar\, 2 George Court\, London\, WC2N 6HH\, United Kingdom
CATEGORIES:Bars,LGBTQ+ Bingo & Quiz
ATTACH;FMTTYPE=image/jpeg:https://www.qxmagazine.com/wp-content/uploads/2022/11/imageedit_85_6257473238-2.jpg
GEO:51.5089422;-0.1235578
X-APPLE-STRUCTURED-LOCATION;VALUE=URI;X-ADDRESS=Retro Bar 2 George Court London WC2N 6HH United Kingdom;X-APPLE-RADIUS=500;X-TITLE=2 George Court:geo:-0.1235578,51.5089422
END:VEVENT
BEGIN:VEVENT
DTSTART;TZID=UTC:20240804T190000
DTEND;TZID=UTC:20240804T210000
DTSTAMP:20260419T151516
CREATED:20221127T220935Z
LAST-MODIFIED:20240317T121508Z
UID:10062435-1722798000-1722805200@www.qxmagazine.com
SUMMARY:Busy Lady Bingo
DESCRIPTION:Busy Lady Bingo with Sheila Simmonds. You can win weird and wonderful prizes plus a cash jackpot. Book your table at the event’s website listed below.
URL:https://www.qxmagazine.com/event/busy-lady-bingo/2024-08-04/
LOCATION:Retro Bar\, 2 George Court\, London\, WC2N 6HH\, United Kingdom
CATEGORIES:Bars,LGBTQ+ Bingo & Quiz
ATTACH;FMTTYPE=image/jpeg:https://www.qxmagazine.com/wp-content/uploads/2022/11/imageedit_85_6257473238-2.jpg
GEO:51.5089422;-0.1235578
X-APPLE-STRUCTURED-LOCATION;VALUE=URI;X-ADDRESS=Retro Bar 2 George Court London WC2N 6HH United Kingdom;X-APPLE-RADIUS=500;X-TITLE=2 George Court:geo:-0.1235578,51.5089422
END:VEVENT
BEGIN:VEVENT
DTSTART;TZID=UTC:20240728T190000
DTEND;TZID=UTC:20240728T210000
DTSTAMP:20260419T151516
CREATED:20221127T220935Z
LAST-MODIFIED:20240317T121508Z
UID:10062434-1722193200-1722200400@www.qxmagazine.com
SUMMARY:Busy Lady Bingo
DESCRIPTION:Busy Lady Bingo with Sheila Simmonds. You can win weird and wonderful prizes plus a cash jackpot. Book your table at the event’s website listed below.
URL:https://www.qxmagazine.com/event/busy-lady-bingo/2024-07-28/
LOCATION:Retro Bar\, 2 George Court\, London\, WC2N 6HH\, United Kingdom
CATEGORIES:Bars,LGBTQ+ Bingo & Quiz
ATTACH;FMTTYPE=image/jpeg:https://www.qxmagazine.com/wp-content/uploads/2022/11/imageedit_85_6257473238-2.jpg
GEO:51.5089422;-0.1235578
X-APPLE-STRUCTURED-LOCATION;VALUE=URI;X-ADDRESS=Retro Bar 2 George Court London WC2N 6HH United Kingdom;X-APPLE-RADIUS=500;X-TITLE=2 George Court:geo:-0.1235578,51.5089422
END:VEVENT
BEGIN:VEVENT
DTSTART;TZID=UTC:20240721T190000
DTEND;TZID=UTC:20240721T210000
DTSTAMP:20260419T151516
CREATED:20221127T220935Z
LAST-MODIFIED:20240317T121508Z
UID:10062433-1721588400-1721595600@www.qxmagazine.com
SUMMARY:Busy Lady Bingo
DESCRIPTION:Busy Lady Bingo with Sheila Simmonds. You can win weird and wonderful prizes plus a cash jackpot. Book your table at the event’s website listed below.
URL:https://www.qxmagazine.com/event/busy-lady-bingo/2024-07-21/
LOCATION:Retro Bar\, 2 George Court\, London\, WC2N 6HH\, United Kingdom
CATEGORIES:Bars,LGBTQ+ Bingo & Quiz
ATTACH;FMTTYPE=image/jpeg:https://www.qxmagazine.com/wp-content/uploads/2022/11/imageedit_85_6257473238-2.jpg
GEO:51.5089422;-0.1235578
X-APPLE-STRUCTURED-LOCATION;VALUE=URI;X-ADDRESS=Retro Bar 2 George Court London WC2N 6HH United Kingdom;X-APPLE-RADIUS=500;X-TITLE=2 George Court:geo:-0.1235578,51.5089422
END:VEVENT
BEGIN:VEVENT
DTSTART;TZID=UTC:20240714T190000
DTEND;TZID=UTC:20240714T210000
DTSTAMP:20260419T151516
CREATED:20221127T220935Z
LAST-MODIFIED:20240317T121508Z
UID:10062432-1720983600-1720990800@www.qxmagazine.com
SUMMARY:Busy Lady Bingo
DESCRIPTION:Busy Lady Bingo with Sheila Simmonds. You can win weird and wonderful prizes plus a cash jackpot. Book your table at the event’s website listed below.
URL:https://www.qxmagazine.com/event/busy-lady-bingo/2024-07-14/
LOCATION:Retro Bar\, 2 George Court\, London\, WC2N 6HH\, United Kingdom
CATEGORIES:Bars,LGBTQ+ Bingo & Quiz
ATTACH;FMTTYPE=image/jpeg:https://www.qxmagazine.com/wp-content/uploads/2022/11/imageedit_85_6257473238-2.jpg
GEO:51.5089422;-0.1235578
X-APPLE-STRUCTURED-LOCATION;VALUE=URI;X-ADDRESS=Retro Bar 2 George Court London WC2N 6HH United Kingdom;X-APPLE-RADIUS=500;X-TITLE=2 George Court:geo:-0.1235578,51.5089422
END:VEVENT
BEGIN:VEVENT
DTSTART;TZID=UTC:20240707T190000
DTEND;TZID=UTC:20240707T210000
DTSTAMP:20260419T151516
CREATED:20221127T220935Z
LAST-MODIFIED:20240317T121508Z
UID:10062431-1720378800-1720386000@www.qxmagazine.com
SUMMARY:Busy Lady Bingo
DESCRIPTION:Busy Lady Bingo with Sheila Simmonds. You can win weird and wonderful prizes plus a cash jackpot. Book your table at the event’s website listed below.
URL:https://www.qxmagazine.com/event/busy-lady-bingo/2024-07-07/
LOCATION:Retro Bar\, 2 George Court\, London\, WC2N 6HH\, United Kingdom
CATEGORIES:Bars,LGBTQ+ Bingo & Quiz
ATTACH;FMTTYPE=image/jpeg:https://www.qxmagazine.com/wp-content/uploads/2022/11/imageedit_85_6257473238-2.jpg
GEO:51.5089422;-0.1235578
X-APPLE-STRUCTURED-LOCATION;VALUE=URI;X-ADDRESS=Retro Bar 2 George Court London WC2N 6HH United Kingdom;X-APPLE-RADIUS=500;X-TITLE=2 George Court:geo:-0.1235578,51.5089422
END:VEVENT
BEGIN:VEVENT
DTSTART;TZID=UTC:20240630T190000
DTEND;TZID=UTC:20240630T210000
DTSTAMP:20260419T151516
CREATED:20221127T220935Z
LAST-MODIFIED:20240317T121508Z
UID:10062430-1719774000-1719781200@www.qxmagazine.com
SUMMARY:Busy Lady Bingo
DESCRIPTION:Busy Lady Bingo with Sheila Simmonds. You can win weird and wonderful prizes plus a cash jackpot. Book your table at the event’s website listed below.
URL:https://www.qxmagazine.com/event/busy-lady-bingo/2024-06-30/
LOCATION:Retro Bar\, 2 George Court\, London\, WC2N 6HH\, United Kingdom
CATEGORIES:Bars,LGBTQ+ Bingo & Quiz
ATTACH;FMTTYPE=image/jpeg:https://www.qxmagazine.com/wp-content/uploads/2022/11/imageedit_85_6257473238-2.jpg
GEO:51.5089422;-0.1235578
X-APPLE-STRUCTURED-LOCATION;VALUE=URI;X-ADDRESS=Retro Bar 2 George Court London WC2N 6HH United Kingdom;X-APPLE-RADIUS=500;X-TITLE=2 George Court:geo:-0.1235578,51.5089422
END:VEVENT
BEGIN:VEVENT
DTSTART;TZID=UTC:20240629T190000
DTEND;TZID=UTC:20240630T010000
DTSTAMP:20260419T151516
CREATED:20221231T112354Z
LAST-MODIFIED:20240224T021937Z
UID:10062411-1719687600-1719709200@www.qxmagazine.com
SUMMARY:Saturday Lates
DESCRIPTION:Late night opening at Retro Bar is every last Saturday of the month. 
URL:https://www.qxmagazine.com/event/saturday-lates/2024-06-29/
LOCATION:Retro Bar\, 2 George Court\, London\, WC2N 6HH\, United Kingdom
CATEGORIES:After Midnight Late Opening,Bars,Discount or Free Entry
ATTACH;FMTTYPE=image/jpeg:https://www.qxmagazine.com/wp-content/uploads/2022/12/imageedit_112_4604395856-2.jpg
GEO:51.5089422;-0.1235578
X-APPLE-STRUCTURED-LOCATION;VALUE=URI;X-ADDRESS=Retro Bar 2 George Court London WC2N 6HH United Kingdom;X-APPLE-RADIUS=500;X-TITLE=2 George Court:geo:-0.1235578,51.5089422
END:VEVENT
BEGIN:VEVENT
DTSTART;TZID=UTC:20240623T190000
DTEND;TZID=UTC:20240623T210000
DTSTAMP:20260419T151516
CREATED:20221127T220935Z
LAST-MODIFIED:20240317T121508Z
UID:10062429-1719169200-1719176400@www.qxmagazine.com
SUMMARY:Busy Lady Bingo
DESCRIPTION:Busy Lady Bingo with Sheila Simmonds. You can win weird and wonderful prizes plus a cash jackpot. Book your table at the event’s website listed below.
URL:https://www.qxmagazine.com/event/busy-lady-bingo/2024-06-23/
LOCATION:Retro Bar\, 2 George Court\, London\, WC2N 6HH\, United Kingdom
CATEGORIES:Bars,LGBTQ+ Bingo & Quiz
ATTACH;FMTTYPE=image/jpeg:https://www.qxmagazine.com/wp-content/uploads/2022/11/imageedit_85_6257473238-2.jpg
GEO:51.5089422;-0.1235578
X-APPLE-STRUCTURED-LOCATION;VALUE=URI;X-ADDRESS=Retro Bar 2 George Court London WC2N 6HH United Kingdom;X-APPLE-RADIUS=500;X-TITLE=2 George Court:geo:-0.1235578,51.5089422
END:VEVENT
BEGIN:VEVENT
DTSTART;TZID=UTC:20240616T190000
DTEND;TZID=UTC:20240616T210000
DTSTAMP:20260419T151516
CREATED:20221127T220935Z
LAST-MODIFIED:20240317T121508Z
UID:10062428-1718564400-1718571600@www.qxmagazine.com
SUMMARY:Busy Lady Bingo
DESCRIPTION:Busy Lady Bingo with Sheila Simmonds. You can win weird and wonderful prizes plus a cash jackpot. Book your table at the event’s website listed below.
URL:https://www.qxmagazine.com/event/busy-lady-bingo/2024-06-16/
LOCATION:Retro Bar\, 2 George Court\, London\, WC2N 6HH\, United Kingdom
CATEGORIES:Bars,LGBTQ+ Bingo & Quiz
ATTACH;FMTTYPE=image/jpeg:https://www.qxmagazine.com/wp-content/uploads/2022/11/imageedit_85_6257473238-2.jpg
GEO:51.5089422;-0.1235578
X-APPLE-STRUCTURED-LOCATION;VALUE=URI;X-ADDRESS=Retro Bar 2 George Court London WC2N 6HH United Kingdom;X-APPLE-RADIUS=500;X-TITLE=2 George Court:geo:-0.1235578,51.5089422
END:VEVENT
BEGIN:VEVENT
DTSTART;TZID=UTC:20240609T190000
DTEND;TZID=UTC:20240609T210000
DTSTAMP:20260419T151516
CREATED:20221127T220935Z
LAST-MODIFIED:20240317T121508Z
UID:10062427-1717959600-1717966800@www.qxmagazine.com
SUMMARY:Busy Lady Bingo
DESCRIPTION:Busy Lady Bingo with Sheila Simmonds. You can win weird and wonderful prizes plus a cash jackpot. Book your table at the event’s website listed below.
URL:https://www.qxmagazine.com/event/busy-lady-bingo/2024-06-09/
LOCATION:Retro Bar\, 2 George Court\, London\, WC2N 6HH\, United Kingdom
CATEGORIES:Bars,LGBTQ+ Bingo & Quiz
ATTACH;FMTTYPE=image/jpeg:https://www.qxmagazine.com/wp-content/uploads/2022/11/imageedit_85_6257473238-2.jpg
GEO:51.5089422;-0.1235578
X-APPLE-STRUCTURED-LOCATION;VALUE=URI;X-ADDRESS=Retro Bar 2 George Court London WC2N 6HH United Kingdom;X-APPLE-RADIUS=500;X-TITLE=2 George Court:geo:-0.1235578,51.5089422
END:VEVENT
BEGIN:VEVENT
DTSTART;TZID=UTC:20240602T190000
DTEND;TZID=UTC:20240602T210000
DTSTAMP:20260419T151516
CREATED:20221127T220935Z
LAST-MODIFIED:20240317T121508Z
UID:10062426-1717354800-1717362000@www.qxmagazine.com
SUMMARY:Busy Lady Bingo
DESCRIPTION:Busy Lady Bingo with Sheila Simmonds. You can win weird and wonderful prizes plus a cash jackpot. Book your table at the event’s website listed below.
URL:https://www.qxmagazine.com/event/busy-lady-bingo/2024-06-02/
LOCATION:Retro Bar\, 2 George Court\, London\, WC2N 6HH\, United Kingdom
CATEGORIES:Bars,LGBTQ+ Bingo & Quiz
ATTACH;FMTTYPE=image/jpeg:https://www.qxmagazine.com/wp-content/uploads/2022/11/imageedit_85_6257473238-2.jpg
GEO:51.5089422;-0.1235578
X-APPLE-STRUCTURED-LOCATION;VALUE=URI;X-ADDRESS=Retro Bar 2 George Court London WC2N 6HH United Kingdom;X-APPLE-RADIUS=500;X-TITLE=2 George Court:geo:-0.1235578,51.5089422
END:VEVENT
BEGIN:VEVENT
DTSTART;TZID=UTC:20240526T190000
DTEND;TZID=UTC:20240526T210000
DTSTAMP:20260419T151516
CREATED:20221127T220935Z
LAST-MODIFIED:20240317T121508Z
UID:10062425-1716750000-1716757200@www.qxmagazine.com
SUMMARY:Busy Lady Bingo
DESCRIPTION:Busy Lady Bingo with Sheila Simmonds. You can win weird and wonderful prizes plus a cash jackpot. Book your table at the event’s website listed below.
URL:https://www.qxmagazine.com/event/busy-lady-bingo/2024-05-26/
LOCATION:Retro Bar\, 2 George Court\, London\, WC2N 6HH\, United Kingdom
CATEGORIES:Bars,LGBTQ+ Bingo & Quiz
ATTACH;FMTTYPE=image/jpeg:https://www.qxmagazine.com/wp-content/uploads/2022/11/imageedit_85_6257473238-2.jpg
GEO:51.5089422;-0.1235578
X-APPLE-STRUCTURED-LOCATION;VALUE=URI;X-ADDRESS=Retro Bar 2 George Court London WC2N 6HH United Kingdom;X-APPLE-RADIUS=500;X-TITLE=2 George Court:geo:-0.1235578,51.5089422
END:VEVENT
END:VCALENDAR