BEGIN:VCALENDAR
VERSION:2.0
PRODID:-//QX Magazine - ECPv6.15.20//NONSGML v1.0//EN
CALSCALE:GREGORIAN
METHOD:PUBLISH
X-ORIGINAL-URL:https://www.qxmagazine.com
X-WR-CALDESC:Events for QX Magazine
REFRESH-INTERVAL;VALUE=DURATION:PT1H
X-Robots-Tag:noindex
X-PUBLISHED-TTL:PT1H
BEGIN:VTIMEZONE
TZID:UTC
BEGIN:STANDARD
TZOFFSETFROM:+0000
TZOFFSETTO:+0000
TZNAME:UTC
DTSTART:20220101T000000
END:STANDARD
END:VTIMEZONE
BEGIN:VEVENT
DTSTART;TZID=UTC:20240525T190000
DTEND;TZID=UTC:20240526T010000
DTSTAMP:20260419T164519
CREATED:20221231T112354Z
LAST-MODIFIED:20240224T021937Z
UID:10062410-1716663600-1716685200@www.qxmagazine.com
SUMMARY:Saturday Lates
DESCRIPTION:Late night opening at Retro Bar is every last Saturday of the month. 
URL:https://www.qxmagazine.com/event/saturday-lates/2024-05-25/
LOCATION:Retro Bar\, 2 George Court\, London\, WC2N 6HH\, United Kingdom
CATEGORIES:After Midnight Late Opening,Bars,Discount or Free Entry
ATTACH;FMTTYPE=image/jpeg:https://www.qxmagazine.com/wp-content/uploads/2022/12/imageedit_112_4604395856-2.jpg
GEO:51.5089422;-0.1235578
X-APPLE-STRUCTURED-LOCATION;VALUE=URI;X-ADDRESS=Retro Bar 2 George Court London WC2N 6HH United Kingdom;X-APPLE-RADIUS=500;X-TITLE=2 George Court:geo:-0.1235578,51.5089422
END:VEVENT
BEGIN:VEVENT
DTSTART;TZID=UTC:20240519T190000
DTEND;TZID=UTC:20240519T210000
DTSTAMP:20260419T164519
CREATED:20221127T220935Z
LAST-MODIFIED:20240317T121508Z
UID:10062424-1716145200-1716152400@www.qxmagazine.com
SUMMARY:Busy Lady Bingo
DESCRIPTION:Busy Lady Bingo with Sheila Simmonds. You can win weird and wonderful prizes plus a cash jackpot. Book your table at the event’s website listed below.
URL:https://www.qxmagazine.com/event/busy-lady-bingo/2024-05-19/
LOCATION:Retro Bar\, 2 George Court\, London\, WC2N 6HH\, United Kingdom
CATEGORIES:Bars,LGBTQ+ Bingo & Quiz
ATTACH;FMTTYPE=image/jpeg:https://www.qxmagazine.com/wp-content/uploads/2022/11/imageedit_85_6257473238-2.jpg
GEO:51.5089422;-0.1235578
X-APPLE-STRUCTURED-LOCATION;VALUE=URI;X-ADDRESS=Retro Bar 2 George Court London WC2N 6HH United Kingdom;X-APPLE-RADIUS=500;X-TITLE=2 George Court:geo:-0.1235578,51.5089422
END:VEVENT
BEGIN:VEVENT
DTSTART;TZID=UTC:20240515T200000
DTEND;TZID=UTC:20240515T220000
DTSTAMP:20260419T164519
CREATED:20240507T152146Z
LAST-MODIFIED:20240507T152146Z
UID:10068287-1715803200-1715810400@www.qxmagazine.com
SUMMARY:Sing with Nicky
DESCRIPTION:Sing along with Nicky on the upright piano.
URL:https://www.qxmagazine.com/event/sing-with-nicky-2/2024-05-15/
LOCATION:Retro Bar\, 2 George Court\, London\, WC2N 6HH\, United Kingdom
CATEGORIES:Bars,Featured Event,LGBTQ+ Live Music
ATTACH;FMTTYPE=image/jpeg:https://www.qxmagazine.com/wp-content/uploads/2024/05/imageedit_31_2848018087-2.jpg
GEO:51.5089422;-0.1235578
X-APPLE-STRUCTURED-LOCATION;VALUE=URI;X-ADDRESS=Retro Bar 2 George Court London WC2N 6HH United Kingdom;X-APPLE-RADIUS=500;X-TITLE=2 George Court:geo:-0.1235578,51.5089422
END:VEVENT
BEGIN:VEVENT
DTSTART;TZID=UTC:20240512T190000
DTEND;TZID=UTC:20240512T210000
DTSTAMP:20260419T164519
CREATED:20221127T220935Z
LAST-MODIFIED:20240317T121508Z
UID:10062423-1715540400-1715547600@www.qxmagazine.com
SUMMARY:Busy Lady Bingo
DESCRIPTION:Busy Lady Bingo with Sheila Simmonds. You can win weird and wonderful prizes plus a cash jackpot. Book your table at the event’s website listed below.
URL:https://www.qxmagazine.com/event/busy-lady-bingo/2024-05-12/
LOCATION:Retro Bar\, 2 George Court\, London\, WC2N 6HH\, United Kingdom
CATEGORIES:Bars,LGBTQ+ Bingo & Quiz
ATTACH;FMTTYPE=image/jpeg:https://www.qxmagazine.com/wp-content/uploads/2022/11/imageedit_85_6257473238-2.jpg
GEO:51.5089422;-0.1235578
X-APPLE-STRUCTURED-LOCATION;VALUE=URI;X-ADDRESS=Retro Bar 2 George Court London WC2N 6HH United Kingdom;X-APPLE-RADIUS=500;X-TITLE=2 George Court:geo:-0.1235578,51.5089422
END:VEVENT
BEGIN:VEVENT
DTSTART;TZID=UTC:20240508T200000
DTEND;TZID=UTC:20240508T220000
DTSTAMP:20260419T164519
CREATED:20240507T152146Z
LAST-MODIFIED:20240507T152146Z
UID:10068286-1715198400-1715205600@www.qxmagazine.com
SUMMARY:Sing with Nicky
DESCRIPTION:Sing along with Nicky on the upright piano.
URL:https://www.qxmagazine.com/event/sing-with-nicky-2/2024-05-08/
LOCATION:Retro Bar\, 2 George Court\, London\, WC2N 6HH\, United Kingdom
CATEGORIES:Bars,Featured Event,LGBTQ+ Live Music
ATTACH;FMTTYPE=image/jpeg:https://www.qxmagazine.com/wp-content/uploads/2024/05/imageedit_31_2848018087-2.jpg
GEO:51.5089422;-0.1235578
X-APPLE-STRUCTURED-LOCATION;VALUE=URI;X-ADDRESS=Retro Bar 2 George Court London WC2N 6HH United Kingdom;X-APPLE-RADIUS=500;X-TITLE=2 George Court:geo:-0.1235578,51.5089422
END:VEVENT
BEGIN:VEVENT
DTSTART;TZID=UTC:20240428T190000
DTEND;TZID=UTC:20240428T210000
DTSTAMP:20260419T164519
CREATED:20221127T220935Z
LAST-MODIFIED:20240317T121508Z
UID:10062421-1714330800-1714338000@www.qxmagazine.com
SUMMARY:Busy Lady Bingo
DESCRIPTION:Busy Lady Bingo with Sheila Simmonds. You can win weird and wonderful prizes plus a cash jackpot. Book your table at the event’s website listed below.
URL:https://www.qxmagazine.com/event/busy-lady-bingo/2024-04-28/
LOCATION:Retro Bar\, 2 George Court\, London\, WC2N 6HH\, United Kingdom
CATEGORIES:Bars,LGBTQ+ Bingo & Quiz
ATTACH;FMTTYPE=image/jpeg:https://www.qxmagazine.com/wp-content/uploads/2022/11/imageedit_85_6257473238-2.jpg
GEO:51.5089422;-0.1235578
X-APPLE-STRUCTURED-LOCATION;VALUE=URI;X-ADDRESS=Retro Bar 2 George Court London WC2N 6HH United Kingdom;X-APPLE-RADIUS=500;X-TITLE=2 George Court:geo:-0.1235578,51.5089422
END:VEVENT
BEGIN:VEVENT
DTSTART;TZID=UTC:20240427T190000
DTEND;TZID=UTC:20240428T010000
DTSTAMP:20260419T164519
CREATED:20221231T112354Z
LAST-MODIFIED:20240224T021937Z
UID:10062409-1714244400-1714266000@www.qxmagazine.com
SUMMARY:Saturday Lates
DESCRIPTION:Late night opening at Retro Bar is every last Saturday of the month. 
URL:https://www.qxmagazine.com/event/saturday-lates/2024-04-27/
LOCATION:Retro Bar\, 2 George Court\, London\, WC2N 6HH\, United Kingdom
CATEGORIES:After Midnight Late Opening,Bars,Discount or Free Entry
ATTACH;FMTTYPE=image/jpeg:https://www.qxmagazine.com/wp-content/uploads/2022/12/imageedit_112_4604395856-2.jpg
GEO:51.5089422;-0.1235578
X-APPLE-STRUCTURED-LOCATION;VALUE=URI;X-ADDRESS=Retro Bar 2 George Court London WC2N 6HH United Kingdom;X-APPLE-RADIUS=500;X-TITLE=2 George Court:geo:-0.1235578,51.5089422
END:VEVENT
BEGIN:VEVENT
DTSTART;TZID=UTC:20240421T190000
DTEND;TZID=UTC:20240421T210000
DTSTAMP:20260419T164519
CREATED:20221127T220935Z
LAST-MODIFIED:20240317T121508Z
UID:10062420-1713726000-1713733200@www.qxmagazine.com
SUMMARY:Busy Lady Bingo
DESCRIPTION:Busy Lady Bingo with Sheila Simmonds. You can win weird and wonderful prizes plus a cash jackpot. Book your table at the event’s website listed below.
URL:https://www.qxmagazine.com/event/busy-lady-bingo/2024-04-21/
LOCATION:Retro Bar\, 2 George Court\, London\, WC2N 6HH\, United Kingdom
CATEGORIES:Bars,LGBTQ+ Bingo & Quiz
ATTACH;FMTTYPE=image/jpeg:https://www.qxmagazine.com/wp-content/uploads/2022/11/imageedit_85_6257473238-2.jpg
GEO:51.5089422;-0.1235578
X-APPLE-STRUCTURED-LOCATION;VALUE=URI;X-ADDRESS=Retro Bar 2 George Court London WC2N 6HH United Kingdom;X-APPLE-RADIUS=500;X-TITLE=2 George Court:geo:-0.1235578,51.5089422
END:VEVENT
BEGIN:VEVENT
DTSTART;TZID=UTC:20240414T190000
DTEND;TZID=UTC:20240414T210000
DTSTAMP:20260419T164519
CREATED:20221127T220935Z
LAST-MODIFIED:20240317T121508Z
UID:10062419-1713121200-1713128400@www.qxmagazine.com
SUMMARY:Busy Lady Bingo
DESCRIPTION:Busy Lady Bingo with Sheila Simmonds. You can win weird and wonderful prizes plus a cash jackpot. Book your table at the event’s website listed below.
URL:https://www.qxmagazine.com/event/busy-lady-bingo/2024-04-14/
LOCATION:Retro Bar\, 2 George Court\, London\, WC2N 6HH\, United Kingdom
CATEGORIES:Bars,LGBTQ+ Bingo & Quiz
ATTACH;FMTTYPE=image/jpeg:https://www.qxmagazine.com/wp-content/uploads/2022/11/imageedit_85_6257473238-2.jpg
GEO:51.5089422;-0.1235578
X-APPLE-STRUCTURED-LOCATION;VALUE=URI;X-ADDRESS=Retro Bar 2 George Court London WC2N 6HH United Kingdom;X-APPLE-RADIUS=500;X-TITLE=2 George Court:geo:-0.1235578,51.5089422
END:VEVENT
BEGIN:VEVENT
DTSTART;TZID=UTC:20240407T190000
DTEND;TZID=UTC:20240407T210000
DTSTAMP:20260419T164519
CREATED:20221127T220935Z
LAST-MODIFIED:20240317T121508Z
UID:10062418-1712516400-1712523600@www.qxmagazine.com
SUMMARY:Busy Lady Bingo
DESCRIPTION:Busy Lady Bingo with Sheila Simmonds. You can win weird and wonderful prizes plus a cash jackpot. Book your table at the event’s website listed below.
URL:https://www.qxmagazine.com/event/busy-lady-bingo/2024-04-07/
LOCATION:Retro Bar\, 2 George Court\, London\, WC2N 6HH\, United Kingdom
CATEGORIES:Bars,LGBTQ+ Bingo & Quiz
ATTACH;FMTTYPE=image/jpeg:https://www.qxmagazine.com/wp-content/uploads/2022/11/imageedit_85_6257473238-2.jpg
GEO:51.5089422;-0.1235578
X-APPLE-STRUCTURED-LOCATION;VALUE=URI;X-ADDRESS=Retro Bar 2 George Court London WC2N 6HH United Kingdom;X-APPLE-RADIUS=500;X-TITLE=2 George Court:geo:-0.1235578,51.5089422
END:VEVENT
BEGIN:VEVENT
DTSTART;TZID=UTC:20240331T190000
DTEND;TZID=UTC:20240331T210000
DTSTAMP:20260419T164519
CREATED:20221127T220935Z
LAST-MODIFIED:20240317T121508Z
UID:10062417-1711911600-1711918800@www.qxmagazine.com
SUMMARY:Busy Lady Bingo
DESCRIPTION:Busy Lady Bingo with Sheila Simmonds. You can win weird and wonderful prizes plus a cash jackpot. Book your table at the event’s website listed below.
URL:https://www.qxmagazine.com/event/busy-lady-bingo/2024-03-31/
LOCATION:Retro Bar\, 2 George Court\, London\, WC2N 6HH\, United Kingdom
CATEGORIES:Bars,LGBTQ+ Bingo & Quiz
ATTACH;FMTTYPE=image/jpeg:https://www.qxmagazine.com/wp-content/uploads/2022/11/imageedit_85_6257473238-2.jpg
GEO:51.5089422;-0.1235578
X-APPLE-STRUCTURED-LOCATION;VALUE=URI;X-ADDRESS=Retro Bar 2 George Court London WC2N 6HH United Kingdom;X-APPLE-RADIUS=500;X-TITLE=2 George Court:geo:-0.1235578,51.5089422
END:VEVENT
BEGIN:VEVENT
DTSTART;TZID=UTC:20240330T190000
DTEND;TZID=UTC:20240331T010000
DTSTAMP:20260419T164519
CREATED:20221231T112354Z
LAST-MODIFIED:20240224T021937Z
UID:10062408-1711825200-1711846800@www.qxmagazine.com
SUMMARY:Saturday Lates
DESCRIPTION:Late night opening at Retro Bar is every last Saturday of the month. 
URL:https://www.qxmagazine.com/event/saturday-lates/2024-03-30/
LOCATION:Retro Bar\, 2 George Court\, London\, WC2N 6HH\, United Kingdom
CATEGORIES:After Midnight Late Opening,Bars,Discount or Free Entry
ATTACH;FMTTYPE=image/jpeg:https://www.qxmagazine.com/wp-content/uploads/2022/12/imageedit_112_4604395856-2.jpg
GEO:51.5089422;-0.1235578
X-APPLE-STRUCTURED-LOCATION;VALUE=URI;X-ADDRESS=Retro Bar 2 George Court London WC2N 6HH United Kingdom;X-APPLE-RADIUS=500;X-TITLE=2 George Court:geo:-0.1235578,51.5089422
END:VEVENT
BEGIN:VEVENT
DTSTART;TZID=UTC:20240324T190000
DTEND;TZID=UTC:20240324T210000
DTSTAMP:20260419T164519
CREATED:20221127T220935Z
LAST-MODIFIED:20240317T121508Z
UID:10062416-1711306800-1711314000@www.qxmagazine.com
SUMMARY:Busy Lady Bingo
DESCRIPTION:Busy Lady Bingo with Sheila Simmonds. You can win weird and wonderful prizes plus a cash jackpot. Book your table at the event’s website listed below.
URL:https://www.qxmagazine.com/event/busy-lady-bingo/2024-03-24/
LOCATION:Retro Bar\, 2 George Court\, London\, WC2N 6HH\, United Kingdom
CATEGORIES:Bars,LGBTQ+ Bingo & Quiz
ATTACH;FMTTYPE=image/jpeg:https://www.qxmagazine.com/wp-content/uploads/2022/11/imageedit_85_6257473238-2.jpg
GEO:51.5089422;-0.1235578
X-APPLE-STRUCTURED-LOCATION;VALUE=URI;X-ADDRESS=Retro Bar 2 George Court London WC2N 6HH United Kingdom;X-APPLE-RADIUS=500;X-TITLE=2 George Court:geo:-0.1235578,51.5089422
END:VEVENT
BEGIN:VEVENT
DTSTART;TZID=UTC:20240317T190000
DTEND;TZID=UTC:20240317T210000
DTSTAMP:20260419T164519
CREATED:20221127T220935Z
LAST-MODIFIED:20240317T121508Z
UID:10062415-1710702000-1710709200@www.qxmagazine.com
SUMMARY:Busy Lady Bingo
DESCRIPTION:Busy Lady Bingo with Sheila Simmonds. You can win weird and wonderful prizes plus a cash jackpot. Book your table at the event’s website listed below.
URL:https://www.qxmagazine.com/event/busy-lady-bingo/2024-03-17/
LOCATION:Retro Bar\, 2 George Court\, London\, WC2N 6HH\, United Kingdom
CATEGORIES:Bars,LGBTQ+ Bingo & Quiz
ATTACH;FMTTYPE=image/jpeg:https://www.qxmagazine.com/wp-content/uploads/2022/11/imageedit_85_6257473238-2.jpg
GEO:51.5089422;-0.1235578
X-APPLE-STRUCTURED-LOCATION;VALUE=URI;X-ADDRESS=Retro Bar 2 George Court London WC2N 6HH United Kingdom;X-APPLE-RADIUS=500;X-TITLE=2 George Court:geo:-0.1235578,51.5089422
END:VEVENT
BEGIN:VEVENT
DTSTART;TZID=UTC:20240310T190000
DTEND;TZID=UTC:20240310T210000
DTSTAMP:20260419T164519
CREATED:20221127T220935Z
LAST-MODIFIED:20240317T121508Z
UID:10062414-1710097200-1710104400@www.qxmagazine.com
SUMMARY:Busy Lady Bingo
DESCRIPTION:Busy Lady Bingo with Sheila Simmonds. You can win weird and wonderful prizes plus a cash jackpot. Book your table at the event’s website listed below.
URL:https://www.qxmagazine.com/event/busy-lady-bingo/2024-03-10/
LOCATION:Retro Bar\, 2 George Court\, London\, WC2N 6HH\, United Kingdom
CATEGORIES:Bars,LGBTQ+ Bingo & Quiz
ATTACH;FMTTYPE=image/jpeg:https://www.qxmagazine.com/wp-content/uploads/2022/11/imageedit_85_6257473238-2.jpg
GEO:51.5089422;-0.1235578
X-APPLE-STRUCTURED-LOCATION;VALUE=URI;X-ADDRESS=Retro Bar 2 George Court London WC2N 6HH United Kingdom;X-APPLE-RADIUS=500;X-TITLE=2 George Court:geo:-0.1235578,51.5089422
END:VEVENT
BEGIN:VEVENT
DTSTART;TZID=UTC:20240303T190000
DTEND;TZID=UTC:20240303T210000
DTSTAMP:20260419T164519
CREATED:20221127T220935Z
LAST-MODIFIED:20240317T121508Z
UID:10062413-1709492400-1709499600@www.qxmagazine.com
SUMMARY:Busy Lady Bingo
DESCRIPTION:Busy Lady Bingo with Sheila Simmonds. You can win weird and wonderful prizes plus a cash jackpot. Book your table at the event’s website listed below.
URL:https://www.qxmagazine.com/event/busy-lady-bingo/2024-03-03/
LOCATION:Retro Bar\, 2 George Court\, London\, WC2N 6HH\, United Kingdom
CATEGORIES:Bars,LGBTQ+ Bingo & Quiz
ATTACH;FMTTYPE=image/jpeg:https://www.qxmagazine.com/wp-content/uploads/2022/11/imageedit_85_6257473238-2.jpg
GEO:51.5089422;-0.1235578
X-APPLE-STRUCTURED-LOCATION;VALUE=URI;X-ADDRESS=Retro Bar 2 George Court London WC2N 6HH United Kingdom;X-APPLE-RADIUS=500;X-TITLE=2 George Court:geo:-0.1235578,51.5089422
END:VEVENT
BEGIN:VEVENT
DTSTART;TZID=UTC:20240225T190000
DTEND;TZID=UTC:20240225T210000
DTSTAMP:20260419T164519
CREATED:20221127T220935Z
LAST-MODIFIED:20240317T121508Z
UID:10062412-1708887600-1708894800@www.qxmagazine.com
SUMMARY:Busy Lady Bingo
DESCRIPTION:Busy Lady Bingo with Sheila Simmonds. You can win weird and wonderful prizes plus a cash jackpot. Book your table at the event’s website listed below.
URL:https://www.qxmagazine.com/event/busy-lady-bingo/2024-02-25/
LOCATION:Retro Bar\, 2 George Court\, London\, WC2N 6HH\, United Kingdom
CATEGORIES:Bars,LGBTQ+ Bingo & Quiz
ATTACH;FMTTYPE=image/jpeg:https://www.qxmagazine.com/wp-content/uploads/2022/11/imageedit_85_6257473238-2.jpg
GEO:51.5089422;-0.1235578
X-APPLE-STRUCTURED-LOCATION;VALUE=URI;X-ADDRESS=Retro Bar 2 George Court London WC2N 6HH United Kingdom;X-APPLE-RADIUS=500;X-TITLE=2 George Court:geo:-0.1235578,51.5089422
END:VEVENT
BEGIN:VEVENT
DTSTART;TZID=UTC:20240224T190000
DTEND;TZID=UTC:20240225T010000
DTSTAMP:20260419T164519
CREATED:20221231T112354Z
LAST-MODIFIED:20240224T021937Z
UID:10062407-1708801200-1708822800@www.qxmagazine.com
SUMMARY:Saturday Lates
DESCRIPTION:Late night opening at Retro Bar is every last Saturday of the month. 
URL:https://www.qxmagazine.com/event/saturday-lates/2024-02-24/
LOCATION:Retro Bar\, 2 George Court\, London\, WC2N 6HH\, United Kingdom
CATEGORIES:After Midnight Late Opening,Bars,Discount or Free Entry
ATTACH;FMTTYPE=image/jpeg:https://www.qxmagazine.com/wp-content/uploads/2022/12/imageedit_112_4604395856-2.jpg
GEO:51.5089422;-0.1235578
X-APPLE-STRUCTURED-LOCATION;VALUE=URI;X-ADDRESS=Retro Bar 2 George Court London WC2N 6HH United Kingdom;X-APPLE-RADIUS=500;X-TITLE=2 George Court:geo:-0.1235578,51.5089422
END:VEVENT
BEGIN:VEVENT
DTSTART;TZID=UTC:20231231T200000
DTEND;TZID=UTC:20240101T020000
DTSTAMP:20260419T164519
CREATED:20231219T185031Z
LAST-MODIFIED:20231219T185031Z
UID:10051986-1704052800-1704074400@www.qxmagazine.com
SUMMARY:Dykey New Year
DESCRIPTION:Dykey New Year\, and everybody is welcome\, with DJs are Stav and Kat. Free\, but you’ll need to collect a wrist bank before the 30th.
URL:https://www.qxmagazine.com/event/dykey-new-year/
LOCATION:Retro Bar\, 2 George Court\, London\, WC2N 6HH\, United Kingdom
CATEGORIES:Bars,Events Lesbian London,Events Queer London,Events Queer Women London,Featured Event,LGBTQ+ New Year's Eve Party
ATTACH;FMTTYPE=image/jpeg:https://www.qxmagazine.com/wp-content/uploads/2023/12/imageedit_7_4498820216-2.jpg
GEO:51.5089422;-0.1235578
X-APPLE-STRUCTURED-LOCATION;VALUE=URI;X-ADDRESS=Retro Bar 2 George Court London WC2N 6HH United Kingdom;X-APPLE-RADIUS=500;X-TITLE=2 George Court:geo:-0.1235578,51.5089422
END:VEVENT
BEGIN:VEVENT
DTSTART;TZID=UTC:20231224T150000
DTEND;TZID=UTC:20231224T170000
DTSTAMP:20260419T164519
CREATED:20231219T183952Z
LAST-MODIFIED:20231219T183952Z
UID:10051985-1703430000-1703437200@www.qxmagazine.com
SUMMARY:Busy Lady Bingo Who Lunch
DESCRIPTION:A Christmas Eve Bingo Special\, where you could win a whopping £300 in cash prizes!
URL:https://www.qxmagazine.com/event/busy-lady-bingo-who-lunch/
LOCATION:Retro Bar\, 2 George Court\, London\, WC2N 6HH\, United Kingdom
CATEGORIES:Bars,Featured Event,LGBTQ+ Bingo & Quiz,LGBTQ+ Christmas
ATTACH;FMTTYPE=image/jpeg:https://www.qxmagazine.com/wp-content/uploads/2023/12/imageedit_3_8196590172-2.jpg
GEO:51.5089422;-0.1235578
X-APPLE-STRUCTURED-LOCATION;VALUE=URI;X-ADDRESS=Retro Bar 2 George Court London WC2N 6HH United Kingdom;X-APPLE-RADIUS=500;X-TITLE=2 George Court:geo:-0.1235578,51.5089422
END:VEVENT
BEGIN:VEVENT
DTSTART;TZID=UTC:20231013T190000
DTEND;TZID=UTC:20231013T230000
DTSTAMP:20260419T164519
CREATED:20231007T000116Z
LAST-MODIFIED:20231007T000146Z
UID:10047620-1697223600-1697238000@www.qxmagazine.com
SUMMARY:Madonna The Celebration Tour pre-party
DESCRIPTION:DJ Dave Robson celebrating the Queen of Pop and her music.
URL:https://www.qxmagazine.com/event/madonna-the-celebration-tour-pre-party/
LOCATION:Retro Bar\, 2 George Court\, London\, WC2N 6HH\, United Kingdom
CATEGORIES:Bars
ATTACH;FMTTYPE=image/jpeg:https://www.qxmagazine.com/wp-content/uploads/2023/10/imageedit_19_6862797374-2.jpg
GEO:51.5089422;-0.1235578
X-APPLE-STRUCTURED-LOCATION;VALUE=URI;X-ADDRESS=Retro Bar 2 George Court London WC2N 6HH United Kingdom;X-APPLE-RADIUS=500;X-TITLE=2 George Court:geo:-0.1235578,51.5089422
END:VEVENT
BEGIN:VEVENT
DTSTART;TZID=UTC:20230707T200000
DTEND;TZID=UTC:20230707T230000
DTSTAMP:20260419T164519
CREATED:20230705T154740Z
LAST-MODIFIED:20231127T130007Z
UID:10045090-1688760000-1688770800@www.qxmagazine.com
SUMMARY:Pre-Trans+ Pride Party
DESCRIPTION:Join them on the dance floor with Viktor Victoria and get home early to be fresh for the March the next day.
URL:https://www.qxmagazine.com/event/pre-trans-pride-party/
LOCATION:Retro Bar\, 2 George Court\, London\, WC2N 6HH\, United Kingdom
CATEGORIES:Bars,Events Transgender London,Events Transmasc London,Featured Event
ATTACH;FMTTYPE=image/jpeg:https://www.qxmagazine.com/wp-content/uploads/2023/07/imageedit_26_3725196939-2.jpg
GEO:51.5089422;-0.1235578
X-APPLE-STRUCTURED-LOCATION;VALUE=URI;X-ADDRESS=Retro Bar 2 George Court London WC2N 6HH United Kingdom;X-APPLE-RADIUS=500;X-TITLE=2 George Court:geo:-0.1235578,51.5089422
END:VEVENT
BEGIN:VEVENT
DTSTART;TZID=UTC:20230702T190000
DTEND;TZID=UTC:20230702T210000
DTSTAMP:20260419T164519
CREATED:20230627T134645Z
LAST-MODIFIED:20230627T134646Z
UID:10004156-1688324400-1688331600@www.qxmagazine.com
SUMMARY:Busy Lady Bingo Pride Special
DESCRIPTION:Busy Lady Bingo with Sheila Simmonds. You can win weird and wonderful prizes plus a cash jackpot. Book your table at the event’s website listed below.
URL:https://www.qxmagazine.com/event/busy-lady-bingo-3/
LOCATION:Retro Bar\, 2 George Court\, London\, WC2N 6HH\, United Kingdom
CATEGORIES:Bars,LGBTQ+ Bingo & Quiz
ATTACH;FMTTYPE=image/jpeg:https://www.qxmagazine.com/wp-content/uploads/2022/11/imageedit_85_6257473238-2.jpg
GEO:51.5089422;-0.1235578
X-APPLE-STRUCTURED-LOCATION;VALUE=URI;X-ADDRESS=Retro Bar 2 George Court London WC2N 6HH United Kingdom;X-APPLE-RADIUS=500;X-TITLE=2 George Court:geo:-0.1235578,51.5089422
END:VEVENT
BEGIN:VEVENT
DTSTART;TZID=UTC:20230627T200000
DTEND;TZID=UTC:20230627T220000
DTSTAMP:20260419T164519
CREATED:20230627T134246Z
LAST-MODIFIED:20230627T134344Z
UID:10011280-1687896000-1687903200@www.qxmagazine.com
SUMMARY:Carry On Quizzing Pride Special
DESCRIPTION:Carry On Quizzing is Retro Bar’s regular quiz night. With 6 to a team\, the charge is £3 each to enter.
URL:https://www.qxmagazine.com/event/carry-on-quizzing-pride-special/
LOCATION:Retro Bar\, 2 George Court\, London\, WC2N 6HH\, United Kingdom
CATEGORIES:Bars,Featured Event,LGBTQ+ Bingo & Quiz
ATTACH;FMTTYPE=image/jpeg:https://www.qxmagazine.com/wp-content/uploads/2022/11/imageedit_30_3774410751-2.jpg
GEO:51.5089422;-0.1235578
X-APPLE-STRUCTURED-LOCATION;VALUE=URI;X-ADDRESS=Retro Bar 2 George Court London WC2N 6HH United Kingdom;X-APPLE-RADIUS=500;X-TITLE=2 George Court:geo:-0.1235578,51.5089422
END:VEVENT
BEGIN:VEVENT
DTSTART;TZID=UTC:20230527T190000
DTEND;TZID=UTC:20230528T010000
DTSTAMP:20260419T164519
CREATED:20221231T112354Z
LAST-MODIFIED:20240224T021937Z
UID:10013524-1685214000-1685235600@www.qxmagazine.com
SUMMARY:Saturday Lates
DESCRIPTION:Late night opening at Retro Bar is every last Saturday of the month. 
URL:https://www.qxmagazine.com/event/saturday-lates/2023-05-27/
LOCATION:Retro Bar\, 2 George Court\, London\, WC2N 6HH\, United Kingdom
CATEGORIES:After Midnight Late Opening,Bars,Discount or Free Entry
ATTACH;FMTTYPE=image/jpeg:https://www.qxmagazine.com/wp-content/uploads/2022/12/imageedit_112_4604395856-2.jpg
GEO:51.5089422;-0.1235578
X-APPLE-STRUCTURED-LOCATION;VALUE=URI;X-ADDRESS=Retro Bar 2 George Court London WC2N 6HH United Kingdom;X-APPLE-RADIUS=500;X-TITLE=2 George Court:geo:-0.1235578,51.5089422
END:VEVENT
BEGIN:VEVENT
DTSTART;TZID=UTC:20230429T190000
DTEND;TZID=UTC:20230430T010000
DTSTAMP:20260419T164519
CREATED:20221231T112354Z
LAST-MODIFIED:20240224T021937Z
UID:10013523-1682794800-1682816400@www.qxmagazine.com
SUMMARY:Saturday Lates
DESCRIPTION:Late night opening at Retro Bar is every last Saturday of the month. 
URL:https://www.qxmagazine.com/event/saturday-lates/2023-04-29/
LOCATION:Retro Bar\, 2 George Court\, London\, WC2N 6HH\, United Kingdom
CATEGORIES:After Midnight Late Opening,Bars,Discount or Free Entry
ATTACH;FMTTYPE=image/jpeg:https://www.qxmagazine.com/wp-content/uploads/2022/12/imageedit_112_4604395856-2.jpg
GEO:51.5089422;-0.1235578
X-APPLE-STRUCTURED-LOCATION;VALUE=URI;X-ADDRESS=Retro Bar 2 George Court London WC2N 6HH United Kingdom;X-APPLE-RADIUS=500;X-TITLE=2 George Court:geo:-0.1235578,51.5089422
END:VEVENT
BEGIN:VEVENT
DTSTART;TZID=UTC:20230325T190000
DTEND;TZID=UTC:20230326T010000
DTSTAMP:20260419T164519
CREATED:20221231T112354Z
LAST-MODIFIED:20240224T021937Z
UID:10011358-1679770800-1679792400@www.qxmagazine.com
SUMMARY:Saturday Lates
DESCRIPTION:Late night opening at Retro Bar is every last Saturday of the month. 
URL:https://www.qxmagazine.com/event/saturday-lates/2023-03-25/
LOCATION:Retro Bar\, 2 George Court\, London\, WC2N 6HH\, United Kingdom
CATEGORIES:After Midnight Late Opening,Bars,Discount or Free Entry
ATTACH;FMTTYPE=image/jpeg:https://www.qxmagazine.com/wp-content/uploads/2022/12/imageedit_112_4604395856-2.jpg
GEO:51.5089422;-0.1235578
X-APPLE-STRUCTURED-LOCATION;VALUE=URI;X-ADDRESS=Retro Bar 2 George Court London WC2N 6HH United Kingdom;X-APPLE-RADIUS=500;X-TITLE=2 George Court:geo:-0.1235578,51.5089422
END:VEVENT
BEGIN:VEVENT
DTSTART;TZID=UTC:20230315T200000
DTEND;TZID=UTC:20230315T220000
DTSTAMP:20260419T164519
CREATED:20230313T111034Z
LAST-MODIFIED:20230603T160703Z
UID:10021205-1678910400-1678917600@www.qxmagazine.com
SUMMARY:Sing with Nicky
DESCRIPTION:After a sensational winter run before Christmasmas\, NICKY’s back behind the keys for a full spring term of sing-along fun! Every Wednesday from March 15th to May 3rd. They can’t wait to have you all back for a sing-song.
URL:https://www.qxmagazine.com/event/sing-with-nicky/
LOCATION:Retro Bar\, 2 George Court\, London\, WC2N 6HH\, United Kingdom
CATEGORIES:Bars,Discount or Free Entry,LGBTQ+ Karaoke,LGBTQ+ Live Music
ATTACH;FMTTYPE=image/jpeg:https://www.qxmagazine.com/wp-content/uploads/2023/03/imageedit_176_9458523149-2.jpg
GEO:51.5089422;-0.1235578
X-APPLE-STRUCTURED-LOCATION;VALUE=URI;X-ADDRESS=Retro Bar 2 George Court London WC2N 6HH United Kingdom;X-APPLE-RADIUS=500;X-TITLE=2 George Court:geo:-0.1235578,51.5089422
END:VEVENT
BEGIN:VEVENT
DTSTART;TZID=UTC:20230225T190000
DTEND;TZID=UTC:20230226T010000
DTSTAMP:20260419T164519
CREATED:20221231T112354Z
LAST-MODIFIED:20240224T021937Z
UID:10011357-1677351600-1677373200@www.qxmagazine.com
SUMMARY:Saturday Lates
DESCRIPTION:Late night opening at Retro Bar is every last Saturday of the month. 
URL:https://www.qxmagazine.com/event/saturday-lates/2023-02-25/
LOCATION:Retro Bar\, 2 George Court\, London\, WC2N 6HH\, United Kingdom
CATEGORIES:After Midnight Late Opening,Bars,Discount or Free Entry
ATTACH;FMTTYPE=image/jpeg:https://www.qxmagazine.com/wp-content/uploads/2022/12/imageedit_112_4604395856-2.jpg
GEO:51.5089422;-0.1235578
X-APPLE-STRUCTURED-LOCATION;VALUE=URI;X-ADDRESS=Retro Bar 2 George Court London WC2N 6HH United Kingdom;X-APPLE-RADIUS=500;X-TITLE=2 George Court:geo:-0.1235578,51.5089422
END:VEVENT
BEGIN:VEVENT
DTSTART;TZID=UTC:20230128T190000
DTEND;TZID=UTC:20230129T010000
DTSTAMP:20260419T164519
CREATED:20221231T112354Z
LAST-MODIFIED:20240224T021937Z
UID:10011356-1674932400-1674954000@www.qxmagazine.com
SUMMARY:Saturday Lates
DESCRIPTION:Late night opening at Retro Bar is every last Saturday of the month. 
URL:https://www.qxmagazine.com/event/saturday-lates/2023-01-28/
LOCATION:Retro Bar\, 2 George Court\, London\, WC2N 6HH\, United Kingdom
CATEGORIES:After Midnight Late Opening,Bars,Discount or Free Entry
ATTACH;FMTTYPE=image/jpeg:https://www.qxmagazine.com/wp-content/uploads/2022/12/imageedit_112_4604395856-2.jpg
GEO:51.5089422;-0.1235578
X-APPLE-STRUCTURED-LOCATION;VALUE=URI;X-ADDRESS=Retro Bar 2 George Court London WC2N 6HH United Kingdom;X-APPLE-RADIUS=500;X-TITLE=2 George Court:geo:-0.1235578,51.5089422
END:VEVENT
END:VCALENDAR