BEGIN:VCALENDAR
VERSION:2.0
PRODID:-//QX Magazine - ECPv6.15.20//NONSGML v1.0//EN
CALSCALE:GREGORIAN
METHOD:PUBLISH
X-ORIGINAL-URL:https://www.qxmagazine.com
X-WR-CALDESC:Events for QX Magazine
REFRESH-INTERVAL;VALUE=DURATION:PT1H
X-Robots-Tag:noindex
X-PUBLISHED-TTL:PT1H
BEGIN:VTIMEZONE
TZID:UTC
BEGIN:STANDARD
TZOFFSETFROM:+0000
TZOFFSETTO:+0000
TZNAME:UTC
DTSTART:20240101T000000
END:STANDARD
END:VTIMEZONE
BEGIN:VEVENT
DTSTART;TZID=UTC:20250913T180000
DTEND;TZID=UTC:20250913T220000
DTSTAMP:20260419T134127
CREATED:20250607T102809Z
LAST-MODIFIED:20250607T102809Z
UID:10100338-1757786400-1757800800@www.qxmagazine.com
SUMMARY:Fruit Bowl Summer Boat Party
DESCRIPTION:This year they have a new and bigger boat to host their annual boat party. Hosted by Courtney Jackson.
URL:https://www.qxmagazine.com/event/fruit-bowl-summer-boat-party/
LOCATION:Richmond Riverside\, Richmond\, London\, TW9 1NS\, United Kingdom
CATEGORIES:Events Queer London,Featured Event,LGBTQ+ Boat Party
ATTACH;FMTTYPE=image/jpeg:https://www.qxmagazine.com/wp-content/uploads/2025/06/imageedit_50_9835273734-2-1.jpg
END:VEVENT
END:VCALENDAR