BEGIN:VCALENDAR
VERSION:2.0
PRODID:-//QX Magazine - ECPv6.15.20//NONSGML v1.0//EN
CALSCALE:GREGORIAN
METHOD:PUBLISH
X-ORIGINAL-URL:https://www.qxmagazine.com
X-WR-CALDESC:Events for QX Magazine
REFRESH-INTERVAL;VALUE=DURATION:PT1H
X-Robots-Tag:noindex
X-PUBLISHED-TTL:PT1H
BEGIN:VTIMEZONE
TZID:UTC
BEGIN:STANDARD
TZOFFSETFROM:+0000
TZOFFSETTO:+0000
TZNAME:UTC
DTSTART:20220101T000000
END:STANDARD
END:VTIMEZONE
BEGIN:VEVENT
DTSTART;VALUE=DATE:20230916
DTEND;VALUE=DATE:20230926
DTSTAMP:20260419T212234
CREATED:20230824T092530Z
LAST-MODIFIED:20230824T092530Z
UID:10046382-1694840400-1695617999@www.qxmagazine.com
SUMMARY:The Fringe! 2023 Queer Film & Arts Fest
DESCRIPTION:Your favourite neighbourhood queerdos are back with The Fringe! 2023 Queer Film & Arts Fest. Events are across several venues. The programme is now live. There are films\, events\, exhibitions and workshops—loads of stuff. There is too much to list\, so check out the guide at the event’s website below.
URL:https://www.qxmagazine.com/event/the-fringe-2023-queer-film-arts-fest/
LOCATION:Rio Cinema\, 107 Kingsland High Street\, London\, E8 2PB\, United Kingdom
CATEGORIES:Discount or Free Entry,Featured Event,LGBTQ+ Festivals 2023
ATTACH;FMTTYPE=image/jpeg:https://www.qxmagazine.com/wp-content/uploads/2023/08/imageedit_30_4682561838-2.jpg
GEO:51.5496961;-0.0755644
X-APPLE-STRUCTURED-LOCATION;VALUE=URI;X-ADDRESS=Rio Cinema 107 Kingsland High Street London E8 2PB United Kingdom;X-APPLE-RADIUS=500;X-TITLE=107 Kingsland High Street:geo:-0.0755644,51.5496961
END:VEVENT
END:VCALENDAR