BEGIN:VCALENDAR
VERSION:2.0
PRODID:-//QX Magazine - ECPv6.15.20//NONSGML v1.0//EN
CALSCALE:GREGORIAN
METHOD:PUBLISH
X-WR-CALNAME:QX Magazine
X-ORIGINAL-URL:https://www.qxmagazine.com
X-WR-CALDESC:Events for QX Magazine
REFRESH-INTERVAL;VALUE=DURATION:PT1H
X-Robots-Tag:noindex
X-PUBLISHED-TTL:PT1H
BEGIN:VTIMEZONE
TZID:UTC
BEGIN:STANDARD
TZOFFSETFROM:+0000
TZOFFSETTO:+0000
TZNAME:UTC
DTSTART:20230101T000000
END:STANDARD
END:VTIMEZONE
BEGIN:VEVENT
DTSTART;TZID=UTC:20240117T190000
DTEND;TZID=UTC:20240117T190000
DTSTAMP:20260422T172351
CREATED:20240110T101614Z
LAST-MODIFIED:20240117T093219Z
UID:10054207-1705518000-1705518000@www.qxmagazine.com
SUMMARY:Cowbois
DESCRIPTION:Grab your stetson and spurs for RSC´s Cowbois by Charlie Josephine at the Royal Court Theatre\, now playing a strictly limited run until 10 February. ‘A joyous queer cowboy romp’ (West End Best Friend) co-directed by Charlie Josephine and Sean Holmes. Booking available via the Royal Court Box Office.  \nIn a sleepy town in the Wild West\, the women drift through their days like tumbleweed. Their husbands\, swept up in the goldrush\, have been missing for almost a year and show no sign of returning. In fact\, the town is almost cut off from outsiders entirely\, with only one drunken sheriff for protection.  \n‘A whole new frontier’ (Guardian).  \nThat is until handsome bandit Jack Cannon swaggers up to the town’s saloon\, looking for a place to hide from the bounty hunters on his tail. Armed with a wink\, and with a gun by their side for good measure\, Jack’s explosive arrival inspires a gender revolution\, and starts a fire under the petticoat of every one of the town’s repressed inhabitants.  \n‘Swagger\, humour\, and plenty of good old-fashioned gun-slinging action’ (WhatsOnStage). 
URL:https://www.qxmagazine.com/event/cowbois-2/
LOCATION:Royal Court Theatre\, Sloane Square\, London\, SW1W 8AS\, United Kingdom
CATEGORIES:Events Queer London,Events Transmasc London,LGBTQ+ Sober,LGBTQ+ Theatre
ATTACH;FMTTYPE=image/jpeg:https://www.qxmagazine.com/wp-content/uploads/2020/02/imageedit_2_8023965381-2.jpg
GEO:51.4927357;-0.1568819
X-APPLE-STRUCTURED-LOCATION;VALUE=URI;X-ADDRESS=Royal Court Theatre Sloane Square London SW1W 8AS United Kingdom;X-APPLE-RADIUS=500;X-TITLE=Sloane Square:geo:-0.1568819,51.4927357
END:VEVENT
BEGIN:VEVENT
DTSTART;TZID=UTC:20240116T193000
DTEND;TZID=UTC:20240116T193000
DTSTAMP:20260422T172351
CREATED:20240110T101112Z
LAST-MODIFIED:20240115T182933Z
UID:10054205-1705433400-1705433400@www.qxmagazine.com
SUMMARY:Cowbois
DESCRIPTION:Grab your stetson and spurs for RSC´s Cowbois by Charlie Josephine at the Royal Court Theatre\, now playing a strictly limited run until 10 February. ‘A joyous queer cowboy romp’ (West End Best Friend) co-directed by Charlie Josephine and Sean Holmes. Booking available via the Royal Court Box Office.  \nIn a sleepy town in the Wild West\, the women drift through their days like tumbleweed. Their husbands\, swept up in the goldrush\, have been missing for almost a year and show no sign of returning. In fact\, the town is almost cut off from outsiders entirely\, with only one drunken sheriff for protection.  \n‘A whole new frontier’ (Guardian).  \nThat is until handsome bandit Jack Cannon swaggers up to the town’s saloon\, looking for a place to hide from the bounty hunters on his tail. Armed with a wink\, and with a gun by their side for good measure\, Jack’s explosive arrival inspires a gender revolution\, and starts a fire under the petticoat of every one of the town’s repressed inhabitants.  \n‘Swagger\, humour\, and plenty of good old-fashioned gun-slinging action’ (WhatsOnStage). 
URL:https://www.qxmagazine.com/event/cowbois/2024-01-16/
LOCATION:Royal Court Theatre\, Sloane Square\, London\, SW1W 8AS\, United Kingdom
CATEGORIES:Events Queer London,Events Transmasc London,Featured Event,LGBTQ+ Sober,LGBTQ+ Theatre
ATTACH;FMTTYPE=image/jpeg:https://www.qxmagazine.com/wp-content/uploads/2024/01/imageedit_53_8965033418-2.jpg
GEO:51.4927357;-0.1568819
X-APPLE-STRUCTURED-LOCATION;VALUE=URI;X-ADDRESS=Royal Court Theatre Sloane Square London SW1W 8AS United Kingdom;X-APPLE-RADIUS=500;X-TITLE=Sloane Square:geo:-0.1568819,51.4927357
END:VEVENT
BEGIN:VEVENT
DTSTART;TZID=UTC:20240115T193000
DTEND;TZID=UTC:20240115T193000
DTSTAMP:20260422T172351
CREATED:20240110T101112Z
LAST-MODIFIED:20240115T182933Z
UID:10054204-1705347000-1705347000@www.qxmagazine.com
SUMMARY:Cowbois
DESCRIPTION:Grab your stetson and spurs for RSC´s Cowbois by Charlie Josephine at the Royal Court Theatre\, now playing a strictly limited run until 10 February. ‘A joyous queer cowboy romp’ (West End Best Friend) co-directed by Charlie Josephine and Sean Holmes. Booking available via the Royal Court Box Office.  \nIn a sleepy town in the Wild West\, the women drift through their days like tumbleweed. Their husbands\, swept up in the goldrush\, have been missing for almost a year and show no sign of returning. In fact\, the town is almost cut off from outsiders entirely\, with only one drunken sheriff for protection.  \n‘A whole new frontier’ (Guardian).  \nThat is until handsome bandit Jack Cannon swaggers up to the town’s saloon\, looking for a place to hide from the bounty hunters on his tail. Armed with a wink\, and with a gun by their side for good measure\, Jack’s explosive arrival inspires a gender revolution\, and starts a fire under the petticoat of every one of the town’s repressed inhabitants.  \n‘Swagger\, humour\, and plenty of good old-fashioned gun-slinging action’ (WhatsOnStage). 
URL:https://www.qxmagazine.com/event/cowbois/2024-01-15/
LOCATION:Royal Court Theatre\, Sloane Square\, London\, SW1W 8AS\, United Kingdom
CATEGORIES:Events Queer London,Events Transmasc London,Featured Event,LGBTQ+ Sober,LGBTQ+ Theatre
ATTACH;FMTTYPE=image/jpeg:https://www.qxmagazine.com/wp-content/uploads/2024/01/imageedit_53_8965033418-2.jpg
GEO:51.4927357;-0.1568819
X-APPLE-STRUCTURED-LOCATION;VALUE=URI;X-ADDRESS=Royal Court Theatre Sloane Square London SW1W 8AS United Kingdom;X-APPLE-RADIUS=500;X-TITLE=Sloane Square:geo:-0.1568819,51.4927357
END:VEVENT
BEGIN:VEVENT
DTSTART;TZID=UTC:20240113T193000
DTEND;TZID=UTC:20240113T193000
DTSTAMP:20260422T172351
CREATED:20240110T101112Z
LAST-MODIFIED:20240115T182933Z
UID:10054203-1705174200-1705174200@www.qxmagazine.com
SUMMARY:Cowbois
DESCRIPTION:Grab your stetson and spurs for RSC´s Cowbois by Charlie Josephine at the Royal Court Theatre\, now playing a strictly limited run until 10 February. ‘A joyous queer cowboy romp’ (West End Best Friend) co-directed by Charlie Josephine and Sean Holmes. Booking available via the Royal Court Box Office.  \nIn a sleepy town in the Wild West\, the women drift through their days like tumbleweed. Their husbands\, swept up in the goldrush\, have been missing for almost a year and show no sign of returning. In fact\, the town is almost cut off from outsiders entirely\, with only one drunken sheriff for protection.  \n‘A whole new frontier’ (Guardian).  \nThat is until handsome bandit Jack Cannon swaggers up to the town’s saloon\, looking for a place to hide from the bounty hunters on his tail. Armed with a wink\, and with a gun by their side for good measure\, Jack’s explosive arrival inspires a gender revolution\, and starts a fire under the petticoat of every one of the town’s repressed inhabitants.  \n‘Swagger\, humour\, and plenty of good old-fashioned gun-slinging action’ (WhatsOnStage). 
URL:https://www.qxmagazine.com/event/cowbois/2024-01-13/
LOCATION:Royal Court Theatre\, Sloane Square\, London\, SW1W 8AS\, United Kingdom
CATEGORIES:Events Queer London,Events Transmasc London,Featured Event,LGBTQ+ Sober,LGBTQ+ Theatre
ATTACH;FMTTYPE=image/jpeg:https://www.qxmagazine.com/wp-content/uploads/2024/01/imageedit_53_8965033418-2.jpg
GEO:51.4927357;-0.1568819
X-APPLE-STRUCTURED-LOCATION;VALUE=URI;X-ADDRESS=Royal Court Theatre Sloane Square London SW1W 8AS United Kingdom;X-APPLE-RADIUS=500;X-TITLE=Sloane Square:geo:-0.1568819,51.4927357
END:VEVENT
BEGIN:VEVENT
DTSTART;TZID=UTC:20240112T193000
DTEND;TZID=UTC:20240112T193000
DTSTAMP:20260422T172351
CREATED:20240110T101112Z
LAST-MODIFIED:20240115T182933Z
UID:10054201-1705087800-1705087800@www.qxmagazine.com
SUMMARY:Cowbois
DESCRIPTION:Grab your stetson and spurs for RSC´s Cowbois by Charlie Josephine at the Royal Court Theatre\, now playing a strictly limited run until 10 February. ‘A joyous queer cowboy romp’ (West End Best Friend) co-directed by Charlie Josephine and Sean Holmes. Booking available via the Royal Court Box Office.  \nIn a sleepy town in the Wild West\, the women drift through their days like tumbleweed. Their husbands\, swept up in the goldrush\, have been missing for almost a year and show no sign of returning. In fact\, the town is almost cut off from outsiders entirely\, with only one drunken sheriff for protection.  \n‘A whole new frontier’ (Guardian).  \nThat is until handsome bandit Jack Cannon swaggers up to the town’s saloon\, looking for a place to hide from the bounty hunters on his tail. Armed with a wink\, and with a gun by their side for good measure\, Jack’s explosive arrival inspires a gender revolution\, and starts a fire under the petticoat of every one of the town’s repressed inhabitants.  \n‘Swagger\, humour\, and plenty of good old-fashioned gun-slinging action’ (WhatsOnStage). 
URL:https://www.qxmagazine.com/event/cowbois/2024-01-12/
LOCATION:Royal Court Theatre\, Sloane Square\, London\, SW1W 8AS\, United Kingdom
CATEGORIES:Events Queer London,Events Transmasc London,Featured Event,LGBTQ+ Sober,LGBTQ+ Theatre
ATTACH;FMTTYPE=image/jpeg:https://www.qxmagazine.com/wp-content/uploads/2024/01/imageedit_53_8965033418-2.jpg
GEO:51.4927357;-0.1568819
X-APPLE-STRUCTURED-LOCATION;VALUE=URI;X-ADDRESS=Royal Court Theatre Sloane Square London SW1W 8AS United Kingdom;X-APPLE-RADIUS=500;X-TITLE=Sloane Square:geo:-0.1568819,51.4927357
END:VEVENT
BEGIN:VEVENT
DTSTART;TZID=UTC:20240111T193000
DTEND;TZID=UTC:20240111T193000
DTSTAMP:20260422T172351
CREATED:20240110T101112Z
LAST-MODIFIED:20240115T182933Z
UID:10054200-1705001400-1705001400@www.qxmagazine.com
SUMMARY:Cowbois
DESCRIPTION:Grab your stetson and spurs for RSC´s Cowbois by Charlie Josephine at the Royal Court Theatre\, now playing a strictly limited run until 10 February. ‘A joyous queer cowboy romp’ (West End Best Friend) co-directed by Charlie Josephine and Sean Holmes. Booking available via the Royal Court Box Office.  \nIn a sleepy town in the Wild West\, the women drift through their days like tumbleweed. Their husbands\, swept up in the goldrush\, have been missing for almost a year and show no sign of returning. In fact\, the town is almost cut off from outsiders entirely\, with only one drunken sheriff for protection.  \n‘A whole new frontier’ (Guardian).  \nThat is until handsome bandit Jack Cannon swaggers up to the town’s saloon\, looking for a place to hide from the bounty hunters on his tail. Armed with a wink\, and with a gun by their side for good measure\, Jack’s explosive arrival inspires a gender revolution\, and starts a fire under the petticoat of every one of the town’s repressed inhabitants.  \n‘Swagger\, humour\, and plenty of good old-fashioned gun-slinging action’ (WhatsOnStage). 
URL:https://www.qxmagazine.com/event/cowbois/2024-01-11/
LOCATION:Royal Court Theatre\, Sloane Square\, London\, SW1W 8AS\, United Kingdom
CATEGORIES:Events Queer London,Events Transmasc London,Featured Event,LGBTQ+ Sober,LGBTQ+ Theatre
ATTACH;FMTTYPE=image/jpeg:https://www.qxmagazine.com/wp-content/uploads/2024/01/imageedit_53_8965033418-2.jpg
GEO:51.4927357;-0.1568819
X-APPLE-STRUCTURED-LOCATION;VALUE=URI;X-ADDRESS=Royal Court Theatre Sloane Square London SW1W 8AS United Kingdom;X-APPLE-RADIUS=500;X-TITLE=Sloane Square:geo:-0.1568819,51.4927357
END:VEVENT
BEGIN:VEVENT
DTSTART;TZID=UTC:20240102T143000
DTEND;TZID=UTC:20240102T143000
DTSTAMP:20260422T172351
CREATED:20240122T141834Z
LAST-MODIFIED:20240222T144632Z
UID:10055717-1704205800-1704205800@www.qxmagazine.com
SUMMARY:Cowbois
DESCRIPTION:Grab your stetson and spurs for RSC´s Cowbois by Charlie Josephine at the Royal Court Theatre\, now playing a strictly limited run until 10 February. ‘A joyous queer cowboy romp’ (West End Best Friend) co-directed by Charlie Josephine and Sean Holmes. Booking available via the Royal Court Box Office.  \nIn a sleepy town in the Wild West\, the women drift through their days like tumbleweed. Their husbands\, swept up in the goldrush\, have been missing for almost a year and show no sign of returning. In fact\, the town is almost cut off from outsiders entirely\, with only one drunken sheriff for protection.  \n‘A whole new frontier’ (Guardian).  \nThat is until handsome bandit Jack Cannon swaggers up to the town’s saloon\, looking for a place to hide from the bounty hunters on his tail. Armed with a wink\, and with a gun by their side for good measure\, Jack’s explosive arrival inspires a gender revolution\, and starts a fire under the petticoat of every one of the town’s repressed inhabitants.  \n‘Swagger\, humour\, and plenty of good old-fashioned gun-slinging action’ (WhatsOnStage). 
URL:https://www.qxmagazine.com/event/cowbois-3/2024-01-02/
LOCATION:Royal Court Theatre\, Sloane Square\, London\, SW1W 8AS\, United Kingdom
CATEGORIES:Events Queer London,Events Transmasc London,Featured Event,LGBTQ+ Sober,LGBTQ+ Theatre
ATTACH;FMTTYPE=image/jpeg:https://www.qxmagazine.com/wp-content/uploads/2024/01/imageedit_53_8965033418-2.jpg
GEO:51.4927357;-0.1568819
X-APPLE-STRUCTURED-LOCATION;VALUE=URI;X-ADDRESS=Royal Court Theatre Sloane Square London SW1W 8AS United Kingdom;X-APPLE-RADIUS=500;X-TITLE=Sloane Square:geo:-0.1568819,51.4927357
END:VEVENT
END:VCALENDAR