BEGIN:VCALENDAR
VERSION:2.0
PRODID:-//QX Magazine - ECPv6.15.20//NONSGML v1.0//EN
CALSCALE:GREGORIAN
METHOD:PUBLISH
X-ORIGINAL-URL:https://www.qxmagazine.com
X-WR-CALDESC:Events for QX Magazine
REFRESH-INTERVAL;VALUE=DURATION:PT1H
X-Robots-Tag:noindex
X-PUBLISHED-TTL:PT1H
BEGIN:VTIMEZONE
TZID:UTC
BEGIN:STANDARD
TZOFFSETFROM:+0000
TZOFFSETTO:+0000
TZNAME:UTC
DTSTART:20220101T000000
END:STANDARD
END:VTIMEZONE
BEGIN:VEVENT
DTSTART;TZID=UTC:20260208T190000
DTEND;TZID=UTC:20260208T213000
DTSTAMP:20260426T003111
CREATED:20260120T120325Z
LAST-MODIFIED:20260120T120325Z
UID:10112228-1770577200-1770586200@www.qxmagazine.com
SUMMARY:Sunday Night Comedy Special
DESCRIPTION:Featuring the hilarious Lee Peart\, Helen Bauer\, and Mark Bittlestone: expect big laughs\, great vibes\, and a welcoming crowd. \nEarly Bird & Group Saver Tickets on sale now
URL:https://www.qxmagazine.com/event/sunday-night-comedy-special-3/
LOCATION:The George IV Chiswick\, 185 Chiswick High Rd\, London\, W4 2DR\, United Kingdom
CATEGORIES:Bars,Featured Event,LGBTQ+ Comedy
ATTACH;FMTTYPE=image/jpeg:https://www.qxmagazine.com/wp-content/uploads/2026/01/imageedit_7_6161709553-2.jpg
GEO:51.492042;-0.2569081
X-APPLE-STRUCTURED-LOCATION;VALUE=URI;X-ADDRESS=The George IV Chiswick 185 Chiswick High Rd London W4 2DR United Kingdom;X-APPLE-RADIUS=500;X-TITLE=185 Chiswick High Rd:geo:-0.2569081,51.492042
END:VEVENT
BEGIN:VEVENT
DTSTART;TZID=UTC:20250907T190000
DTEND;TZID=UTC:20250907T230000
DTSTAMP:20260426T003111
CREATED:20250903T211612Z
LAST-MODIFIED:20250903T211818Z
UID:10103109-1757271600-1757286000@www.qxmagazine.com
SUMMARY:Sunday Night Comedy Special
DESCRIPTION:What a lineup! Join West London Queer Project for a night of comedy and laughter with Olga Koch\, Kemah Bob and resident host\, Mark Bittlestone!
URL:https://www.qxmagazine.com/event/sunday-night-comedy-special-2/
LOCATION:The George IV Chiswick\, 185 Chiswick High Rd\, London\, W4 2DR\, United Kingdom
CATEGORIES:Bars,Featured Event,LGBTQ+ Comedy
ATTACH;FMTTYPE=image/jpeg:https://www.qxmagazine.com/wp-content/uploads/2025/09/imageedit_4_2363505864.jpg
GEO:51.492042;-0.2569081
X-APPLE-STRUCTURED-LOCATION;VALUE=URI;X-ADDRESS=The George IV Chiswick 185 Chiswick High Rd London W4 2DR United Kingdom;X-APPLE-RADIUS=500;X-TITLE=185 Chiswick High Rd:geo:-0.2569081,51.492042
END:VEVENT
BEGIN:VEVENT
DTSTART;TZID=UTC:20250831T210000
DTEND;TZID=UTC:20250901T010000
DTSTAMP:20260426T003111
CREATED:20250806T213137Z
LAST-MODIFIED:20250806T213426Z
UID:10102615-1756674000-1756688400@www.qxmagazine.com
SUMMARY:WLQP Birthday Street Party After Party
DESCRIPTION:Celebrating 5 fabulous years with a party in The Boston Room. There’s a free street party during the day. See QX listings for Street Party details. See WLQP for updates.
URL:https://www.qxmagazine.com/event/wlqp-birthday-street-party-after-party/
LOCATION:The George IV Chiswick\, 185 Chiswick High Rd\, London\, W4 2DR\, United Kingdom
CATEGORIES:After Midnight Late Opening,Bars,Club Nights,Events Queer London,Featured Event,LGBTQ+ Cabaret & Drag
ATTACH;FMTTYPE=image/jpeg:https://www.qxmagazine.com/wp-content/uploads/2025/08/imageedit_20_9879858116.jpg
GEO:51.492042;-0.2569081
X-APPLE-STRUCTURED-LOCATION;VALUE=URI;X-ADDRESS=The George IV Chiswick 185 Chiswick High Rd London W4 2DR United Kingdom;X-APPLE-RADIUS=500;X-TITLE=185 Chiswick High Rd:geo:-0.2569081,51.492042
END:VEVENT
BEGIN:VEVENT
DTSTART;TZID=UTC:20250525T180000
DTEND;TZID=UTC:20250525T210000
DTSTAMP:20260426T003111
CREATED:20250421T174541Z
LAST-MODIFIED:20250421T174611Z
UID:10097742-1748196000-1748206800@www.qxmagazine.com
SUMMARY:Sunday Night Comedy Special
DESCRIPTION:Early Bird Tickets are available for this special comedy special by West London Queer Project. Featuring Mark Bittlestone\, Dian Cathal\, Sapphire MacIntosh and Morgan Rees. Tickets available here. Comedy starts at 7.
URL:https://www.qxmagazine.com/event/sunday-night-comedy-special/
LOCATION:The George IV Chiswick\, 185 Chiswick High Rd\, London\, W4 2DR\, United Kingdom
CATEGORIES:Bars,Events Queer Women London,Featured Event,LGBTQ+ Comedy
ATTACH;FMTTYPE=image/jpeg:https://www.qxmagazine.com/wp-content/uploads/2025/04/imageedit_55_4191562605.jpg
GEO:51.492042;-0.2569081
X-APPLE-STRUCTURED-LOCATION;VALUE=URI;X-ADDRESS=The George IV Chiswick 185 Chiswick High Rd London W4 2DR United Kingdom;X-APPLE-RADIUS=500;X-TITLE=185 Chiswick High Rd:geo:-0.2569081,51.492042
END:VEVENT
BEGIN:VEVENT
DTSTART;TZID=UTC:20250330T190000
DTEND;TZID=UTC:20250330T190000
DTSTAMP:20260426T003111
CREATED:20250225T141222Z
LAST-MODIFIED:20250324T115436Z
UID:10094982-1743361200-1743361200@www.qxmagazine.com
SUMMARY:Trans Day of Visibility - Comedy Show
DESCRIPTION:There’s no better way to show your support  for Trans Day Of Visibilty than by attending the West London Queer Project’s Trans Day Of Visibility Comedy Show on Sunday\, 30 March\, at the George IV in Chiswick. \nThis will be an evening of side-splitting humour and unapologetic wit\, all to celebrate Trans Day of Visibility.  Show the love and celebrate with an evening of joy and laughter.
URL:https://www.qxmagazine.com/event/trans-day-of-visibility-comedy-show-2/
LOCATION:The George IV Chiswick\, 185 Chiswick High Rd\, London\, W4 2DR\, United Kingdom
CATEGORIES:Bars,Events Queer London,Events Transgender London,Events Transmasc London,Featured Event,LGBTQ+ Comedy
ATTACH;FMTTYPE=image/jpeg:https://www.qxmagazine.com/wp-content/uploads/2025/03/imageedit_10_7094778392-2.jpg
GEO:51.492042;-0.2569081
X-APPLE-STRUCTURED-LOCATION;VALUE=URI;X-ADDRESS=The George IV Chiswick 185 Chiswick High Rd London W4 2DR United Kingdom;X-APPLE-RADIUS=500;X-TITLE=185 Chiswick High Rd:geo:-0.2569081,51.492042
END:VEVENT
BEGIN:VEVENT
DTSTART;TZID=UTC:20241223T190000
DTEND;TZID=UTC:20241223T230000
DTSTAMP:20260426T003111
CREATED:20241205T230039Z
LAST-MODIFIED:20241205T230039Z
UID:10085099-1734980400-1734994800@www.qxmagazine.com
SUMMARY:Not Another (Christmas) Quiz
DESCRIPTION:The George IV has kindly curated this Quiz Night with all proceeds going to WLQP. Expect lots of fun\, laughs and prizes!
URL:https://www.qxmagazine.com/event/not-another-christmas-quiz/
LOCATION:The George IV Chiswick\, 185 Chiswick High Rd\, London\, W4 2DR\, United Kingdom
CATEGORIES:Bars,Events Queer London,Featured Event,LGBTQ+ Bingo & Quiz,LGBTQ+ Christmas
ATTACH;FMTTYPE=image/jpeg:https://www.qxmagazine.com/wp-content/uploads/2024/12/imageedit_84_7342641553.jpg
GEO:51.492042;-0.2569081
X-APPLE-STRUCTURED-LOCATION;VALUE=URI;X-ADDRESS=The George IV Chiswick 185 Chiswick High Rd London W4 2DR United Kingdom;X-APPLE-RADIUS=500;X-TITLE=185 Chiswick High Rd:geo:-0.2569081,51.492042
END:VEVENT
BEGIN:VEVENT
DTSTART;TZID=UTC:20241215T190000
DTEND;TZID=UTC:20241215T220000
DTSTAMP:20260426T003111
CREATED:20241102T232727Z
LAST-MODIFIED:20241204T165558Z
UID:10079635-1734289200-1734300000@www.qxmagazine.com
SUMMARY:Christmas with WLQP and Lola Lasagne
DESCRIPTION:Join West London Queer Project for a Sunday Roast Christmas Special with drag queen star Lola Lasagne.
URL:https://www.qxmagazine.com/event/christmas-with-wlqp-and-lola-lasagne/
LOCATION:The George IV Chiswick\, 185 Chiswick High Rd\, London\, W4 2DR\, United Kingdom
CATEGORIES:Bars,Featured Event,LGBTQ+ Cabaret & Drag,LGBTQ+ Christmas,LGBTQ+ Dining
ATTACH;FMTTYPE=image/jpeg:https://www.qxmagazine.com/wp-content/uploads/2024/11/imageedit_45_8823686626.jpg
GEO:51.492042;-0.2569081
X-APPLE-STRUCTURED-LOCATION;VALUE=URI;X-ADDRESS=The George IV Chiswick 185 Chiswick High Rd London W4 2DR United Kingdom;X-APPLE-RADIUS=500;X-TITLE=185 Chiswick High Rd:geo:-0.2569081,51.492042
END:VEVENT
BEGIN:VEVENT
DTSTART;TZID=UTC:20240929T180000
DTEND;TZID=UTC:20240929T210000
DTSTAMP:20260426T003111
CREATED:20240927T232305Z
LAST-MODIFIED:20240927T232323Z
UID:10077866-1727632800-1727643600@www.qxmagazine.com
SUMMARY:Comedy Night Special by West London Queer Project
DESCRIPTION:Comedy Night Special with a star line up: Sophie Duker and Reuben Kaye\, with resident host\, Mark Bittlestone!
URL:https://www.qxmagazine.com/event/comedy-night-special-by-west-london-queer-project/
LOCATION:The George IV Chiswick\, 185 Chiswick High Rd\, London\, W4 2DR\, United Kingdom
CATEGORIES:Bars,Events Queer London,Featured Event,LGBTQ+ Comedy
ATTACH;FMTTYPE=image/jpeg:https://www.qxmagazine.com/wp-content/uploads/2024/09/imageedit_31_3858718293.jpg
GEO:51.492042;-0.2569081
X-APPLE-STRUCTURED-LOCATION;VALUE=URI;X-ADDRESS=The George IV Chiswick 185 Chiswick High Rd London W4 2DR United Kingdom;X-APPLE-RADIUS=500;X-TITLE=185 Chiswick High Rd:geo:-0.2569081,51.492042
END:VEVENT
BEGIN:VEVENT
DTSTART;TZID=UTC:20240825T210000
DTEND;TZID=UTC:20240826T010000
DTSTAMP:20260426T003111
CREATED:20240807T125423Z
LAST-MODIFIED:20240807T125423Z
UID:10074526-1724619600-1724634000@www.qxmagazine.com
SUMMARY:West London Queer Project 4th Birthday After-Party
DESCRIPTION:The party continues after the Street Party inside the Boston room from with DJ and drag acts. Details to be announced soon. Book your tickets here to avoid disappointment!
URL:https://www.qxmagazine.com/event/west-london-queer-project-4th-birthday-after-party/
LOCATION:The George IV Chiswick\, 185 Chiswick High Rd\, London\, W4 2DR\, United Kingdom
CATEGORIES:After Midnight Late Opening,Bars,Club Nights,Events Queer London,Featured Event,LGBTQ+ Cabaret & Drag
ATTACH;FMTTYPE=image/jpeg:https://www.qxmagazine.com/wp-content/uploads/2024/08/imageedit_51_2669517552.jpg
GEO:51.492042;-0.2569081
X-APPLE-STRUCTURED-LOCATION;VALUE=URI;X-ADDRESS=The George IV Chiswick 185 Chiswick High Rd London W4 2DR United Kingdom;X-APPLE-RADIUS=500;X-TITLE=185 Chiswick High Rd:geo:-0.2569081,51.492042
END:VEVENT
BEGIN:VEVENT
DTSTART;TZID=UTC:20240727T180000
DTEND;TZID=UTC:20240728T010000
DTSTAMP:20260426T003111
CREATED:20240707T153757Z
LAST-MODIFIED:20240726T130021Z
UID:10074335-1722103200-1722128400@www.qxmagazine.com
SUMMARY:WLQP Saturday at George IV
DESCRIPTION:A fabulous night with West London queer Project in the Boston Room\, hosted by Dj Lady Lloyd and Vanity Von Glow. DJ Lady Lloyd from 8 to late.  Enjoy the vocals of Vanity Von Glow from 9-10.
URL:https://www.qxmagazine.com/event/saturday-at-george-iv/
LOCATION:The George IV Chiswick\, 185 Chiswick High Rd\, London\, W4 2DR\, United Kingdom
CATEGORIES:Bars,Events Queer London,LGBTQ+ Cabaret & Drag,LGBTQ+ Live Music
ATTACH;FMTTYPE=image/jpeg:https://www.qxmagazine.com/wp-content/uploads/2024/07/imageedit_48_8403701521.jpg
GEO:51.492042;-0.2569081
X-APPLE-STRUCTURED-LOCATION;VALUE=URI;X-ADDRESS=The George IV Chiswick 185 Chiswick High Rd London W4 2DR United Kingdom;X-APPLE-RADIUS=500;X-TITLE=185 Chiswick High Rd:geo:-0.2569081,51.492042
END:VEVENT
BEGIN:VEVENT
DTSTART;TZID=UTC:20240622T190000
DTEND;TZID=UTC:20240623T010000
DTSTAMP:20260426T003111
CREATED:20240621T080807Z
LAST-MODIFIED:20240621T080807Z
UID:10073144-1719082800-1719104400@www.qxmagazine.com
SUMMARY:The Big Pride Month Comedy Show
DESCRIPTION:Larry Dean! Yes\, the Larry Dean will be headlining West London Queer Project’s  Big Pride Month Comedy Show\, along with Marty Gleeson\, Blank Peng and your host for the event\, Michael May. Marty Gleeson won the New LGBTQ+ Comedian of the Year Competition recently. Comedy starts at 8 with a social from  9.30. Tickets are available here.
URL:https://www.qxmagazine.com/event/the-big-pride-month-comedy-show/
LOCATION:The George IV Chiswick\, 185 Chiswick High Rd\, London\, W4 2DR\, United Kingdom
CATEGORIES:After Midnight Late Opening,Bars,Events Queer London,LGBTQ+ Comedy,Pride In London
ATTACH;FMTTYPE=image/jpeg:https://www.qxmagazine.com/wp-content/uploads/2024/06/imageedit_3_7186262435.jpg
GEO:51.492042;-0.2569081
X-APPLE-STRUCTURED-LOCATION;VALUE=URI;X-ADDRESS=The George IV Chiswick 185 Chiswick High Rd London W4 2DR United Kingdom;X-APPLE-RADIUS=500;X-TITLE=185 Chiswick High Rd:geo:-0.2569081,51.492042
END:VEVENT
BEGIN:VEVENT
DTSTART;TZID=UTC:20240331T180000
DTEND;TZID=UTC:20240331T180000
DTSTAMP:20260426T003111
CREATED:20240319T111545Z
LAST-MODIFIED:20240319T111545Z
UID:10064859-1711908000-1711908000@www.qxmagazine.com
SUMMARY:Trans Day Of Visibility Comedy Show
DESCRIPTION:Get ready to laugh till you cry at our uproarious comedy show featuring a full trans lineup! Advertised ticket price is for Early Bird tickets so don’t delay and grab your ticket here.
URL:https://www.qxmagazine.com/event/trans-day-of-visibility-comedy-show/
LOCATION:The George IV Chiswick\, 185 Chiswick High Rd\, London\, W4 2DR\, United Kingdom
CATEGORIES:Bars,Events Queer London,Events Transgender London,LGBTQ+ Comedy
ATTACH;FMTTYPE=image/jpeg:https://www.qxmagazine.com/wp-content/uploads/2024/03/imageedit_23_8637353718-2.jpg
GEO:51.492042;-0.2569081
X-APPLE-STRUCTURED-LOCATION;VALUE=URI;X-ADDRESS=The George IV Chiswick 185 Chiswick High Rd London W4 2DR United Kingdom;X-APPLE-RADIUS=500;X-TITLE=185 Chiswick High Rd:geo:-0.2569081,51.492042
END:VEVENT
BEGIN:VEVENT
DTSTART;TZID=UTC:20231029T190000
DTEND;TZID=UTC:20231030T000000
DTSTAMP:20260426T003111
CREATED:20231003T094428Z
LAST-MODIFIED:20231003T094428Z
UID:10047434-1698606000-1698624000@www.qxmagazine.com
SUMMARY:WLQP Halloween Party
DESCRIPTION:West London Queer Project’s Halloween party with cabaret from drag stars Choriza May\, Brent Would and Dairy King. There is also 20% off all food and beverages. The ticket price listed is for early bird tickets.
URL:https://www.qxmagazine.com/event/wlqp-halloween-party/
LOCATION:The George IV Chiswick\, 185 Chiswick High Rd\, London\, W4 2DR\, United Kingdom
CATEGORIES:LGBTQ+ Cabaret & Drag,LGBTQ+ Dining,LGBTQ+ Halloween
ATTACH;FMTTYPE=image/jpeg:https://www.qxmagazine.com/wp-content/uploads/2023/10/imageedit_5_6733073307-2.jpg
GEO:51.492042;-0.2569081
X-APPLE-STRUCTURED-LOCATION;VALUE=URI;X-ADDRESS=The George IV Chiswick 185 Chiswick High Rd London W4 2DR United Kingdom;X-APPLE-RADIUS=500;X-TITLE=185 Chiswick High Rd:geo:-0.2569081,51.492042
END:VEVENT
BEGIN:VEVENT
DTSTART;TZID=UTC:20230528T190000
DTEND;TZID=UTC:20230529T030000
DTSTAMP:20260426T003111
CREATED:20230523T180759Z
LAST-MODIFIED:20231125T170445Z
UID:10043091-1685300400-1685329200@www.qxmagazine.com
SUMMARY:Pride Month Warm-Up Party with WLQP
DESCRIPTION:Get a free pint of IPA (1 pint per person) on arrival and 20% off all food and beverages for the night! Yet another bank holiday weekend and the dawn of Queer Pride Month. It’s an absolute excuse to throw yet another party! Early bird tickets are a quid\, so hurry and get your tickets here. More at the door. 
URL:https://www.qxmagazine.com/event/pride-month-warm-up-party-with-wlqp/
LOCATION:The George IV Chiswick\, 185 Chiswick High Rd\, London\, W4 2DR\, United Kingdom
CATEGORIES:After Midnight Late Opening,Featured Event
ATTACH;FMTTYPE=image/jpeg:https://www.qxmagazine.com/wp-content/uploads/2023/05/imageedit_23_7226879151-2.jpg
GEO:51.492042;-0.2569081
X-APPLE-STRUCTURED-LOCATION;VALUE=URI;X-ADDRESS=The George IV Chiswick 185 Chiswick High Rd London W4 2DR United Kingdom;X-APPLE-RADIUS=500;X-TITLE=185 Chiswick High Rd:geo:-0.2569081,51.492042
END:VEVENT
END:VCALENDAR