BEGIN:VCALENDAR
VERSION:2.0
PRODID:-//QX Magazine - ECPv6.15.20//NONSGML v1.0//EN
CALSCALE:GREGORIAN
METHOD:PUBLISH
X-ORIGINAL-URL:https://www.qxmagazine.com
X-WR-CALDESC:Events for QX Magazine
REFRESH-INTERVAL;VALUE=DURATION:PT1H
X-Robots-Tag:noindex
X-PUBLISHED-TTL:PT1H
BEGIN:VTIMEZONE
TZID:UTC
BEGIN:STANDARD
TZOFFSETFROM:+0000
TZOFFSETTO:+0000
TZNAME:UTC
DTSTART:20260101T000000
END:STANDARD
END:VTIMEZONE
BEGIN:VEVENT
DTSTART;TZID=UTC:20270226T170000
DTEND;TZID=UTC:20270227T040000
DTSTAMP:20260420T075431
CREATED:20251114T115335Z
LAST-MODIFIED:20251129T182957Z
UID:10107184-1803661200-1803700800@www.qxmagazine.com
SUMMARY:Friday Night Drag and Party
DESCRIPTION:Drag shows start at 9 followed by DJs in the cabaret bar and club bar. FREE B4 9.
URL:https://www.qxmagazine.com/event/friday-night-drag-and-party/2027-02-26/
LOCATION:Two Brewers\, 114 Clapham High Street\, London\, SW4 7UJ\, United Kingdom
CATEGORIES:After Midnight Late Opening,Bars,Club Nights,Discount or Free Entry,Events Gay Men London,Featured Event,LGBTQ+ Cabaret & Drag
ATTACH;FMTTYPE=image/jpeg:https://www.qxmagazine.com/wp-content/uploads/2025/11/imageedit_17_5980074546.jpg
GEO:51.4630838;-0.1348092
X-APPLE-STRUCTURED-LOCATION;VALUE=URI;X-ADDRESS=Two Brewers 114 Clapham High Street London SW4 7UJ United Kingdom;X-APPLE-RADIUS=500;X-TITLE=114 Clapham High Street:geo:-0.1348092,51.4630838
END:VEVENT
BEGIN:VEVENT
DTSTART;TZID=UTC:20270305T170000
DTEND;TZID=UTC:20270306T040000
DTSTAMP:20260420T075431
CREATED:20251114T115335Z
LAST-MODIFIED:20251129T182957Z
UID:10107185-1804266000-1804305600@www.qxmagazine.com
SUMMARY:Friday Night Drag and Party
DESCRIPTION:Drag shows start at 9 followed by DJs in the cabaret bar and club bar. FREE B4 9.
URL:https://www.qxmagazine.com/event/friday-night-drag-and-party/2027-03-05/
LOCATION:Two Brewers\, 114 Clapham High Street\, London\, SW4 7UJ\, United Kingdom
CATEGORIES:After Midnight Late Opening,Bars,Club Nights,Discount or Free Entry,Events Gay Men London,Featured Event,LGBTQ+ Cabaret & Drag
ATTACH;FMTTYPE=image/jpeg:https://www.qxmagazine.com/wp-content/uploads/2025/11/imageedit_17_5980074546.jpg
GEO:51.4630838;-0.1348092
X-APPLE-STRUCTURED-LOCATION;VALUE=URI;X-ADDRESS=Two Brewers 114 Clapham High Street London SW4 7UJ United Kingdom;X-APPLE-RADIUS=500;X-TITLE=114 Clapham High Street:geo:-0.1348092,51.4630838
END:VEVENT
BEGIN:VEVENT
DTSTART;TZID=UTC:20270312T170000
DTEND;TZID=UTC:20270313T040000
DTSTAMP:20260420T075431
CREATED:20251114T115335Z
LAST-MODIFIED:20251129T182957Z
UID:10107186-1804870800-1804910400@www.qxmagazine.com
SUMMARY:Friday Night Drag and Party
DESCRIPTION:Drag shows start at 9 followed by DJs in the cabaret bar and club bar. FREE B4 9.
URL:https://www.qxmagazine.com/event/friday-night-drag-and-party/2027-03-12/
LOCATION:Two Brewers\, 114 Clapham High Street\, London\, SW4 7UJ\, United Kingdom
CATEGORIES:After Midnight Late Opening,Bars,Club Nights,Discount or Free Entry,Events Gay Men London,Featured Event,LGBTQ+ Cabaret & Drag
ATTACH;FMTTYPE=image/jpeg:https://www.qxmagazine.com/wp-content/uploads/2025/11/imageedit_17_5980074546.jpg
GEO:51.4630838;-0.1348092
X-APPLE-STRUCTURED-LOCATION;VALUE=URI;X-ADDRESS=Two Brewers 114 Clapham High Street London SW4 7UJ United Kingdom;X-APPLE-RADIUS=500;X-TITLE=114 Clapham High Street:geo:-0.1348092,51.4630838
END:VEVENT
BEGIN:VEVENT
DTSTART;TZID=UTC:20270319T170000
DTEND;TZID=UTC:20270320T040000
DTSTAMP:20260420T075431
CREATED:20251114T115335Z
LAST-MODIFIED:20251129T182957Z
UID:10107187-1805475600-1805515200@www.qxmagazine.com
SUMMARY:Friday Night Drag and Party
DESCRIPTION:Drag shows start at 9 followed by DJs in the cabaret bar and club bar. FREE B4 9.
URL:https://www.qxmagazine.com/event/friday-night-drag-and-party/2027-03-19/
LOCATION:Two Brewers\, 114 Clapham High Street\, London\, SW4 7UJ\, United Kingdom
CATEGORIES:After Midnight Late Opening,Bars,Club Nights,Discount or Free Entry,Events Gay Men London,Featured Event,LGBTQ+ Cabaret & Drag
ATTACH;FMTTYPE=image/jpeg:https://www.qxmagazine.com/wp-content/uploads/2025/11/imageedit_17_5980074546.jpg
GEO:51.4630838;-0.1348092
X-APPLE-STRUCTURED-LOCATION;VALUE=URI;X-ADDRESS=Two Brewers 114 Clapham High Street London SW4 7UJ United Kingdom;X-APPLE-RADIUS=500;X-TITLE=114 Clapham High Street:geo:-0.1348092,51.4630838
END:VEVENT
BEGIN:VEVENT
DTSTART;TZID=UTC:20270326T170000
DTEND;TZID=UTC:20270327T040000
DTSTAMP:20260420T075431
CREATED:20251114T115335Z
LAST-MODIFIED:20251129T182957Z
UID:10107188-1806080400-1806120000@www.qxmagazine.com
SUMMARY:Friday Night Drag and Party
DESCRIPTION:Drag shows start at 9 followed by DJs in the cabaret bar and club bar. FREE B4 9.
URL:https://www.qxmagazine.com/event/friday-night-drag-and-party/2027-03-26/
LOCATION:Two Brewers\, 114 Clapham High Street\, London\, SW4 7UJ\, United Kingdom
CATEGORIES:After Midnight Late Opening,Bars,Club Nights,Discount or Free Entry,Events Gay Men London,Featured Event,LGBTQ+ Cabaret & Drag
ATTACH;FMTTYPE=image/jpeg:https://www.qxmagazine.com/wp-content/uploads/2025/11/imageedit_17_5980074546.jpg
GEO:51.4630838;-0.1348092
X-APPLE-STRUCTURED-LOCATION;VALUE=URI;X-ADDRESS=Two Brewers 114 Clapham High Street London SW4 7UJ United Kingdom;X-APPLE-RADIUS=500;X-TITLE=114 Clapham High Street:geo:-0.1348092,51.4630838
END:VEVENT
BEGIN:VEVENT
DTSTART;TZID=UTC:20270402T170000
DTEND;TZID=UTC:20270403T040000
DTSTAMP:20260420T075431
CREATED:20251114T115335Z
LAST-MODIFIED:20251129T182957Z
UID:10107189-1806685200-1806724800@www.qxmagazine.com
SUMMARY:Friday Night Drag and Party
DESCRIPTION:Drag shows start at 9 followed by DJs in the cabaret bar and club bar. FREE B4 9.
URL:https://www.qxmagazine.com/event/friday-night-drag-and-party/2027-04-02/
LOCATION:Two Brewers\, 114 Clapham High Street\, London\, SW4 7UJ\, United Kingdom
CATEGORIES:After Midnight Late Opening,Bars,Club Nights,Discount or Free Entry,Events Gay Men London,Featured Event,LGBTQ+ Cabaret & Drag
ATTACH;FMTTYPE=image/jpeg:https://www.qxmagazine.com/wp-content/uploads/2025/11/imageedit_17_5980074546.jpg
GEO:51.4630838;-0.1348092
X-APPLE-STRUCTURED-LOCATION;VALUE=URI;X-ADDRESS=Two Brewers 114 Clapham High Street London SW4 7UJ United Kingdom;X-APPLE-RADIUS=500;X-TITLE=114 Clapham High Street:geo:-0.1348092,51.4630838
END:VEVENT
END:VCALENDAR