BEGIN:VCALENDAR
VERSION:2.0
PRODID:-//QX Magazine - ECPv6.15.20//NONSGML v1.0//EN
CALSCALE:GREGORIAN
METHOD:PUBLISH
X-ORIGINAL-URL:https://www.qxmagazine.com
X-WR-CALDESC:Events for QX Magazine
REFRESH-INTERVAL;VALUE=DURATION:PT1H
X-Robots-Tag:noindex
X-PUBLISHED-TTL:PT1H
BEGIN:VTIMEZONE
TZID:UTC
BEGIN:STANDARD
TZOFFSETFROM:+0000
TZOFFSETTO:+0000
TZNAME:UTC
DTSTART:20250101T000000
END:STANDARD
END:VTIMEZONE
BEGIN:VEVENT
DTSTART;TZID=UTC:20260509T133000
DTEND;TZID=UTC:20260509T163000
DTSTAMP:20260426T031311
CREATED:20260422T105440Z
LAST-MODIFIED:20260422T105550Z
UID:10119215-1778333400-1778344200@www.qxmagazine.com
SUMMARY:Pleasure Medicine: A Conscious Dance for Gay\, Bi & Queer Men
DESCRIPTION:Pleasure Medicine starts with connection and embodiment practices with simple clothed sensual touch in pairs. Then an open floor 90-minute sober dance with live DJ covering classical music\, tribal\, techno\, disco and soul. \nLet go\, express yourself\, let the masks drop away and surrender to your full body pleasure in a night of beautiful energy\, deep pleasure\, connection and freedom. \nWhether you’re looking for a community and a brotherhood\, new friends\, collaborations or love\, dating and sensual connections\, Pleasure Medicine is the place to connect with like minded guys in a softer\, kinder more conscious space.
URL:https://www.qxmagazine.com/event/pleasure-medicine-a-conscious-dance-for-gay-bi-queer-men-2-2-3/2026-05-09/
LOCATION:Waking Dreams\, 6b Ada Street\, London\, E8 4QU\, United Kingdom
CATEGORIES:Events Bisexual London,Events Gay Men London,Events Trans Men,Featured Event,LGBTQ+ Health,LGBTQ+ Sober
ATTACH;FMTTYPE=image/jpeg:https://www.qxmagazine.com/wp-content/uploads/2025/03/imageedit_6_4775380755.jpg
END:VEVENT
BEGIN:VEVENT
DTSTART;TZID=UTC:20260523T133000
DTEND;TZID=UTC:20260523T163000
DTSTAMP:20260426T031311
CREATED:20260422T105440Z
LAST-MODIFIED:20260422T105550Z
UID:10119216-1779543000-1779553800@www.qxmagazine.com
SUMMARY:Pleasure Medicine: A Conscious Dance for Gay\, Bi & Queer Men
DESCRIPTION:Pleasure Medicine starts with connection and embodiment practices with simple clothed sensual touch in pairs. Then an open floor 90-minute sober dance with live DJ covering classical music\, tribal\, techno\, disco and soul. \nLet go\, express yourself\, let the masks drop away and surrender to your full body pleasure in a night of beautiful energy\, deep pleasure\, connection and freedom. \nWhether you’re looking for a community and a brotherhood\, new friends\, collaborations or love\, dating and sensual connections\, Pleasure Medicine is the place to connect with like minded guys in a softer\, kinder more conscious space.
URL:https://www.qxmagazine.com/event/pleasure-medicine-a-conscious-dance-for-gay-bi-queer-men-2-2-3/2026-05-23/
LOCATION:Waking Dreams\, 6b Ada Street\, London\, E8 4QU\, United Kingdom
CATEGORIES:Events Bisexual London,Events Gay Men London,Events Trans Men,Featured Event,LGBTQ+ Health,LGBTQ+ Sober
ATTACH;FMTTYPE=image/jpeg:https://www.qxmagazine.com/wp-content/uploads/2025/03/imageedit_6_4775380755.jpg
END:VEVENT
END:VCALENDAR