BEGIN:VCALENDAR
VERSION:2.0
PRODID:-//QX Magazine - ECPv6.15.20//NONSGML v1.0//EN
CALSCALE:GREGORIAN
METHOD:PUBLISH
X-ORIGINAL-URL:https://www.qxmagazine.com
X-WR-CALDESC:Events for QX Magazine
REFRESH-INTERVAL;VALUE=DURATION:PT1H
X-Robots-Tag:noindex
X-PUBLISHED-TTL:PT1H
BEGIN:VTIMEZONE
TZID:UTC
BEGIN:STANDARD
TZOFFSETFROM:+0000
TZOFFSETTO:+0000
TZNAME:UTC
DTSTART:20220101T000000
END:STANDARD
END:VTIMEZONE
BEGIN:VEVENT
DTSTART;TZID=UTC:20230623T220000
DTEND;TZID=UTC:20230623T220000
DTSTAMP:20260419T164353
CREATED:20230622T165320Z
LAST-MODIFIED:20230622T165402Z
UID:10044690-1687557600-1687557600@www.qxmagazine.com
SUMMARY:The Fourth Choir Love\, Loss and the Whole Damn Thing
DESCRIPTION:London LGBTQIA+ chamber choir\, The Fourth Choir\, present a late-night concert featuring music written exclusively by queer composers. Works from Michael Bussewitz-Quarm\, Kerry Andrew\, Benjamin Britten\, Meredith Monk\, Peter Maxwell Davis\, Leonard Bernstein\, William Linthicum-Blackhorse\, and more. Fourth Choir Photo by Kathleen Holman (image supplied).
URL:https://www.qxmagazine.com/event/the-fourth-choir-love-loss-and-the-whole-damn-thing/
LOCATION:Wigmore Hall\, 36 Wigmore Street\, London\, W1U 2BP\, United Kingdom
ATTACH;FMTTYPE=image/jpeg:https://www.qxmagazine.com/wp-content/uploads/2023/06/imageedit_55_2910219952-2.jpg
GEO:51.5166232;-0.1482304
X-APPLE-STRUCTURED-LOCATION;VALUE=URI;X-ADDRESS=Wigmore Hall 36 Wigmore Street London W1U 2BP United Kingdom;X-APPLE-RADIUS=500;X-TITLE=36 Wigmore Street:geo:-0.1482304,51.5166232
END:VEVENT
END:VCALENDAR